BEGIN:VCALENDAR
VERSION:2.0
PRODID:-//Brooklyn College - ECPv6.15.12.2//NONSGML v1.0//EN
CALSCALE:GREGORIAN
METHOD:PUBLISH
X-ORIGINAL-URL:https://www.brooklyn.edu
X-WR-CALDESC:Events for Brooklyn College
REFRESH-INTERVAL;VALUE=DURATION:PT1H
X-Robots-Tag:noindex
X-PUBLISHED-TTL:PT1H
BEGIN:VTIMEZONE
TZID:America/New_York
BEGIN:DAYLIGHT
TZOFFSETFROM:-0500
TZOFFSETTO:-0400
TZNAME:EDT
DTSTART:20240310T070000
END:DAYLIGHT
BEGIN:STANDARD
TZOFFSETFROM:-0400
TZOFFSETTO:-0500
TZNAME:EST
DTSTART:20241103T060000
END:STANDARD
BEGIN:DAYLIGHT
TZOFFSETFROM:-0500
TZOFFSETTO:-0400
TZNAME:EDT
DTSTART:20250309T070000
END:DAYLIGHT
BEGIN:STANDARD
TZOFFSETFROM:-0400
TZOFFSETTO:-0500
TZNAME:EST
DTSTART:20251102T060000
END:STANDARD
BEGIN:DAYLIGHT
TZOFFSETFROM:-0500
TZOFFSETTO:-0400
TZNAME:EDT
DTSTART:20260308T070000
END:DAYLIGHT
BEGIN:STANDARD
TZOFFSETFROM:-0400
TZOFFSETTO:-0500
TZNAME:EST
DTSTART:20261101T060000
END:STANDARD
BEGIN:DAYLIGHT
TZOFFSETFROM:-0500
TZOFFSETTO:-0400
TZNAME:EDT
DTSTART:20270314T070000
END:DAYLIGHT
BEGIN:STANDARD
TZOFFSETFROM:-0400
TZOFFSETTO:-0500
TZNAME:EST
DTSTART:20271107T060000
END:STANDARD
END:VTIMEZONE
BEGIN:VEVENT
DTSTART;TZID=America/New_York:20260203T100000
DTEND;TZID=America/New_York:20260203T180000
DTSTAMP:20260421T123737
CREATED:20260129T201115Z
LAST-MODIFIED:20260129T202543Z
UID:10014139-1770112800-1770141600@www.brooklyn.edu
SUMMARY:Free Tax Preparation Services
DESCRIPTION:Through the Volunteer Income Tax Assistance (VITA) program\, free in-person tax preparation services will be available every Tuesday through April 14. More information is available here.
URL:https://www.brooklyn.edu/event/free-tax-preparation-services/2026-02-03/
LOCATION:Library\, Room 384\, MAC Multimedia Classroom
CATEGORIES:Accounting,Volunteer Income Tax Assistance Center
GEO:40.63109;-73.94981
X-APPLE-STRUCTURED-LOCATION;VALUE=URI;X-ADDRESS=Library Room 384 MAC Multimedia Classroom;X-APPLE-RADIUS=500;X-TITLE=MAC Multimedia Classroom:geo:-73.94981,40.63109
END:VEVENT
BEGIN:VEVENT
DTSTART;TZID=America/New_York:20251103T180000
DTEND;TZID=America/New_York:20251103T190000
DTSTAMP:20260421T123737
CREATED:20250721T173450Z
LAST-MODIFIED:20250825T150918Z
UID:10012900-1762192800-1762196400@www.brooklyn.edu
SUMMARY:Graduate Open House – Koppelman School of Business\, Accounting\, M.S.
DESCRIPTION:Are you interested in a career in business? Brooklyn College has opportunities for your success in a global business environment. Explore the options our Association to Advance Collegiate Schools of Business (AACSB) accredited Murray Koppelman School of Business has to offer. \nLearn more about the Accounting\, M.S. and Accounting\, M.S. (Online) programs. \nMeet with our faculty\, staff\, and current students for an insider’s view of the College. Hear about the internship opportunities and career guidance offered. Learn about our admission process and discover financial aid and scholarship opportunities. \nREGISTER Now
URL:https://www.brooklyn.edu/event/graduate-open-house-2025-koppelman-school-of-business-accounting-m-s/
LOCATION:Online
CATEGORIES:Accounting,Admissions,Admissions, Graduate,Graduate,Murray Koppelman School of Business
ORGANIZER;CN="Admissions%2C Graduate":MAILTO:grads@brooklyn.cuny.edu
END:VEVENT
BEGIN:VEVENT
DTSTART;TZID=America/New_York:20250917T173000
DTEND;TZID=America/New_York:20250917T190000
DTSTAMP:20260421T123737
CREATED:20250731T172603Z
LAST-MODIFIED:20250731T172603Z
UID:10013009-1758130200-1758135600@www.brooklyn.edu
SUMMARY:Interview Prep for Accounting/Finance
DESCRIPTION:Hop on Zoom for small-group interview prep and get the opportunity to practice with alumni and/or recruiters in accounting and finance to be ready for recruiting season! \nRegister Today
URL:https://www.brooklyn.edu/event/interview-prep-for-accounting-finance/
LOCATION:Online
CATEGORIES:Accounting,Finance,Magner Career Center
ORGANIZER;CN="Magner Career Center":MAILTO:careernews@brooklyn.cuny.edu
END:VEVENT
BEGIN:VEVENT
DTSTART;TZID=America/New_York:20250910T173000
DTEND;TZID=America/New_York:20250910T190000
DTSTAMP:20260421T123737
CREATED:20250730T183303Z
LAST-MODIFIED:20250730T205045Z
UID:10013008-1757525400-1757530800@www.brooklyn.edu
SUMMARY:Résumé Review for Accounting/Finance
DESCRIPTION:Hop on Zoom for a résumé review session in a small group with alumni and/or recruiters in accounting and finance to be ready for recruiting season. \nRegister Today
URL:https://www.brooklyn.edu/event/resume-review-for-accounting-finance/
LOCATION:Online
CATEGORIES:Accounting,Finance,Magner Career Center
ORGANIZER;CN="Magner Career Center":MAILTO:careernews@brooklyn.cuny.edu
END:VEVENT
BEGIN:VEVENT
DTSTART;TZID=America/New_York:20250429T123000
DTEND;TZID=America/New_York:20250429T140000
DTSTAMP:20260421T123737
CREATED:20250304T191557Z
LAST-MODIFIED:20250304T191557Z
UID:10012739-1745929800-1745935200@www.brooklyn.edu
SUMMARY:Faculty Research Seminar: Koppelman School of Business
DESCRIPTION:The faculty from the departments of Accounting\, Economics\, Finance\, and Management\, Marketing\, and Entrepreneurship will showcase their expertise and pioneering research. \nThe Koppelman School of Business Faculty Research Seminars are designed to cultivate intellectual exchange among the institution’s faculty\, scholars from business programs in New York City\, and visiting academics\, with an emphasis on exploring areas of mutual scholarly and intellectual inquiry. These seminars offer a venue for faculty to engage in sustained\, rigorous intellectual collaboration and facilitate the exploration and advancement of novel research trajectories and pedagogical methodologies through a series of regularly scheduled meetings. The seminars are intended to provide robust support for faculty in the furtherance of their research agendas\, while simultaneously fostering collaborative synergy and building a scholarly community around these endeavors. Key objectives include augmenting faculty research output and scholarly contributions\, enhancing publication rates through the presentation of works-in-progress\, examining complex issues that transcend disciplinary boundaries\, promoting collaborative scholarship\, and inviting eminent visiting scholars to disseminate their insights. The Faculty Research Seminar is an initiative sponsored by the Office of the Dean at the Koppelman School of Business. \nEmail Myles Bassell if you have any questions.
URL:https://www.brooklyn.edu/event/faculty-research-seminar-koppelman-school-of-business/2025-04-29/
CATEGORIES:Accounting,Economics,Faculty,Finance,Management, Marketing and Entrepreneurship,Murray Koppelman School of Business
END:VEVENT
BEGIN:VEVENT
DTSTART;TZID=America/New_York:20250424T123000
DTEND;TZID=America/New_York:20250424T140000
DTSTAMP:20260421T123737
CREATED:20250304T191557Z
LAST-MODIFIED:20250304T191557Z
UID:10012738-1745497800-1745503200@www.brooklyn.edu
SUMMARY:Faculty Research Seminar: Koppelman School of Business
DESCRIPTION:The faculty from the departments of Accounting\, Economics\, Finance\, and Management\, Marketing\, and Entrepreneurship will showcase their expertise and pioneering research. \nThe Koppelman School of Business Faculty Research Seminars are designed to cultivate intellectual exchange among the institution’s faculty\, scholars from business programs in New York City\, and visiting academics\, with an emphasis on exploring areas of mutual scholarly and intellectual inquiry. These seminars offer a venue for faculty to engage in sustained\, rigorous intellectual collaboration and facilitate the exploration and advancement of novel research trajectories and pedagogical methodologies through a series of regularly scheduled meetings. The seminars are intended to provide robust support for faculty in the furtherance of their research agendas\, while simultaneously fostering collaborative synergy and building a scholarly community around these endeavors. Key objectives include augmenting faculty research output and scholarly contributions\, enhancing publication rates through the presentation of works-in-progress\, examining complex issues that transcend disciplinary boundaries\, promoting collaborative scholarship\, and inviting eminent visiting scholars to disseminate their insights. The Faculty Research Seminar is an initiative sponsored by the Office of the Dean at the Koppelman School of Business. \nEmail Myles Bassell if you have any questions.
URL:https://www.brooklyn.edu/event/faculty-research-seminar-koppelman-school-of-business/2025-04-24/
CATEGORIES:Accounting,Economics,Faculty,Finance,Management, Marketing and Entrepreneurship,Murray Koppelman School of Business
END:VEVENT
BEGIN:VEVENT
DTSTART;TZID=America/New_York:20250403T123000
DTEND;TZID=America/New_York:20250403T140000
DTSTAMP:20260421T123737
CREATED:20250304T191557Z
LAST-MODIFIED:20250304T191557Z
UID:10012737-1743683400-1743688800@www.brooklyn.edu
SUMMARY:Faculty Research Seminar: Koppelman School of Business
DESCRIPTION:The faculty from the departments of Accounting\, Economics\, Finance\, and Management\, Marketing\, and Entrepreneurship will showcase their expertise and pioneering research. \nThe Koppelman School of Business Faculty Research Seminars are designed to cultivate intellectual exchange among the institution’s faculty\, scholars from business programs in New York City\, and visiting academics\, with an emphasis on exploring areas of mutual scholarly and intellectual inquiry. These seminars offer a venue for faculty to engage in sustained\, rigorous intellectual collaboration and facilitate the exploration and advancement of novel research trajectories and pedagogical methodologies through a series of regularly scheduled meetings. The seminars are intended to provide robust support for faculty in the furtherance of their research agendas\, while simultaneously fostering collaborative synergy and building a scholarly community around these endeavors. Key objectives include augmenting faculty research output and scholarly contributions\, enhancing publication rates through the presentation of works-in-progress\, examining complex issues that transcend disciplinary boundaries\, promoting collaborative scholarship\, and inviting eminent visiting scholars to disseminate their insights. The Faculty Research Seminar is an initiative sponsored by the Office of the Dean at the Koppelman School of Business. \nEmail Myles Bassell if you have any questions.
URL:https://www.brooklyn.edu/event/faculty-research-seminar-koppelman-school-of-business/2025-04-03/
CATEGORIES:Accounting,Economics,Faculty,Finance,Management, Marketing and Entrepreneurship,Murray Koppelman School of Business
END:VEVENT
BEGIN:VEVENT
DTSTART;TZID=America/New_York:20250401T123000
DTEND;TZID=America/New_York:20250401T140000
DTSTAMP:20260421T123737
CREATED:20250304T191557Z
LAST-MODIFIED:20250304T191557Z
UID:10012736-1743510600-1743516000@www.brooklyn.edu
SUMMARY:Faculty Research Seminar: Koppelman School of Business
DESCRIPTION:The faculty from the departments of Accounting\, Economics\, Finance\, and Management\, Marketing\, and Entrepreneurship will showcase their expertise and pioneering research. \nThe Koppelman School of Business Faculty Research Seminars are designed to cultivate intellectual exchange among the institution’s faculty\, scholars from business programs in New York City\, and visiting academics\, with an emphasis on exploring areas of mutual scholarly and intellectual inquiry. These seminars offer a venue for faculty to engage in sustained\, rigorous intellectual collaboration and facilitate the exploration and advancement of novel research trajectories and pedagogical methodologies through a series of regularly scheduled meetings. The seminars are intended to provide robust support for faculty in the furtherance of their research agendas\, while simultaneously fostering collaborative synergy and building a scholarly community around these endeavors. Key objectives include augmenting faculty research output and scholarly contributions\, enhancing publication rates through the presentation of works-in-progress\, examining complex issues that transcend disciplinary boundaries\, promoting collaborative scholarship\, and inviting eminent visiting scholars to disseminate their insights. The Faculty Research Seminar is an initiative sponsored by the Office of the Dean at the Koppelman School of Business. \nEmail Myles Bassell if you have any questions.
URL:https://www.brooklyn.edu/event/faculty-research-seminar-koppelman-school-of-business/2025-04-01/
CATEGORIES:Accounting,Economics,Faculty,Finance,Management, Marketing and Entrepreneurship,Murray Koppelman School of Business
END:VEVENT
BEGIN:VEVENT
DTSTART;TZID=America/New_York:20250327T123000
DTEND;TZID=America/New_York:20250327T140000
DTSTAMP:20260421T123737
CREATED:20250304T191557Z
LAST-MODIFIED:20250304T191557Z
UID:10012735-1743078600-1743084000@www.brooklyn.edu
SUMMARY:Faculty Research Seminar: Koppelman School of Business
DESCRIPTION:The faculty from the departments of Accounting\, Economics\, Finance\, and Management\, Marketing\, and Entrepreneurship will showcase their expertise and pioneering research. \nThe Koppelman School of Business Faculty Research Seminars are designed to cultivate intellectual exchange among the institution’s faculty\, scholars from business programs in New York City\, and visiting academics\, with an emphasis on exploring areas of mutual scholarly and intellectual inquiry. These seminars offer a venue for faculty to engage in sustained\, rigorous intellectual collaboration and facilitate the exploration and advancement of novel research trajectories and pedagogical methodologies through a series of regularly scheduled meetings. The seminars are intended to provide robust support for faculty in the furtherance of their research agendas\, while simultaneously fostering collaborative synergy and building a scholarly community around these endeavors. Key objectives include augmenting faculty research output and scholarly contributions\, enhancing publication rates through the presentation of works-in-progress\, examining complex issues that transcend disciplinary boundaries\, promoting collaborative scholarship\, and inviting eminent visiting scholars to disseminate their insights. The Faculty Research Seminar is an initiative sponsored by the Office of the Dean at the Koppelman School of Business. \nEmail Myles Bassell if you have any questions.
URL:https://www.brooklyn.edu/event/faculty-research-seminar-koppelman-school-of-business/2025-03-27/
CATEGORIES:Accounting,Economics,Faculty,Finance,Management, Marketing and Entrepreneurship,Murray Koppelman School of Business
END:VEVENT
BEGIN:VEVENT
DTSTART;TZID=America/New_York:20250325T123000
DTEND;TZID=America/New_York:20250325T140000
DTSTAMP:20260421T123737
CREATED:20250304T191557Z
LAST-MODIFIED:20250304T191557Z
UID:10012734-1742905800-1742911200@www.brooklyn.edu
SUMMARY:Faculty Research Seminar: Koppelman School of Business
DESCRIPTION:The faculty from the departments of Accounting\, Economics\, Finance\, and Management\, Marketing\, and Entrepreneurship will showcase their expertise and pioneering research. \nThe Koppelman School of Business Faculty Research Seminars are designed to cultivate intellectual exchange among the institution’s faculty\, scholars from business programs in New York City\, and visiting academics\, with an emphasis on exploring areas of mutual scholarly and intellectual inquiry. These seminars offer a venue for faculty to engage in sustained\, rigorous intellectual collaboration and facilitate the exploration and advancement of novel research trajectories and pedagogical methodologies through a series of regularly scheduled meetings. The seminars are intended to provide robust support for faculty in the furtherance of their research agendas\, while simultaneously fostering collaborative synergy and building a scholarly community around these endeavors. Key objectives include augmenting faculty research output and scholarly contributions\, enhancing publication rates through the presentation of works-in-progress\, examining complex issues that transcend disciplinary boundaries\, promoting collaborative scholarship\, and inviting eminent visiting scholars to disseminate their insights. The Faculty Research Seminar is an initiative sponsored by the Office of the Dean at the Koppelman School of Business. \nEmail Myles Bassell if you have any questions.
URL:https://www.brooklyn.edu/event/faculty-research-seminar-koppelman-school-of-business/2025-03-25/
CATEGORIES:Accounting,Economics,Faculty,Finance,Management, Marketing and Entrepreneurship,Murray Koppelman School of Business
END:VEVENT
BEGIN:VEVENT
DTSTART;TZID=America/New_York:20250320T123000
DTEND;TZID=America/New_York:20250320T140000
DTSTAMP:20260421T123737
CREATED:20250304T191557Z
LAST-MODIFIED:20250304T191557Z
UID:10012733-1742473800-1742479200@www.brooklyn.edu
SUMMARY:Faculty Research Seminar: Koppelman School of Business
DESCRIPTION:The faculty from the departments of Accounting\, Economics\, Finance\, and Management\, Marketing\, and Entrepreneurship will showcase their expertise and pioneering research. \nThe Koppelman School of Business Faculty Research Seminars are designed to cultivate intellectual exchange among the institution’s faculty\, scholars from business programs in New York City\, and visiting academics\, with an emphasis on exploring areas of mutual scholarly and intellectual inquiry. These seminars offer a venue for faculty to engage in sustained\, rigorous intellectual collaboration and facilitate the exploration and advancement of novel research trajectories and pedagogical methodologies through a series of regularly scheduled meetings. The seminars are intended to provide robust support for faculty in the furtherance of their research agendas\, while simultaneously fostering collaborative synergy and building a scholarly community around these endeavors. Key objectives include augmenting faculty research output and scholarly contributions\, enhancing publication rates through the presentation of works-in-progress\, examining complex issues that transcend disciplinary boundaries\, promoting collaborative scholarship\, and inviting eminent visiting scholars to disseminate their insights. The Faculty Research Seminar is an initiative sponsored by the Office of the Dean at the Koppelman School of Business. \nEmail Myles Bassell if you have any questions.
URL:https://www.brooklyn.edu/event/faculty-research-seminar-koppelman-school-of-business/2025-03-20/
CATEGORIES:Accounting,Economics,Faculty,Finance,Management, Marketing and Entrepreneurship,Murray Koppelman School of Business
END:VEVENT
BEGIN:VEVENT
DTSTART;TZID=America/New_York:20250318T123000
DTEND;TZID=America/New_York:20250318T140000
DTSTAMP:20260421T123737
CREATED:20250304T191557Z
LAST-MODIFIED:20250304T191557Z
UID:10012732-1742301000-1742306400@www.brooklyn.edu
SUMMARY:Faculty Research Seminar: Koppelman School of Business
DESCRIPTION:The faculty from the departments of Accounting\, Economics\, Finance\, and Management\, Marketing\, and Entrepreneurship will showcase their expertise and pioneering research. \nThe Koppelman School of Business Faculty Research Seminars are designed to cultivate intellectual exchange among the institution’s faculty\, scholars from business programs in New York City\, and visiting academics\, with an emphasis on exploring areas of mutual scholarly and intellectual inquiry. These seminars offer a venue for faculty to engage in sustained\, rigorous intellectual collaboration and facilitate the exploration and advancement of novel research trajectories and pedagogical methodologies through a series of regularly scheduled meetings. The seminars are intended to provide robust support for faculty in the furtherance of their research agendas\, while simultaneously fostering collaborative synergy and building a scholarly community around these endeavors. Key objectives include augmenting faculty research output and scholarly contributions\, enhancing publication rates through the presentation of works-in-progress\, examining complex issues that transcend disciplinary boundaries\, promoting collaborative scholarship\, and inviting eminent visiting scholars to disseminate their insights. The Faculty Research Seminar is an initiative sponsored by the Office of the Dean at the Koppelman School of Business. \nEmail Myles Bassell if you have any questions.
URL:https://www.brooklyn.edu/event/faculty-research-seminar-koppelman-school-of-business/2025-03-18/
CATEGORIES:Accounting,Economics,Faculty,Finance,Management, Marketing and Entrepreneurship,Murray Koppelman School of Business
END:VEVENT
END:VCALENDAR