BEGIN:VCALENDAR
VERSION:2.0
PRODID:-//Brooklyn College - ECPv6.15.12.2//NONSGML v1.0//EN
CALSCALE:GREGORIAN
METHOD:PUBLISH
X-WR-CALNAME:Brooklyn College
X-ORIGINAL-URL:https://www.brooklyn.edu
X-WR-CALDESC:Events for Brooklyn College
REFRESH-INTERVAL;VALUE=DURATION:PT1H
X-Robots-Tag:noindex
X-PUBLISHED-TTL:PT1H
BEGIN:VTIMEZONE
TZID:America/New_York
BEGIN:DAYLIGHT
TZOFFSETFROM:-0500
TZOFFSETTO:-0400
TZNAME:EDT
DTSTART:20240310T070000
END:DAYLIGHT
BEGIN:STANDARD
TZOFFSETFROM:-0400
TZOFFSETTO:-0500
TZNAME:EST
DTSTART:20241103T060000
END:STANDARD
BEGIN:DAYLIGHT
TZOFFSETFROM:-0500
TZOFFSETTO:-0400
TZNAME:EDT
DTSTART:20250309T070000
END:DAYLIGHT
BEGIN:STANDARD
TZOFFSETFROM:-0400
TZOFFSETTO:-0500
TZNAME:EST
DTSTART:20251102T060000
END:STANDARD
BEGIN:DAYLIGHT
TZOFFSETFROM:-0500
TZOFFSETTO:-0400
TZNAME:EDT
DTSTART:20260308T070000
END:DAYLIGHT
BEGIN:STANDARD
TZOFFSETFROM:-0400
TZOFFSETTO:-0500
TZNAME:EST
DTSTART:20261101T060000
END:STANDARD
BEGIN:DAYLIGHT
TZOFFSETFROM:-0500
TZOFFSETTO:-0400
TZNAME:EDT
DTSTART:20270314T070000
END:DAYLIGHT
BEGIN:STANDARD
TZOFFSETFROM:-0400
TZOFFSETTO:-0500
TZNAME:EST
DTSTART:20271107T060000
END:STANDARD
END:VTIMEZONE
BEGIN:VEVENT
DTSTART;TZID=America/New_York:20260225T100000
DTEND;TZID=America/New_York:20260225T110000
DTSTAMP:20260421T113908
CREATED:20260112T181056Z
LAST-MODIFIED:20260112T181056Z
UID:10014102-1772013600-1772017200@www.brooklyn.edu
SUMMARY:Incoming F-1 and J-1 Students Information Session
DESCRIPTION:Join the Office of International Student and Scholar Services as we review the next steps for incoming international students.\nREGISTER NOW
URL:https://www.brooklyn.edu/event/incoming-f-1-and-j-1-students-information-session/
LOCATION:Online
CATEGORIES:Admissions,Admissions, Graduate,Admissions, International,Admissions, Undergraduate,International Student and Scholar Services
ORGANIZER;CN="International Student and Scholar Services":MAILTO:international@brooklyn.cuny.edu
END:VEVENT
BEGIN:VEVENT
DTSTART;TZID=America/New_York:20260218T180000
DTEND;TZID=America/New_York:20260218T190000
DTSTAMP:20260421T113908
CREATED:20260108T193444Z
LAST-MODIFIED:20260108T193444Z
UID:10014090-1771437600-1771441200@www.brooklyn.edu
SUMMARY:Incoming Graduate Student Information Session
DESCRIPTION:This session is only for admitted graduate students. \nMeet with a Graduate Admissions Counselor virtually to discuss the acceptance process and to answer any questions you may have. \nRegister Now \n 
URL:https://www.brooklyn.edu/event/incoming-graduate-student-information-session/
LOCATION:Online
CATEGORIES:Admissions,Admissions, Graduate,Admissions, International
ORGANIZER;CN="Admissions%2C Graduate":MAILTO:grads@brooklyn.cuny.edu
END:VEVENT
BEGIN:VEVENT
DTSTART;TZID=America/New_York:20260204T180000
DTEND;TZID=America/New_York:20260204T190000
DTSTAMP:20260421T113908
CREATED:20251201T174724Z
LAST-MODIFIED:20251201T174724Z
UID:10014051-1770228000-1770231600@www.brooklyn.edu
SUMMARY:Graduate Admissions Information Session
DESCRIPTION:Meet virtually with a representative from Graduate Admissions to learn about Brooklyn College’s graduate programs and discuss the process of applying to graduate school. \nRegister Now \n 
URL:https://www.brooklyn.edu/event/graduate-admissions-information-session-feb-4/
LOCATION:Online
CATEGORIES:Admissions,Admissions, Graduate,Admissions, International
ORGANIZER;CN="Admissions%2C Graduate":MAILTO:grads@brooklyn.cuny.edu
END:VEVENT
BEGIN:VEVENT
DTSTART;TZID=America/New_York:20260113T180000
DTEND;TZID=America/New_York:20260113T190000
DTSTAMP:20260421T113908
CREATED:20250730T162727Z
LAST-MODIFIED:20251201T173926Z
UID:10013001-1768327200-1768330800@www.brooklyn.edu
SUMMARY:Incoming Graduate Student Information Session
DESCRIPTION:This session is only for admitted graduate students. \nMeet with a Graduate Admissions Counselor virtually to discuss the acceptance process and to answer any questions you may have. \nRegister Now \n 
URL:https://www.brooklyn.edu/event/incoming-graduate-student-information-session-january/
LOCATION:Online
CATEGORIES:Admissions,Admissions, Graduate,Admissions, International
ORGANIZER;CN="Admissions%2C Graduate":MAILTO:grads@brooklyn.cuny.edu
END:VEVENT
BEGIN:VEVENT
DTSTART;TZID=America/New_York:20260108T180000
DTEND;TZID=America/New_York:20260108T190000
DTSTAMP:20260421T113908
CREATED:20251009T191346Z
LAST-MODIFIED:20251009T191346Z
UID:10013007-1767895200-1767898800@www.brooklyn.edu
SUMMARY:Graduate Admissions Information Session
DESCRIPTION:Meet virtually with a representative from Graduate Admissions to learn about Brooklyn College’s graduate programs and discuss the process of applying to graduate school. \nRegister Now \n 
URL:https://www.brooklyn.edu/event/graduate-admissions-information-session-24-5/
LOCATION:Online
CATEGORIES:Admissions,Admissions, Graduate,Admissions, International
ORGANIZER;CN="Admissions%2C Graduate":MAILTO:grads@brooklyn.cuny.edu
END:VEVENT
BEGIN:VEVENT
DTSTART;TZID=America/New_York:20251211T180000
DTEND;TZID=America/New_York:20251211T190000
DTSTAMP:20260421T113908
CREATED:20251009T191124Z
LAST-MODIFIED:20251009T191125Z
UID:10013006-1765476000-1765479600@www.brooklyn.edu
SUMMARY:Graduate Admissions Information Session
DESCRIPTION:Meet virtually with a representative from Graduate Admissions to learn about Brooklyn College’s graduate programs and discuss the process of applying to graduate school. \nRegister Now \n 
URL:https://www.brooklyn.edu/event/graduate-admissions-information-session-24-4/
LOCATION:Online
CATEGORIES:Admissions,Admissions, Graduate,Admissions, International
ORGANIZER;CN="Admissions%2C Graduate":MAILTO:grads@brooklyn.cuny.edu
END:VEVENT
BEGIN:VEVENT
DTSTART;TZID=America/New_York:20251210T100000
DTEND;TZID=America/New_York:20251210T104500
DTSTAMP:20260421T113908
CREATED:20250602T135152Z
LAST-MODIFIED:20251008T203436Z
UID:10012921-1765360800-1765363500@www.brooklyn.edu
SUMMARY:Prospective F-1/J-1 Student Information Session
DESCRIPTION:Are you a prospective undergraduate or graduate F-1 or J-1 student planning to apply to Brooklyn College? \nThe Office of International Student and Scholar Services is hosting an online video conference to answer your questions and concerns about attending Brooklyn College as an F-1 student.  \nRegister Now
URL:https://www.brooklyn.edu/event/prospective-f-1-j-1-student-information-session-9/
LOCATION:Online
CATEGORIES:Admissions,Admissions, Graduate,Admissions, International,Admissions, Undergraduate,International Student and Scholar Services
ORGANIZER;CN="International Student and Scholar Services":MAILTO:international@brooklyn.cuny.edu
END:VEVENT
BEGIN:VEVENT
DTSTART;TZID=America/New_York:20251125T123000
DTEND;TZID=America/New_York:20251125T133000
DTSTAMP:20260421T113908
CREATED:20250602T140948Z
LAST-MODIFIED:20250916T191528Z
UID:10012930-1764073800-1764077400@www.brooklyn.edu
SUMMARY:International Student Coffee Hour
DESCRIPTION:Office of International Student and Scholar Services invites all students for coffee and conversation. We look forward to seeing you there! \nRSVP
URL:https://www.brooklyn.edu/event/international-student-coffee-hour-8/
LOCATION:Boylan Hall\, Room 2150
CATEGORIES:Admissions, International,International Student and Scholar Services
ORGANIZER;CN="International Student and Scholar Services":MAILTO:international@brooklyn.cuny.edu
GEO:40.63186;-73.95142
END:VEVENT
BEGIN:VEVENT
DTSTART;TZID=America/New_York:20251119T100000
DTEND;TZID=America/New_York:20251119T104500
DTSTAMP:20260421T113908
CREATED:20250602T135121Z
LAST-MODIFIED:20251008T203357Z
UID:10012920-1763546400-1763549100@www.brooklyn.edu
SUMMARY:Prospective F-1/J-1 Student Information Session
DESCRIPTION:Are you a prospective undergraduate or graduate F-1 or J-1 student planning to apply to Brooklyn College? \nThe Office of International Student and Scholar Services is hosting an online video conference to answer your questions and concerns about attending Brooklyn College as an F-1 student.  \nRegister Now
URL:https://www.brooklyn.edu/event/prospective-f-1-j-1-student-information-session-8/
LOCATION:Online
CATEGORIES:Admissions,Admissions, Graduate,Admissions, International,Admissions, Undergraduate,International Student and Scholar Services
ORGANIZER;CN="International Student and Scholar Services":MAILTO:international@brooklyn.cuny.edu
END:VEVENT
BEGIN:VEVENT
DTSTART;TZID=America/New_York:20251118T123000
DTEND;TZID=America/New_York:20251118T134500
DTSTAMP:20260421T113908
CREATED:20250603T170012Z
LAST-MODIFIED:20250603T170012Z
UID:10012935-1763469000-1763473500@www.brooklyn.edu
SUMMARY:Optional Practical Training (OPT) Workshop
DESCRIPTION:Optional practical training (OPT) is temporary employment that is directly related to an F-1 student’s major area of study. \nThe Office of International Student and Scholar Services is hosting a workshop in person in the Library (Room 242) and concurrently on Zoom to answer your questions about OPT. \nRegister Now
URL:https://www.brooklyn.edu/event/optional-practical-training-opt-workshop-8/
LOCATION:Library\, Room 242\, Group Viewing Room
CATEGORIES:Admissions, International,International Student and Scholar Services
ORGANIZER;CN="International Student and Scholar Services":MAILTO:international@brooklyn.cuny.edu
GEO:40.63136;-73.94986
X-APPLE-STRUCTURED-LOCATION;VALUE=URI;X-ADDRESS=Library Room 242 Group Viewing Room;X-APPLE-RADIUS=500;X-TITLE=Group Viewing Room:geo:-73.94986,40.63136
END:VEVENT
BEGIN:VEVENT
DTSTART;TZID=America/New_York:20251113T180000
DTEND;TZID=America/New_York:20251113T190000
DTSTAMP:20260421T113908
CREATED:20251008T203827Z
LAST-MODIFIED:20251008T203827Z
UID:10012915-1763056800-1763060400@www.brooklyn.edu
SUMMARY:Graduate Admissions Information Session
DESCRIPTION:Meet virtually with a representative from Graduate Admissions to learn about Brooklyn College’s graduate programs and discuss the process of applying to graduate school. \nRegister Now \n 
URL:https://www.brooklyn.edu/event/graduate-admissions-information-session-24-3/
LOCATION:Online
CATEGORIES:Admissions,Admissions, Graduate,Admissions, International
ORGANIZER;CN="Admissions%2C Graduate":MAILTO:grads@brooklyn.cuny.edu
END:VEVENT
BEGIN:VEVENT
DTSTART;TZID=America/New_York:20251111T180000
DTEND;TZID=America/New_York:20251111T190000
DTSTAMP:20260421T113908
CREATED:20250529T152154Z
LAST-MODIFIED:20250529T152439Z
UID:10012909-1762884000-1762887600@www.brooklyn.edu
SUMMARY:Incoming Graduate Student Information Session
DESCRIPTION:This session is only for admitted graduate students. \nMeet with a Graduate Admissions Counselor virtually to discuss the acceptance process and to answer any questions you may have. \nRegister Now \n 
URL:https://www.brooklyn.edu/event/incoming-graduate-student-information-session-november/
LOCATION:Online
CATEGORIES:Admissions,Admissions, Graduate,Admissions, International
ORGANIZER;CN="Admissions%2C Graduate":MAILTO:grads@brooklyn.cuny.edu
END:VEVENT
BEGIN:VEVENT
DTSTART;TZID=America/New_York:20251104T123000
DTEND;TZID=America/New_York:20251104T134500
DTSTAMP:20260421T113908
CREATED:20250602T142140Z
LAST-MODIFIED:20250602T142140Z
UID:10012933-1762259400-1762263900@www.brooklyn.edu
SUMMARY:STEM Optional Practical Training (OPT) Workshop
DESCRIPTION:Optional practical training (OPT) is temporary employment that is directly related to an F-1 student’s major area of study. \nThe Office of International Student and Scholar Services is hosting a workshop on Zoom to answer your questions about applying for STEM OPT extension.  \nRegister Now
URL:https://www.brooklyn.edu/event/stem-optional-practical-training-opt-workshop-3/
LOCATION:Online
CATEGORIES:Admissions, International,International Student and Scholar Services
ORGANIZER;CN="International Student and Scholar Services":MAILTO:international@brooklyn.cuny.edu
END:VEVENT
BEGIN:VEVENT
DTSTART;TZID=America/New_York:20251028T123000
DTEND;TZID=America/New_York:20251028T134500
DTSTAMP:20260421T113908
CREATED:20250602T141909Z
LAST-MODIFIED:20250602T141909Z
UID:10012932-1761654600-1761659100@www.brooklyn.edu
SUMMARY:Optional Practical Training (OPT) Workshop
DESCRIPTION:Optional practical training (OPT) is temporary employment that is directly related to an F-1 student’s major area of study. \nThe Office of International Student and Scholar Services is hosting a workshop in person in the Library (Room 242) and concurrently on Zoom to answer your questions about OPT. \nRegister Now
URL:https://www.brooklyn.edu/event/optional-practical-training-opt-workshop-7/
LOCATION:Library\, Room 242\, Group Viewing Room
CATEGORIES:Admissions, International,International Student and Scholar Services
ORGANIZER;CN="International Student and Scholar Services":MAILTO:international@brooklyn.cuny.edu
GEO:40.63136;-73.94986
X-APPLE-STRUCTURED-LOCATION;VALUE=URI;X-ADDRESS=Library Room 242 Group Viewing Room;X-APPLE-RADIUS=500;X-TITLE=Group Viewing Room:geo:-73.94986,40.63136
END:VEVENT
BEGIN:VEVENT
DTSTART;TZID=America/New_York:20251021T123000
DTEND;TZID=America/New_York:20251021T133000
DTSTAMP:20260421T113908
CREATED:20250602T140907Z
LAST-MODIFIED:20250916T191430Z
UID:10012929-1761049800-1761053400@www.brooklyn.edu
SUMMARY:International Student Coffee Hour
DESCRIPTION:Office of International Student and Scholar Services invites all students for coffee and conversation. We look forward to seeing you there! \nRSVP
URL:https://www.brooklyn.edu/event/international-student-coffee-hour-7/
LOCATION:Boylan Hall\, Room 2150
CATEGORIES:Admissions, International,International Student and Scholar Services
ORGANIZER;CN="International Student and Scholar Services":MAILTO:international@brooklyn.cuny.edu
GEO:40.63186;-73.95142
END:VEVENT
BEGIN:VEVENT
DTSTART;TZID=America/New_York:20251015T100000
DTEND;TZID=America/New_York:20251015T104500
DTSTAMP:20260421T113908
CREATED:20250602T135046Z
LAST-MODIFIED:20251008T203300Z
UID:10012919-1760522400-1760525100@www.brooklyn.edu
SUMMARY:Prospective F-1/J-1 Student Information Session
DESCRIPTION:Are you a prospective undergraduate or graduate F-1 or J-1 student planning to apply to Brooklyn College? \nThe Office of International Student and Scholar Services is hosting an online video conference to answer your questions and concerns about attending Brooklyn College as an F-1 student.  \nRegister Now
URL:https://www.brooklyn.edu/event/prospective-f-1-j-1-student-information-session-7/
LOCATION:Online
CATEGORIES:Admissions,Admissions, Graduate,Admissions, International,Admissions, Undergraduate,International Student and Scholar Services
ORGANIZER;CN="International Student and Scholar Services":MAILTO:international@brooklyn.cuny.edu
END:VEVENT
BEGIN:VEVENT
DTSTART;TZID=America/New_York:20251014T180000
DTEND;TZID=America/New_York:20251014T190000
DTSTAMP:20260421T113908
CREATED:20250529T152144Z
LAST-MODIFIED:20250529T152318Z
UID:10012908-1760464800-1760468400@www.brooklyn.edu
SUMMARY:Incoming Graduate Student Information Session
DESCRIPTION:This session is only for admitted graduate students. \nMeet with a Graduate Admissions Counselor virtually to discuss the acceptance process and to answer any questions you may have. \nRegister Now \n 
URL:https://www.brooklyn.edu/event/incoming-graduate-student-information-session-october/
LOCATION:Online
CATEGORIES:Admissions,Admissions, Graduate,Admissions, International
ORGANIZER;CN="Admissions%2C Graduate":MAILTO:grads@brooklyn.cuny.edu
END:VEVENT
BEGIN:VEVENT
DTSTART;TZID=America/New_York:20251009T180000
DTEND;TZID=America/New_York:20251009T190000
DTSTAMP:20260421T113908
CREATED:20251008T203705Z
LAST-MODIFIED:20251008T203742Z
UID:10012914-1760032800-1760036400@www.brooklyn.edu
SUMMARY:Graduate Admissions Information Session
DESCRIPTION:Meet virtually with a representative from Graduate Admissions to learn about Brooklyn College’s graduate programs and discuss the process of applying to graduate school. \nRegister Now \n 
URL:https://www.brooklyn.edu/event/graduate-admissions-information-session-24-2/
LOCATION:Online
CATEGORIES:Admissions,Admissions, Graduate,Admissions, International
ORGANIZER;CN="Admissions%2C Graduate":MAILTO:grads@brooklyn.cuny.edu
END:VEVENT
BEGIN:VEVENT
DTSTART;TZID=America/New_York:20251007T123000
DTEND;TZID=America/New_York:20251007T134500
DTSTAMP:20260421T113908
CREATED:20250602T142620Z
LAST-MODIFIED:20250602T142620Z
UID:10012934-1759840200-1759844700@www.brooklyn.edu
SUMMARY:Curricular Practical Training (CPT) Workshop
DESCRIPTION:Curricular Practical Training (CPT) is a type of work permission that allows F-1 international students in the United States to gain relevant experience while studying. \nThe Office of International Student and Scholar Services is hosting a workshop in person in the Library (Room 242) and concurrently on Zoom to answer your questions about CPT. \nRegister Now
URL:https://www.brooklyn.edu/event/curricular-practical-training-cpt-workshop/
LOCATION:Library\, Room 242\, Group Viewing Room
CATEGORIES:Admissions, International,International Student and Scholar Services
ORGANIZER;CN="International Student and Scholar Services":MAILTO:international@brooklyn.cuny.edu
GEO:40.63136;-73.94986
X-APPLE-STRUCTURED-LOCATION;VALUE=URI;X-ADDRESS=Library Room 242 Group Viewing Room;X-APPLE-RADIUS=500;X-TITLE=Group Viewing Room:geo:-73.94986,40.63136
END:VEVENT
BEGIN:VEVENT
DTSTART;TZID=America/New_York:20250930T123000
DTEND;TZID=America/New_York:20250930T134500
DTSTAMP:20260421T113908
CREATED:20250602T141358Z
LAST-MODIFIED:20250602T141358Z
UID:10012931-1759235400-1759239900@www.brooklyn.edu
SUMMARY:Optional Practical Training (OPT) Workshop
DESCRIPTION:Optional practical training (OPT) is temporary employment that is directly related to an F-1 student’s major area of study. \nThe Office of International Student and Scholar Services is hosting a workshop in person in the Library (Room 242) and concurrently on Zoom to answer your questions about OPT. \nRegister Now
URL:https://www.brooklyn.edu/event/optional-practical-training-opt-workshop-6/
LOCATION:Library\, Room 242\, Group Viewing Room
CATEGORIES:Admissions, International,International Student and Scholar Services
ORGANIZER;CN="International Student and Scholar Services":MAILTO:international@brooklyn.cuny.edu
GEO:40.63136;-73.94986
X-APPLE-STRUCTURED-LOCATION;VALUE=URI;X-ADDRESS=Library Room 242 Group Viewing Room;X-APPLE-RADIUS=500;X-TITLE=Group Viewing Room:geo:-73.94986,40.63136
END:VEVENT
BEGIN:VEVENT
DTSTART;TZID=America/New_York:20250916T123000
DTEND;TZID=America/New_York:20250916T133000
DTSTAMP:20260421T113908
CREATED:20250602T140824Z
LAST-MODIFIED:20250602T140824Z
UID:10012928-1758025800-1758029400@www.brooklyn.edu
SUMMARY:International Student Coffee Hour
DESCRIPTION:Office of International Student and Scholar Services invites all students for coffee and conversation.  We look forward to seeing you there! \nRSVP
URL:https://www.brooklyn.edu/event/international-student-coffee-hour-6/
CATEGORIES:Admissions, International,International Student and Scholar Services
ORGANIZER;CN="International Student and Scholar Services":MAILTO:international@brooklyn.cuny.edu
END:VEVENT
BEGIN:VEVENT
DTSTART;TZID=America/New_York:20250910T100000
DTEND;TZID=America/New_York:20250910T104500
DTSTAMP:20260421T113908
CREATED:20250602T134959Z
LAST-MODIFIED:20260109T182058Z
UID:10012923-1757498400-1757501100@www.brooklyn.edu
SUMMARY:Prospective F-1/J-1 Student Information Session
DESCRIPTION:Are you a prospective undergraduate or graduate F-1 or J-1 student planning to apply to Brooklyn College? \nThe Office of International Student and Scholar Services is hosting an online video conference to answer your questions and concerns about attending Brooklyn College as an F-1 student.  \nRegister Now
URL:https://www.brooklyn.edu/event/prospective-f-1-j-1-student-information-session-6/
LOCATION:Online
CATEGORIES:Admissions,Admissions, Graduate,Admissions, International,Admissions, Undergraduate,International Student and Scholar Services
ORGANIZER;CN="International Student and Scholar Services":MAILTO:international@brooklyn.cuny.edu
END:VEVENT
BEGIN:VEVENT
DTSTART;TZID=America/New_York:20250910T080000
DTEND;TZID=America/New_York:20250910T170000
DTSTAMP:20260421T113908
CREATED:20250602T134959Z
LAST-MODIFIED:20260109T182058Z
UID:10012922-1757491200-1757523600@www.brooklyn.edu
SUMMARY:Prospective F-1/J-1 Student Information Session
DESCRIPTION:Are you a prospective undergraduate or graduate F-1 or J-1 student planning to apply to Brooklyn College? \nThe Office of International Student and Scholar Services is hosting an online video conference to answer your questions and concerns about attending Brooklyn College as an F-1 student.  \nRegister Now
URL:https://www.brooklyn.edu/event/prospective-f-1-j-1-student-information-session-6/
LOCATION:Online
CATEGORIES:Admissions,Admissions, Graduate,Admissions, International,Admissions, Undergraduate,International Student and Scholar Services
ORGANIZER;CN="International Student and Scholar Services":MAILTO:international@brooklyn.cuny.edu
END:VEVENT
BEGIN:VEVENT
DTSTART;TZID=America/New_York:20250909T180000
DTEND;TZID=America/New_York:20250909T190000
DTSTAMP:20260421T113908
CREATED:20250529T152023Z
LAST-MODIFIED:20250529T152023Z
UID:10012907-1757440800-1757444400@www.brooklyn.edu
SUMMARY:Incoming Graduate Student Information Session
DESCRIPTION:This session is only for admitted graduate students. \nMeet with a Graduate Admissions Counselor virtually to discuss the acceptance process and to answer any questions you may have. \nRegister Now \n 
URL:https://www.brooklyn.edu/event/incoming-graduate-student-information-session-september/
LOCATION:Online
CATEGORIES:Admissions,Admissions, Graduate,Admissions, International
ORGANIZER;CN="Admissions%2C Graduate":MAILTO:grads@brooklyn.cuny.edu
END:VEVENT
BEGIN:VEVENT
DTSTART;TZID=America/New_York:20250429T123000
DTEND;TZID=America/New_York:20250429T133000
DTSTAMP:20260421T113908
CREATED:20240708T181549Z
LAST-MODIFIED:20240708T181549Z
UID:10009759-1745929800-1745933400@www.brooklyn.edu
SUMMARY:Optional Practical Training (OPT) Workshop
DESCRIPTION:Optional practical training (OPT) is temporary employment that is directly related to an F-1 student’s major area of study. \nThe Office of International Student and Scholar Services is hosting a workshop in person in the Library (Room 242) and concurrently on Zoom to answer your questions about OPT. \nRegister Now
URL:https://www.brooklyn.edu/event/optional-practical-training-opt-workshop-5/
LOCATION:Library\, Room 242\, Group Viewing Room
CATEGORIES:Admissions, International,International Student and Scholar Services
ORGANIZER;CN="International Student and Scholar Services":MAILTO:international@brooklyn.cuny.edu
GEO:40.63136;-73.94986
X-APPLE-STRUCTURED-LOCATION;VALUE=URI;X-ADDRESS=Library Room 242 Group Viewing Room;X-APPLE-RADIUS=500;X-TITLE=Group Viewing Room:geo:-73.94986,40.63136
END:VEVENT
END:VCALENDAR