BEGIN:VCALENDAR
VERSION:2.0
PRODID:-//Brooklyn College - ECPv6.15.12.2//NONSGML v1.0//EN
CALSCALE:GREGORIAN
METHOD:PUBLISH
X-WR-CALNAME:Brooklyn College
X-ORIGINAL-URL:https://www.brooklyn.edu
X-WR-CALDESC:Events for Brooklyn College
REFRESH-INTERVAL;VALUE=DURATION:PT1H
X-Robots-Tag:noindex
X-PUBLISHED-TTL:PT1H
BEGIN:VTIMEZONE
TZID:America/New_York
BEGIN:DAYLIGHT
TZOFFSETFROM:-0500
TZOFFSETTO:-0400
TZNAME:EDT
DTSTART:20240310T070000
END:DAYLIGHT
BEGIN:STANDARD
TZOFFSETFROM:-0400
TZOFFSETTO:-0500
TZNAME:EST
DTSTART:20241103T060000
END:STANDARD
BEGIN:DAYLIGHT
TZOFFSETFROM:-0500
TZOFFSETTO:-0400
TZNAME:EDT
DTSTART:20250309T070000
END:DAYLIGHT
BEGIN:STANDARD
TZOFFSETFROM:-0400
TZOFFSETTO:-0500
TZNAME:EST
DTSTART:20251102T060000
END:STANDARD
BEGIN:DAYLIGHT
TZOFFSETFROM:-0500
TZOFFSETTO:-0400
TZNAME:EDT
DTSTART:20260308T070000
END:DAYLIGHT
BEGIN:STANDARD
TZOFFSETFROM:-0400
TZOFFSETTO:-0500
TZNAME:EST
DTSTART:20261101T060000
END:STANDARD
END:VTIMEZONE
BEGIN:VEVENT
DTSTART;TZID=America/New_York:20250910T100000
DTEND;TZID=America/New_York:20250910T104500
DTSTAMP:20260419T200553
CREATED:20250602T134959Z
LAST-MODIFIED:20260109T182058Z
UID:10012923-1757498400-1757501100@www.brooklyn.edu
SUMMARY:Prospective F-1/J-1 Student Information Session
DESCRIPTION:Are you a prospective undergraduate or graduate F-1 or J-1 student planning to apply to Brooklyn College? \nThe Office of International Student and Scholar Services is hosting an online video conference to answer your questions and concerns about attending Brooklyn College as an F-1 student.  \nRegister Now
URL:https://www.brooklyn.edu/event/prospective-f-1-j-1-student-information-session-6/
LOCATION:Online
CATEGORIES:Admissions,Admissions, Graduate,Admissions, International,Admissions, Undergraduate,International Student and Scholar Services
ORGANIZER;CN="International Student and Scholar Services":MAILTO:international@brooklyn.cuny.edu
END:VEVENT
BEGIN:VEVENT
DTSTART;TZID=America/New_York:20250910T080000
DTEND;TZID=America/New_York:20250910T170000
DTSTAMP:20260419T200554
CREATED:20250602T134959Z
LAST-MODIFIED:20260109T182058Z
UID:10012922-1757491200-1757523600@www.brooklyn.edu
SUMMARY:Prospective F-1/J-1 Student Information Session
DESCRIPTION:Are you a prospective undergraduate or graduate F-1 or J-1 student planning to apply to Brooklyn College? \nThe Office of International Student and Scholar Services is hosting an online video conference to answer your questions and concerns about attending Brooklyn College as an F-1 student.  \nRegister Now
URL:https://www.brooklyn.edu/event/prospective-f-1-j-1-student-information-session-6/
LOCATION:Online
CATEGORIES:Admissions,Admissions, Graduate,Admissions, International,Admissions, Undergraduate,International Student and Scholar Services
ORGANIZER;CN="International Student and Scholar Services":MAILTO:international@brooklyn.cuny.edu
END:VEVENT
END:VCALENDAR