BEGIN:VCALENDAR
VERSION:2.0
PRODID:-//Brooklyn College - ECPv6.15.12.2//NONSGML v1.0//EN
CALSCALE:GREGORIAN
METHOD:PUBLISH
X-ORIGINAL-URL:https://www.brooklyn.edu
X-WR-CALDESC:Events for Brooklyn College
REFRESH-INTERVAL;VALUE=DURATION:PT1H
X-Robots-Tag:noindex
X-PUBLISHED-TTL:PT1H
BEGIN:VTIMEZONE
TZID:America/New_York
BEGIN:DAYLIGHT
TZOFFSETFROM:-0500
TZOFFSETTO:-0400
TZNAME:EDT
DTSTART:20250309T070000
END:DAYLIGHT
BEGIN:STANDARD
TZOFFSETFROM:-0400
TZOFFSETTO:-0500
TZNAME:EST
DTSTART:20251102T060000
END:STANDARD
BEGIN:DAYLIGHT
TZOFFSETFROM:-0500
TZOFFSETTO:-0400
TZNAME:EDT
DTSTART:20260308T070000
END:DAYLIGHT
BEGIN:STANDARD
TZOFFSETFROM:-0400
TZOFFSETTO:-0500
TZNAME:EST
DTSTART:20261101T060000
END:STANDARD
BEGIN:DAYLIGHT
TZOFFSETFROM:-0500
TZOFFSETTO:-0400
TZNAME:EDT
DTSTART:20270314T070000
END:DAYLIGHT
BEGIN:STANDARD
TZOFFSETFROM:-0400
TZOFFSETTO:-0500
TZNAME:EST
DTSTART:20271107T060000
END:STANDARD
END:VTIMEZONE
BEGIN:VEVENT
DTSTART;TZID=America/New_York:20260819T180000
DTEND;TZID=America/New_York:20260819T190000
DTSTAMP:20260419T184618
CREATED:20260108T193745Z
LAST-MODIFIED:20260108T193745Z
UID:10014096-1787162400-1787166000@www.brooklyn.edu
SUMMARY:Incoming Graduate Student Information Session
DESCRIPTION:This session is only for admitted graduate students. \nMeet with a Graduate Admissions Counselor virtually to discuss the acceptance process and to answer any questions you may have. \nRegister Now \n 
URL:https://www.brooklyn.edu/event/incoming-graduate-student-information-session-7/
LOCATION:Online
CATEGORIES:Admissions,Admissions, Graduate,Admissions, International
ORGANIZER;CN="Admissions%2C Graduate":MAILTO:grads@brooklyn.cuny.edu
END:VEVENT
BEGIN:VEVENT
DTSTART;TZID=America/New_York:20260909T100000
DTEND;TZID=America/New_York:20260909T110000
DTSTAMP:20260419T184618
CREATED:20260316T172646Z
LAST-MODIFIED:20260316T172841Z
UID:10014292-1788948000-1788951600@www.brooklyn.edu
SUMMARY:Prospective F-1/J-1 Student Information Session
DESCRIPTION:Are you a prospective undergraduate or graduate F-1 or J-1 student planning to apply to Brooklyn College? \nThe Office of International Student and Scholar Services is hosting an online video conference to answer your questions and concerns about attending Brooklyn College as an F-1 student.  \nRegister Now
URL:https://www.brooklyn.edu/event/prospective-f-1-j-1-student-information-session-10/
LOCATION:Online
CATEGORIES:Admissions,Admissions, Graduate,Admissions, International,Admissions, Undergraduate,International Student and Scholar Services
ORGANIZER;CN="International Student and Scholar Services":MAILTO:international@brooklyn.cuny.edu
END:VEVENT
BEGIN:VEVENT
DTSTART;TZID=America/New_York:20261007T100000
DTEND;TZID=America/New_York:20261007T110000
DTSTAMP:20260419T184618
CREATED:20260316T173022Z
LAST-MODIFIED:20260316T173022Z
UID:10014293-1791367200-1791370800@www.brooklyn.edu
SUMMARY:Prospective F-1/J-1 Student Information Session
DESCRIPTION:Are you a prospective undergraduate or graduate F-1 or J-1 student planning to apply to Brooklyn College? \nThe Office of International Student and Scholar Services is hosting an online video conference to answer your questions and concerns about attending Brooklyn College as an F-1 student.  \nRegister Now
URL:https://www.brooklyn.edu/event/prospective-f-1-j-1-student-information-session-11/
LOCATION:Online
CATEGORIES:Admissions,Admissions, Graduate,Admissions, International,Admissions, Undergraduate,International Student and Scholar Services
ORGANIZER;CN="International Student and Scholar Services":MAILTO:international@brooklyn.cuny.edu
END:VEVENT
BEGIN:VEVENT
DTSTART;TZID=America/New_York:20261111T100000
DTEND;TZID=America/New_York:20261111T110000
DTSTAMP:20260419T184618
CREATED:20260316T173118Z
LAST-MODIFIED:20260316T173118Z
UID:10014294-1794391200-1794394800@www.brooklyn.edu
SUMMARY:Prospective F-1/J-1 Student Information Session
DESCRIPTION:Are you a prospective undergraduate or graduate F-1 or J-1 student planning to apply to Brooklyn College? \nThe Office of International Student and Scholar Services is hosting an online video conference to answer your questions and concerns about attending Brooklyn College as an F-1 student.  \nRegister Now
URL:https://www.brooklyn.edu/event/prospective-f-1-j-1-student-information-session-12/
LOCATION:Online
CATEGORIES:Admissions,Admissions, Graduate,Admissions, International,Admissions, Undergraduate,International Student and Scholar Services
ORGANIZER;CN="International Student and Scholar Services":MAILTO:international@brooklyn.cuny.edu
END:VEVENT
BEGIN:VEVENT
DTSTART;TZID=America/New_York:20261202T100000
DTEND;TZID=America/New_York:20261202T110000
DTSTAMP:20260419T184618
CREATED:20260316T173207Z
LAST-MODIFIED:20260316T173207Z
UID:10014295-1796205600-1796209200@www.brooklyn.edu
SUMMARY:Prospective F-1/J-1 Student Information Session
DESCRIPTION:Are you a prospective undergraduate or graduate F-1 or J-1 student planning to apply to Brooklyn College? \nThe Office of International Student and Scholar Services is hosting an online video conference to answer your questions and concerns about attending Brooklyn College as an F-1 student.  \nRegister Now
URL:https://www.brooklyn.edu/event/prospective-f-1-j-1-student-information-session-13/
LOCATION:Online
CATEGORIES:Admissions,Admissions, Graduate,Admissions, International,Admissions, Undergraduate,International Student and Scholar Services
ORGANIZER;CN="International Student and Scholar Services":MAILTO:international@brooklyn.cuny.edu
END:VEVENT
END:VCALENDAR