BEGIN:VCALENDAR
VERSION:2.0
PRODID:-//Brooklyn College - ECPv6.15.12.2//NONSGML v1.0//EN
CALSCALE:GREGORIAN
METHOD:PUBLISH
X-ORIGINAL-URL:https://www.brooklyn.edu
X-WR-CALDESC:Events for Brooklyn College
REFRESH-INTERVAL;VALUE=DURATION:PT1H
X-Robots-Tag:noindex
X-PUBLISHED-TTL:PT1H
BEGIN:VTIMEZONE
TZID:America/New_York
BEGIN:DAYLIGHT
TZOFFSETFROM:-0500
TZOFFSETTO:-0400
TZNAME:EDT
DTSTART:20240310T070000
END:DAYLIGHT
BEGIN:STANDARD
TZOFFSETFROM:-0400
TZOFFSETTO:-0500
TZNAME:EST
DTSTART:20241103T060000
END:STANDARD
BEGIN:DAYLIGHT
TZOFFSETFROM:-0500
TZOFFSETTO:-0400
TZNAME:EDT
DTSTART:20250309T070000
END:DAYLIGHT
BEGIN:STANDARD
TZOFFSETFROM:-0400
TZOFFSETTO:-0500
TZNAME:EST
DTSTART:20251102T060000
END:STANDARD
BEGIN:DAYLIGHT
TZOFFSETFROM:-0500
TZOFFSETTO:-0400
TZNAME:EDT
DTSTART:20260308T070000
END:DAYLIGHT
BEGIN:STANDARD
TZOFFSETFROM:-0400
TZOFFSETTO:-0500
TZNAME:EST
DTSTART:20261101T060000
END:STANDARD
END:VTIMEZONE
BEGIN:VEVENT
DTSTART;TZID=America/New_York:20251021T183000
DTEND;TZID=America/New_York:20251021T203000
DTSTAMP:20260421T111743
CREATED:20251001T193409Z
LAST-MODIFIED:20251001T193409Z
UID:10013395-1761071400-1761078600@www.brooklyn.edu
SUMMARY:Graduate Open House – School of Visual\, Media\, and Performing Arts\, Feirstein Graduate School of Cinema
DESCRIPTION:Join us for an in-person and virtual tour of the Feirstein Graduate School of Cinema‘s state-of-the-art facilities. Meet with a rep from Feirstein to explore our cutting edge programs in: \n\n\n\nCinema Arts\, M.F.A. with specializations in live action filmmaking and digital animation and visual effects\nMedia Scoring\, M.F.A.\nSonic Arts\, M.F.A.\n\n\n\nRegister Now
URL:https://www.brooklyn.edu/event/graduate-open-house-school-of-visual-media-and-performing-arts-feirstein-graduate-school-of-cinema/
LOCATION:Feirstein Graduate School of Cinema
CATEGORIES:Admissions,Admissions, Graduate,Barry R. Feirstein Graduate School of Cinema,Graduate,Performance and Interactive Media Arts,School of Visual, Media and Performing Arts
ORGANIZER;CN="Admissions%2C Graduate":MAILTO:grads@brooklyn.cuny.edu
GEO:40.69838;-73.96725
END:VEVENT
BEGIN:VEVENT
DTSTART;TZID=America/New_York:20251021T180000
DTEND;TZID=America/New_York:20251021T190000
DTSTAMP:20260421T111743
CREATED:20250721T184056Z
LAST-MODIFIED:20250825T153916Z
UID:10012985-1761069600-1761073200@www.brooklyn.edu
SUMMARY:Graduate Open House – School of Education\, Special Education\, M.S.Ed. (All Grades)
DESCRIPTION:Meet with faculty and admissions representatives to discuss the Special Education\, M.S.Ed. (Birth – Grade 2\, Grades 1-6\, Grades 7-12)\,  admission requirements\, and the application process. \nLearn about career resources\, internships\, and funding options\, and get to know our students\, faculty\, and staff. \nREGISTER NOW
URL:https://www.brooklyn.edu/event/graduate-open-house-2025-school-of-education-special-education-m-s-ed-all-grades/
LOCATION:Online
CATEGORIES:Admissions,Admissions, Graduate,Childhood, Bilingual, and Special Education,Graduate,School of Education
ORGANIZER;CN="Admissions%2C Graduate":MAILTO:grads@brooklyn.cuny.edu
END:VEVENT
BEGIN:VEVENT
DTSTART;TZID=America/New_York:20251021T180000
DTEND;TZID=America/New_York:20251021T190000
DTSTAMP:20260421T111743
CREATED:20240626T144647Z
LAST-MODIFIED:20250826T201313Z
UID:10009680-1761069600-1761073200@www.brooklyn.edu
SUMMARY:Graduate Open House – School of Education\, Physical Education Teacher\, M.S.Ed. and Health Teacher\, M.S.Ed. Programs
DESCRIPTION:Meet with faculty and admissions representatives to discuss the Physical Education Teacher\, M.S.Ed.\, and Health Teacher\, M.S.Ed.\, admission requirements\, and the application process. \nLearn about career resources\, internships\, and funding options\, and get to know our students\, faculty\, and staff. \nRegister
URL:https://www.brooklyn.edu/event/graduate-open-house-2025-school-of-education-physical-education-teacher-m-s-ed-health-teacher-m-s-ed/
LOCATION:Online
CATEGORIES:Admissions,Admissions, Graduate,Graduate,School of Education,Secondary Education
ORGANIZER;CN="Admissions%2C Graduate":MAILTO:grads@brooklyn.cuny.edu
END:VEVENT
BEGIN:VEVENT
DTSTART;TZID=America/New_York:20251020T200000
DTEND;TZID=America/New_York:20251020T210000
DTSTAMP:20260421T111743
CREATED:20250721T182835Z
LAST-MODIFIED:20250825T153757Z
UID:10012984-1760990400-1760994000@www.brooklyn.edu
SUMMARY:Graduate Open House – School of Education\, Reading Science\, Advanced Certificate
DESCRIPTION:Meet with faculty and admissions representatives to discuss the Reading Science: Emergent Readers and Reading Science: All Grades advanced certificates. Get information on admission requirements\, scholarships\, and the application process. \nRegister Now
URL:https://www.brooklyn.edu/event/graduate-open-house-2025-school-of-education-reading-science-advanced-certificate/
LOCATION:Online
CATEGORIES:Admissions,Admissions, Graduate,Early Childhood Education/Art Education,Graduate,School of Education
ORGANIZER;CN="Admissions%2C Graduate":MAILTO:grads@brooklyn.cuny.edu
END:VEVENT
BEGIN:VEVENT
DTSTART;TZID=America/New_York:20251020T200000
DTEND;TZID=America/New_York:20251020T210000
DTSTAMP:20260421T111743
CREATED:20250623T171731Z
LAST-MODIFIED:20250825T153710Z
UID:10012966-1760990400-1760994000@www.brooklyn.edu
SUMMARY:Graduate Open House – School of Education\, Play Therapy\, Advanced Certificate
DESCRIPTION:Meet with faculty and admissions representatives to discuss the  Play Therapy\, Advanced Certificate\, admission requirements\, and the application process. \nLearn about career resources\, internships\, and funding options\, and get to know our students\, faculty\, and staff. \nRegister for Zoom
URL:https://www.brooklyn.edu/event/graduate-open-house-2025-school-of-education-play-therapy-advanced-certificate/
LOCATION:Online
CATEGORIES:Admissions,Admissions, Graduate,Graduate,School of Education,School Psychology, Counseling, and Leadership
ORGANIZER;CN="Admissions%2C Graduate":MAILTO:grads@brooklyn.cuny.edu
END:VEVENT
BEGIN:VEVENT
DTSTART;TZID=America/New_York:20251020T190000
DTEND;TZID=America/New_York:20251020T200000
DTSTAMP:20260421T111743
CREATED:20250623T172656Z
LAST-MODIFIED:20250825T153315Z
UID:10012961-1760986800-1760990400@www.brooklyn.edu
SUMMARY:Graduate Open House – School of Education\, Childhood Education Teacher (1-6) Liberal Arts\, M.S.Ed. and Childhood Education Teacher (1-6) Mathematics\, M.S.Ed.
DESCRIPTION:Meet with faculty and admissions representatives to discuss the Childhood Education Teacher (1-6) Liberal Arts\, M.S.Ed. and Childhood Education Teacher (1-6) Mathematics\, M.S.Ed. programs\, admission requirements\, and the application process. \nLearn about career resources\, internships\, and financial aid\, and get to know our students\, faculty\, and staff. \nRegister for Zoom
URL:https://www.brooklyn.edu/event/graduate-open-house-2025-school-of-education-childhood-education-teacher-1-6-liberal-arts-m-s-ed-and-math-m-s-ed/
LOCATION:Online
CATEGORIES:Admissions,Admissions, Graduate,Childhood, Bilingual, and Special Education,Graduate,School of Education
ORGANIZER;CN="Admissions%2C Graduate":MAILTO:grads@brooklyn.cuny.edu
END:VEVENT
BEGIN:VEVENT
DTSTART;TZID=America/New_York:20251020T180000
DTEND;TZID=America/New_York:20251020T190000
DTSTAMP:20260421T111743
CREATED:20250623T173348Z
LAST-MODIFIED:20250825T153233Z
UID:10012960-1760983200-1760986800@www.brooklyn.edu
SUMMARY:Graduate Open House – School of Education\, Childhood Education Teacher (1-6)\, Bilingual Education\, M.S.Ed. and Advanced Certificate Programs
DESCRIPTION:Meet with faculty and admissions representatives to discuss the Childhood Education (1-6)\, Bilingual Education\, M.S.Ed. and Bilingual Education\, Advanced Certificate\, admission requirements\, and the application process. \nLearn about career resources\, internships\, and funding options\, and get to know our students\, faculty\, and staff. \nRegister for zoom
URL:https://www.brooklyn.edu/event/graduate-open-house-2025-school-of-education-childhood-education-teacher-1-6-bilingual-education-m-s-ed-and-advanced-certificate-programs/
LOCATION:Online
CATEGORIES:Admissions,Admissions, Graduate,Childhood, Bilingual, and Special Education,Graduate,School of Education
ORGANIZER;CN="Admissions%2C Graduate":MAILTO:grads@brooklyn.cuny.edu
END:VEVENT
BEGIN:VEVENT
DTSTART;TZID=America/New_York:20251020T170000
DTEND;TZID=America/New_York:20251020T180000
DTSTAMP:20260421T111743
CREATED:20250623T171516Z
LAST-MODIFIED:20250825T165247Z
UID:10012967-1760979600-1760983200@www.brooklyn.edu
SUMMARY:Graduate Open House – School of Education\, School Counseling and School Psychologist Programs
DESCRIPTION:Meet with faculty and admissions representatives to discuss the School Counseling\, M.S.Ed. and School Psychologist programs (M.S.Ed.\, Advanced Certificate\, and Bilingual Extension Advanced Certificate)\, admission requirements\, and the application process. \nLearn about career resources\, internships\, and funding options\, and get to know our students\, faculty\, and staff. \nRegister for Zoom
URL:https://www.brooklyn.edu/event/graduate-open-house-2025-school-of-education-school-counseling-and-school-psychologist-programs/
LOCATION:Online
CATEGORIES:Admissions,Admissions, Graduate,Graduate,School of Education,School Psychology, Counseling, and Leadership
ORGANIZER;CN="Admissions%2C Graduate":MAILTO:grads@brooklyn.cuny.edu
END:VEVENT
BEGIN:VEVENT
DTSTART;TZID=America/New_York:20251019T100000
DTEND;TZID=America/New_York:20251019T130000
DTSTAMP:20260421T111743
CREATED:20240625T163258Z
LAST-MODIFIED:20250902T135853Z
UID:10009583-1760868000-1760878800@www.brooklyn.edu
SUMMARY:Undergraduate Open House
DESCRIPTION:Ready to take the next step toward your future?\nJoin us for Brooklyn College’s Fall Open House and explore everything we have to offer. With more than 175 majors and minors across business\, education\, science\, the arts\, and humanities\, there’s a path here for every passion. \nConnect with faculty and current students\, tour our beautiful campus\, and learn how our affordable tuition\, career planning services\, and internship opportunities can help you turn your dreams into reality. \nDiscover what’s possible—at Brooklyn College. \nRegister Now
URL:https://www.brooklyn.edu/event/undergraduate-open-house/
LOCATION:Brooklyn College Campus
CATEGORIES:Admissions,Admissions, Undergraduate
ATTACH;FMTTYPE=image/jpeg:https://www.brooklyn.edu/wp-content/uploads/CE-230118-Drone-04-4.jpg
ORGANIZER;CN="Admissions%2C Undergraduate":MAILTO:adminqry@brooklyn.cuny.edu
GEO:40.63123;-73.95256
END:VEVENT
BEGIN:VEVENT
DTSTART;TZID=America/New_York:20251015T100000
DTEND;TZID=America/New_York:20251015T104500
DTSTAMP:20260421T111743
CREATED:20250602T135046Z
LAST-MODIFIED:20251008T203300Z
UID:10012919-1760522400-1760525100@www.brooklyn.edu
SUMMARY:Prospective F-1/J-1 Student Information Session
DESCRIPTION:Are you a prospective undergraduate or graduate F-1 or J-1 student planning to apply to Brooklyn College? \nThe Office of International Student and Scholar Services is hosting an online video conference to answer your questions and concerns about attending Brooklyn College as an F-1 student.  \nRegister Now
URL:https://www.brooklyn.edu/event/prospective-f-1-j-1-student-information-session-7/
LOCATION:Online
CATEGORIES:Admissions,Admissions, Graduate,Admissions, International,Admissions, Undergraduate,International Student and Scholar Services
ORGANIZER;CN="International Student and Scholar Services":MAILTO:international@brooklyn.cuny.edu
END:VEVENT
BEGIN:VEVENT
DTSTART;TZID=America/New_York:20251014T180000
DTEND;TZID=America/New_York:20251014T190000
DTSTAMP:20260421T111743
CREATED:20250529T152144Z
LAST-MODIFIED:20250529T152318Z
UID:10012908-1760464800-1760468400@www.brooklyn.edu
SUMMARY:Incoming Graduate Student Information Session
DESCRIPTION:This session is only for admitted graduate students. \nMeet with a Graduate Admissions Counselor virtually to discuss the acceptance process and to answer any questions you may have. \nRegister Now \n 
URL:https://www.brooklyn.edu/event/incoming-graduate-student-information-session-october/
LOCATION:Online
CATEGORIES:Admissions,Admissions, Graduate,Admissions, International
ORGANIZER;CN="Admissions%2C Graduate":MAILTO:grads@brooklyn.cuny.edu
END:VEVENT
BEGIN:VEVENT
DTSTART;TZID=America/New_York:20251009T180000
DTEND;TZID=America/New_York:20251009T190000
DTSTAMP:20260421T111743
CREATED:20251008T203705Z
LAST-MODIFIED:20251008T203742Z
UID:10012914-1760032800-1760036400@www.brooklyn.edu
SUMMARY:Graduate Admissions Information Session
DESCRIPTION:Meet virtually with a representative from Graduate Admissions to learn about Brooklyn College’s graduate programs and discuss the process of applying to graduate school. \nRegister Now \n 
URL:https://www.brooklyn.edu/event/graduate-admissions-information-session-24-2/
LOCATION:Online
CATEGORIES:Admissions,Admissions, Graduate,Admissions, International
ORGANIZER;CN="Admissions%2C Graduate":MAILTO:grads@brooklyn.cuny.edu
END:VEVENT
BEGIN:VEVENT
DTSTART;TZID=America/New_York:20250910T100000
DTEND;TZID=America/New_York:20250910T104500
DTSTAMP:20260421T111743
CREATED:20250602T134959Z
LAST-MODIFIED:20260109T182058Z
UID:10012923-1757498400-1757501100@www.brooklyn.edu
SUMMARY:Prospective F-1/J-1 Student Information Session
DESCRIPTION:Are you a prospective undergraduate or graduate F-1 or J-1 student planning to apply to Brooklyn College? \nThe Office of International Student and Scholar Services is hosting an online video conference to answer your questions and concerns about attending Brooklyn College as an F-1 student.  \nRegister Now
URL:https://www.brooklyn.edu/event/prospective-f-1-j-1-student-information-session-6/
LOCATION:Online
CATEGORIES:Admissions,Admissions, Graduate,Admissions, International,Admissions, Undergraduate,International Student and Scholar Services
ORGANIZER;CN="International Student and Scholar Services":MAILTO:international@brooklyn.cuny.edu
END:VEVENT
BEGIN:VEVENT
DTSTART;TZID=America/New_York:20250910T080000
DTEND;TZID=America/New_York:20250910T170000
DTSTAMP:20260421T111743
CREATED:20250602T134959Z
LAST-MODIFIED:20260109T182058Z
UID:10012922-1757491200-1757523600@www.brooklyn.edu
SUMMARY:Prospective F-1/J-1 Student Information Session
DESCRIPTION:Are you a prospective undergraduate or graduate F-1 or J-1 student planning to apply to Brooklyn College? \nThe Office of International Student and Scholar Services is hosting an online video conference to answer your questions and concerns about attending Brooklyn College as an F-1 student.  \nRegister Now
URL:https://www.brooklyn.edu/event/prospective-f-1-j-1-student-information-session-6/
LOCATION:Online
CATEGORIES:Admissions,Admissions, Graduate,Admissions, International,Admissions, Undergraduate,International Student and Scholar Services
ORGANIZER;CN="International Student and Scholar Services":MAILTO:international@brooklyn.cuny.edu
END:VEVENT
BEGIN:VEVENT
DTSTART;TZID=America/New_York:20250909T180000
DTEND;TZID=America/New_York:20250909T190000
DTSTAMP:20260421T111743
CREATED:20250529T152023Z
LAST-MODIFIED:20250529T152023Z
UID:10012907-1757440800-1757444400@www.brooklyn.edu
SUMMARY:Incoming Graduate Student Information Session
DESCRIPTION:This session is only for admitted graduate students. \nMeet with a Graduate Admissions Counselor virtually to discuss the acceptance process and to answer any questions you may have. \nRegister Now \n 
URL:https://www.brooklyn.edu/event/incoming-graduate-student-information-session-september/
LOCATION:Online
CATEGORIES:Admissions,Admissions, Graduate,Admissions, International
ORGANIZER;CN="Admissions%2C Graduate":MAILTO:grads@brooklyn.cuny.edu
END:VEVENT
BEGIN:VEVENT
DTSTART;TZID=America/New_York:20250909T120000
DTEND;TZID=America/New_York:20250909T130000
DTSTAMP:20260421T111743
CREATED:20250529T154717Z
LAST-MODIFIED:20250529T154717Z
UID:10012917-1757419200-1757422800@www.brooklyn.edu
SUMMARY:Grad School 101
DESCRIPTION:Interested in learning what it takes to submit a successful graduate school application? The Office of Graduate Admissions will be walking interested applicants through the process of creating a successful application. \nRegister Now
URL:https://www.brooklyn.edu/event/grad-school-101-13/
LOCATION:Online
CATEGORIES:Admissions,Admissions, Graduate
ORGANIZER;CN="Admissions%2C Graduate":MAILTO:grads@brooklyn.cuny.edu
END:VEVENT
BEGIN:VEVENT
DTSTART;TZID=America/New_York:20250414T200000
DTEND;TZID=America/New_York:20250414T210000
DTSTAMP:20260421T111743
CREATED:20250318T185948Z
LAST-MODIFIED:20250318T185948Z
UID:10012779-1744660800-1744664400@www.brooklyn.edu
SUMMARY:Reading Science Information Session
DESCRIPTION:Meet with faculty and admissions representatives to discuss the Reading Science\, Advance Certificate programs\, admission requirements\, and the application process. RSVP for Zoom link. \nREGISTER NOW
URL:https://www.brooklyn.edu/event/reading-science-information-session-2/
LOCATION:Online
CATEGORIES:Admissions,Admissions, Graduate,Early Childhood Education/Art Education,School of Education
ORGANIZER;CN="Admissions%2C Graduate":MAILTO:grads@brooklyn.cuny.edu
END:VEVENT
END:VCALENDAR