BEGIN:VCALENDAR
VERSION:2.0
PRODID:-//Brooklyn College - ECPv6.15.12.2//NONSGML v1.0//EN
CALSCALE:GREGORIAN
METHOD:PUBLISH
X-WR-CALNAME:Brooklyn College
X-ORIGINAL-URL:https://www.brooklyn.edu
X-WR-CALDESC:Events for Brooklyn College
REFRESH-INTERVAL;VALUE=DURATION:PT1H
X-Robots-Tag:noindex
X-PUBLISHED-TTL:PT1H
BEGIN:VTIMEZONE
TZID:America/New_York
BEGIN:DAYLIGHT
TZOFFSETFROM:-0500
TZOFFSETTO:-0400
TZNAME:EDT
DTSTART:20250309T070000
END:DAYLIGHT
BEGIN:STANDARD
TZOFFSETFROM:-0400
TZOFFSETTO:-0500
TZNAME:EST
DTSTART:20251102T060000
END:STANDARD
BEGIN:DAYLIGHT
TZOFFSETFROM:-0500
TZOFFSETTO:-0400
TZNAME:EDT
DTSTART:20260308T070000
END:DAYLIGHT
BEGIN:STANDARD
TZOFFSETFROM:-0400
TZOFFSETTO:-0500
TZNAME:EST
DTSTART:20261101T060000
END:STANDARD
BEGIN:DAYLIGHT
TZOFFSETFROM:-0500
TZOFFSETTO:-0400
TZNAME:EDT
DTSTART:20270314T070000
END:DAYLIGHT
BEGIN:STANDARD
TZOFFSETFROM:-0400
TZOFFSETTO:-0500
TZNAME:EST
DTSTART:20271107T060000
END:STANDARD
END:VTIMEZONE
BEGIN:VEVENT
DTSTART;TZID=America/New_York:20260326T180000
DTEND;TZID=America/New_York:20260326T191500
DTSTAMP:20260421T220007
CREATED:20260218T161236Z
LAST-MODIFIED:20260218T161437Z
UID:10014233-1774548000-1774552500@www.brooklyn.edu
SUMMARY:The Asian Caribbean in the Caribbean Diaspora
DESCRIPTION:Join us as we celebrate the publication of Aleah N. Ranjitsingh’s edited volume The Asian Caribbean in the Caribbean Diaspora: Essays on Migration\, Identity\, and Literary and Cultural Representations. The volume expands notions of the Caribbean diaspora to account for the Asian as part of the Caribbean and Caribbean diaspora. Its interdisciplinary chapters center Caribbean people of Chinese\, Indian\, Japanese\, and Javanese descent in and outside of the Caribbean\, reveal migration narratives\, encounters on Caribbean plantations and in diasporic urban centers\, notions of homeland and experiences of return\, family histories\, identity formation and subjectivity\, the ways in which Caribbean people create and convey meaning about these histories\, experiences and self\, and the contributions of Caribbean people of Asian descent to the framing of the Caribbean and Asian diasporas. \nRanjitsingh is an assistant professor in the Africana Studies Department and Caribbean Studies Program. Her research focuses on the Caribbean and the Caribbean diaspora\, and her areas of interest include identity and identity formation\, gender and ethnic identities\, race\, Blackness and mixedness\, and the processes of racialization at “home” in the Caribbean and in the diaspora. She has published in the Journal for Intercultural Studies\, the Caribbean Journal of International Relations and Diplomacy\, and the Caribbean Review of Gender Studies. She is the co-author of Dougla in the 21st Century: Adding to the Mix and the edited collection The Asian Caribbean in the Caribbean Diaspora. Essays on Migration\, Identity\, and Literary and Cultural Representations. \nRanjitsingh will be joined in conversation by volume contributors: \n\nJillian Ollivierre\, a Ph.D. candidate in social anthropology at York University in Toronto. Her dissertation\, provisionally entitled “Jahajin Bundles: Fashioning ‘Global’ Indianness in the Wake of Trinidadian Indenture\,” examines the interwoven material\, affective\, and geopolitical textures of nationalist and diasporic processes in Trinidad\, focusing on the historically gendered commerce and consumption of the imported Indian fashions known locally as “Indian wear.”\nNikoli Attai\, who received his Ph.D. in women and gender studies from the University of Toronto. His most recent book\, Defiant Bodies: Making Queer Community in the Anglophone Caribbean\, was published in 2023. Attai’s broader research focuses on queer experiences in the Anglophone Caribbean beyond notions of disease and violence\, and the need to flee the region.\nSue Ann Barratt\, a lecturer and head at the Institute for Gender and Development Studies\, University of the West Indies\, St. Augustine Campus. She is a scholar of human communication and gendered expression and interaction. Barratt interrogates gender-based violence\, especially as it manifests through social discourse.\nTarika Sankar\, digital humanities librarian at Brown University and a critical scholar of Indo-Caribbean diaspora\, race and ethnic studies\, feminist studies\, and digital humanities. She earned a Ph.D. in English at the University of Miami. Her dissertation project\, “Beyond the Culture Concept: Indo-Caribbean Identity as Diasporic Consciousness\,” received a Mellon/ACLS Dissertation Completion Fellowship.\nCristine Sabrina Khan\, a PRODIG Postdoctoral Fellow in the Department of Sociology at Stony Brook University. Khan is currently working on her book manuscript tentatively titled\, “Racialized Legacies in Localized Identity Politics: Constructing Second-Generation Indo-Caribbean Identity in New York City and Toronto.”
URL:https://www.brooklyn.edu/event/the-asian-caribbean-in-the-caribbean-diaspora/
LOCATION:Online
CATEGORIES:Africana Studies,Caribbean Studies,Ethyle R. Wolfe Institute for the Humanities
ORGANIZER;CN="Ethyle R. Wolfe Institute for the Humanities":MAILTO:wolfe@brooklyn.cuny.edu
END:VEVENT
END:VCALENDAR