BEGIN:VCALENDAR
VERSION:2.0
PRODID:-//Brooklyn College - ECPv6.15.12.2//NONSGML v1.0//EN
CALSCALE:GREGORIAN
METHOD:PUBLISH
X-WR-CALNAME:Brooklyn College
X-ORIGINAL-URL:https://www.brooklyn.edu
X-WR-CALDESC:Events for Brooklyn College
REFRESH-INTERVAL;VALUE=DURATION:PT1H
X-Robots-Tag:noindex
X-PUBLISHED-TTL:PT1H
BEGIN:VTIMEZONE
TZID:America/New_York
BEGIN:DAYLIGHT
TZOFFSETFROM:-0500
TZOFFSETTO:-0400
TZNAME:EDT
DTSTART:20250309T070000
END:DAYLIGHT
BEGIN:STANDARD
TZOFFSETFROM:-0400
TZOFFSETTO:-0500
TZNAME:EST
DTSTART:20251102T060000
END:STANDARD
BEGIN:DAYLIGHT
TZOFFSETFROM:-0500
TZOFFSETTO:-0400
TZNAME:EDT
DTSTART:20260308T070000
END:DAYLIGHT
BEGIN:STANDARD
TZOFFSETFROM:-0400
TZOFFSETTO:-0500
TZNAME:EST
DTSTART:20261101T060000
END:STANDARD
BEGIN:DAYLIGHT
TZOFFSETFROM:-0500
TZOFFSETTO:-0400
TZNAME:EDT
DTSTART:20270314T070000
END:DAYLIGHT
BEGIN:STANDARD
TZOFFSETFROM:-0400
TZOFFSETTO:-0500
TZNAME:EST
DTSTART:20271107T060000
END:STANDARD
END:VTIMEZONE
BEGIN:VEVENT
DTSTART;TZID=America/New_York:20260418T133500
DTEND;TZID=America/New_York:20260418T160000
DTSTAMP:20260419T123837
CREATED:20260302T193507Z
LAST-MODIFIED:20260414T194313Z
UID:10014257-1776519300-1776528000@www.brooklyn.edu
SUMMARY:Brooklyn College Alumni Day at Yankee Stadium
DESCRIPTION:Grab your Brooklyn College pride and your cheers—it’s time for Alumni Day at Yankee Stadium! Join your fellow alumni as the New York Yankees take on the Kansas City Royals. \nBring your family and friends for a day that everyone will enjoy. Come for the baseball; stay for the camaraderie. (We regret that the co-branded Yankees cap is no longer available.)
URL:https://www.brooklyn.edu/event/brooklyn-college-alumni-day-at-yankee-stadium-2/
LOCATION:Off Campus\, 370 Jay Street\, Brooklyn\, NY
CATEGORIES:Alumni,Alumni Engagement
ORGANIZER;CN="Alumni Engagement":MAILTO:alumni@brooklyn.cuny.edu
END:VEVENT
BEGIN:VEVENT
DTSTART;TZID=America/New_York:20260417T190000
DTEND;TZID=America/New_York:20260417T200000
DTSTAMP:20260419T123837
CREATED:20260320T133716Z
LAST-MODIFIED:20260320T133716Z
UID:10014306-1776452400-1776456000@www.brooklyn.edu
SUMMARY:How to Be an Effective Mentor
DESCRIPTION:Discover what it takes to make a meaningful impact as a mentor in this engaging workshop. Learn how to build strong\, supportive relationships; communicate with intention; and guide others in achieving their personal and professional goals. This virtual session provides practical tools to help you become a more confident\, effective mentor while strengthening your own leadership skills.
URL:https://www.brooklyn.edu/event/how-to-be-an-effective-mentor/
LOCATION:Online
CATEGORIES:Alumni,Alumni Engagement
ORGANIZER;CN="Alumni Engagement":MAILTO:alumni@brooklyn.cuny.edu
END:VEVENT
BEGIN:VEVENT
DTSTART;TZID=America/New_York:20260414T190000
DTEND;TZID=America/New_York:20260414T200000
DTSTAMP:20260419T123837
CREATED:20260319T150104Z
LAST-MODIFIED:20260319T150104Z
UID:10014305-1776193200-1776196800@www.brooklyn.edu
SUMMARY:Career Advancement Practice Lab
DESCRIPTION:Put your skills into action in this hands-on workshop designed to help you move your career forward. Through guided exercises and real-time feedback\, you’ll practice key strategies for professional growth—from communicating your value to navigating career opportunities with confidence. This interactive session offers a supportive space to refine your approach and take meaningful steps toward your career goals.
URL:https://www.brooklyn.edu/event/career-advancement-practice-lab/
LOCATION:Online
CATEGORIES:Alumni,Alumni Engagement
ORGANIZER;CN="Alumni Engagement":MAILTO:alumni@brooklyn.cuny.edu
END:VEVENT
BEGIN:VEVENT
DTSTART;TZID=America/New_York:20260410T200000
DTEND;TZID=America/New_York:20260410T210000
DTSTAMP:20260419T123837
CREATED:20260319T135943Z
LAST-MODIFIED:20260319T135943Z
UID:10014304-1775851200-1775854800@www.brooklyn.edu
SUMMARY:Asking for a Raise or Promotion
DESCRIPTION:Ready to take the next step in your career? This workshop will guide you through the process of confidently asking for a raise or promotion. Learn how to assess your value\, build a compelling case\, and approach the conversation with clarity and professionalism. This virtual session equips you with the tools and strategies needed to advocate for your growth and advance your career.
URL:https://www.brooklyn.edu/event/asking-for-a-raise-or-promotion/
LOCATION:Online
CATEGORIES:Alumni,Alumni Engagement
ORGANIZER;CN="Alumni Engagement":MAILTO:alumni@brooklyn.cuny.edu
END:VEVENT
BEGIN:VEVENT
DTSTART;TZID=America/New_York:20260407T190000
DTEND;TZID=America/New_York:20260407T200000
DTSTAMP:20260419T123837
CREATED:20260319T133332Z
LAST-MODIFIED:20260319T133332Z
UID:10014303-1775588400-1775592000@www.brooklyn.edu
SUMMARY:Dealing With Difficult Managers: Real Workplace Scenarios
DESCRIPTION:In this interactive session\, explore practical approaches to navigating challenging relationships with managers using real-world workplace scenarios. Learn how to communicate effectively\, manage conflict with professionalism\, and maintain your confidence in high-pressure situations. This virtual event offers actionable tools to help you strengthen workplace relationships and stay on track toward your career goals.
URL:https://www.brooklyn.edu/event/dealing-with-difficult-managers-real-workplace-scenarios/
LOCATION:Online
CATEGORIES:Alumni,Alumni Engagement
ORGANIZER;CN="Alumni Engagement":MAILTO:alumni@brooklyn.cuny.edu
END:VEVENT
BEGIN:VEVENT
DTSTART;TZID=America/New_York:20260402T190000
DTEND;TZID=America/New_York:20260402T200000
DTSTAMP:20260419T123837
CREATED:20260318T161210Z
LAST-MODIFIED:20260318T161303Z
UID:10014302-1775156400-1775160000@www.brooklyn.edu
SUMMARY:Toxic Boss: Recognizing the Signs and Protecting Your Career
DESCRIPTION:This virtual session empowers professionals to identify the warning signs of toxic workplace leadership and navigate challenging environments with confidence. Learn practical strategies to set boundaries\, protect your professional growth\, and maintain your well-being while advancing your career. \nHosted by the Magner Career Center.
URL:https://www.brooklyn.edu/event/toxic-boss-recognizing-the-signs-and-protecting-your-career/
LOCATION:Online
CATEGORIES:Alumni,Alumni Engagement,Magner Career Center
ORGANIZER;CN="Alumni Engagement":MAILTO:alumni@brooklyn.cuny.edu
END:VEVENT
BEGIN:VEVENT
DTSTART;TZID=America/New_York:20260331T190000
DTEND;TZID=America/New_York:20260331T200000
DTSTAMP:20260419T123837
CREATED:20260204T170031Z
LAST-MODIFIED:20260204T170141Z
UID:10014219-1774983600-1774987200@www.brooklyn.edu
SUMMARY:Ask Anything: Job Fairs\, Networking\, and Recruiters
DESCRIPTION:Have questions? This open Q&A session is your chance to ask anything about job fairs\, networking\, recruiters\, or the job search process—and get real\, honest answers. With alumni career coach Kellie Lindow.
URL:https://www.brooklyn.edu/event/ask-anything-job-fairs-networking-and-recruiters/
LOCATION:Online
CATEGORIES:Alumni,Alumni Engagement
ORGANIZER;CN="Alumni Engagement":MAILTO:alumni@brooklyn.cuny.edu
END:VEVENT
BEGIN:VEVENT
DTSTART;TZID=America/New_York:20260319T190000
DTEND;TZID=America/New_York:20260319T200000
DTSTAMP:20260419T123837
CREATED:20260204T162339Z
LAST-MODIFIED:20260204T162339Z
UID:10014218-1773946800-1773950400@www.brooklyn.edu
SUMMARY:Job Fair Follow-Up
DESCRIPTION:Most people skip this step—don’t be one of them. Learn how (and when) to follow up with recruiters\, what to say in emails and LinkedIn messages\, and how to keep the momentum going. With alumni career coach Kellie Lindow.
URL:https://www.brooklyn.edu/event/job-fair-follow-up/
LOCATION:Online
CATEGORIES:Alumni,Alumni Engagement
ORGANIZER;CN="Alumni Engagement":MAILTO:alumni@brooklyn.cuny.edu
END:VEVENT
BEGIN:VEVENT
DTSTART;TZID=America/New_York:20260319T113000
DTEND;TZID=America/New_York:20260319T143000
DTSTAMP:20260419T123837
CREATED:20260204T180030Z
LAST-MODIFIED:20260204T180030Z
UID:10014220-1773919800-1773930600@www.brooklyn.edu
SUMMARY:Spring Job Fair
DESCRIPTION:Brooklyn College alumni are invited to attend the on-campus job fair with more than 80 employers from all fields.
URL:https://www.brooklyn.edu/event/spring-job-fair/
LOCATION:Student Center\, Room 618\, Gold Room
CATEGORIES:Alumni,Alumni Engagement
ORGANIZER;CN="Alumni Engagement":MAILTO:alumni@brooklyn.cuny.edu
GEO:40.63265;-73.95045
END:VEVENT
BEGIN:VEVENT
DTSTART;TZID=America/New_York:20260318T120000
DTEND;TZID=America/New_York:20260318T140000
DTSTAMP:20260419T123837
CREATED:20250818T181141Z
LAST-MODIFIED:20250818T181141Z
UID:10013027-1773835200-1773842400@www.brooklyn.edu
SUMMARY:Palm Beach County Chapter Lecture
DESCRIPTION:The Brooklyn College Alumni Association / Palm Beach County Chapter invites you to attend this lecture\, an event designed to foster knowledge\, ignite curiosity\, and spark engaging conversation among our community. \nHarvey Leven\, distinguished instructor at the Mellon Center for Hebrew Studies\, will discuss “Israeli History From 1948 to 1967.” \nCanyon Public Library\nCanyon Town Center\n8780 Boynton Beach Boulevard\nBoynton Beach\, Florida
URL:https://www.brooklyn.edu/event/palm-beach-county-chapter-lecture/
CATEGORIES:Alumni,Alumni Engagement
ORGANIZER;CN="Alumni Engagement":MAILTO:alumni@brooklyn.cuny.edu
END:VEVENT
BEGIN:VEVENT
DTSTART;TZID=America/New_York:20260317T190000
DTEND;TZID=America/New_York:20260317T200000
DTSTAMP:20260419T123837
CREATED:20260203T172516Z
LAST-MODIFIED:20260203T172516Z
UID:10014204-1773774000-1773777600@www.brooklyn.edu
SUMMARY:Turning Job Fair Conversations Into Interviews
DESCRIPTION:Talking to recruiters is only step one. Learn how to turn quick conversations into real opportunities—and how to stand out after the job fair ends. With alumni career coach Kellie Lindow.
URL:https://www.brooklyn.edu/event/turning-job-fair-conversations-into-interviews/
LOCATION:Online
CATEGORIES:Alumni,Alumni Engagement
ORGANIZER;CN="Alumni Engagement":MAILTO:alumni@brooklyn.cuny.edu
END:VEVENT
BEGIN:VEVENT
DTSTART;TZID=America/New_York:20260312T190000
DTEND;TZID=America/New_York:20260312T200000
DTSTAMP:20260419T123837
CREATED:20260204T161036Z
LAST-MODIFIED:20260204T161036Z
UID:10014217-1773342000-1773345600@www.brooklyn.edu
SUMMARY:Your 30-Second Pitch: What to Say to Recruiters
DESCRIPTION:You have 30 seconds—make them count. Learn how to clearly introduce yourself\, highlight your strengths\, and spark interest from recruiters without rambling or freezing up. With alumni career coach Kellie Lindow.
URL:https://www.brooklyn.edu/event/your-30-second-pitch-what-to-say-to-recruiters/
LOCATION:Online
CATEGORIES:Alumni,Alumni Engagement
ORGANIZER;CN="Alumni Engagement":MAILTO:alumni@brooklyn.cuny.edu
END:VEVENT
BEGIN:VEVENT
DTSTART;TZID=America/New_York:20260310T190000
DTEND;TZID=America/New_York:20260310T200000
DTSTAMP:20260419T123837
CREATED:20260203T190757Z
LAST-MODIFIED:20260203T190757Z
UID:10014206-1773169200-1773172800@www.brooklyn.edu
SUMMARY:How to Prepare for a Job Fair (So It’s Not Awkward)
DESCRIPTION:Walking into a job fair without a plan is stressful. Learn how to prepare\, what to bring\, what to research\, and how to show up confident and ready to talk to employers. With alumni career coach Kellie Lindow.
URL:https://www.brooklyn.edu/event/how-to-prepare-for-a-job-fair-so-its-not-awkward/
LOCATION:Online
CATEGORIES:Alumni,Alumni Engagement
ORGANIZER;CN="Alumni Engagement":MAILTO:alumni@brooklyn.cuny.edu
END:VEVENT
BEGIN:VEVENT
DTSTART;TZID=America/New_York:20260305T190000
DTEND;TZID=America/New_York:20260305T200000
DTSTAMP:20260419T123837
CREATED:20260203T175816Z
LAST-MODIFIED:20260203T175816Z
UID:10014205-1772737200-1772740800@www.brooklyn.edu
SUMMARY:Networking Scripts That Actually Work
DESCRIPTION:Never know what to say? We’ve got you. Learn simple\, natural networking scripts you can actually use with recruiters\, alumni\, and professionals—without sounding rehearsed. With alumni career coach Kellie Lindow.
URL:https://www.brooklyn.edu/event/networking-scripts-that-actually-work/
LOCATION:Online
CATEGORIES:Alumni,Alumni Engagement
ORGANIZER;CN="Alumni Engagement":MAILTO:alumni@brooklyn.cuny.edu
END:VEVENT
BEGIN:VEVENT
DTSTART;TZID=America/New_York:20260303T190000
DTEND;TZID=America/New_York:20260303T200000
DTSTAMP:20260419T123837
CREATED:20260203T163150Z
LAST-MODIFIED:20260203T163150Z
UID:10014203-1772564400-1772568000@www.brooklyn.edu
SUMMARY:Networking Without Feeling Awkward
DESCRIPTION:Networking doesn’t have to feel forced or fake. Learn how to start conversations\, keep them flowing\, and leave a genuine impression—without the cringe. With alumni career coach Kellie Lindow.
URL:https://www.brooklyn.edu/event/networking-without-feeling-awkward/
LOCATION:Online
CATEGORIES:Alumni,Alumni Engagement
ORGANIZER;CN="Alumni Engagement":MAILTO:alumni@brooklyn.cuny.edu
END:VEVENT
BEGIN:VEVENT
DTSTART;TZID=America/New_York:20260226T190000
DTEND;TZID=America/New_York:20260226T200000
DTSTAMP:20260419T123837
CREATED:20260106T213548Z
LAST-MODIFIED:20260106T213548Z
UID:10014081-1772132400-1772136000@www.brooklyn.edu
SUMMARY:Résumé and LinkedIn Q&A Deep Dive
DESCRIPTION:Hands-on troubleshooting: gaps\, career changes\, multiple résumés\, LinkedIn visibility issues\, and profile fixes. \nJoin the Zoom meeting
URL:https://www.brooklyn.edu/event/resume-and-linkedin-qa-deep-dive/
LOCATION:Online
CATEGORIES:Alumni,Alumni Engagement
ORGANIZER;CN="Alumni Engagement":MAILTO:alumni@brooklyn.cuny.edu
END:VEVENT
BEGIN:VEVENT
DTSTART;TZID=America/New_York:20260224T190000
DTEND;TZID=America/New_York:20260224T200000
DTSTAMP:20260419T123837
CREATED:20260106T210930Z
LAST-MODIFIED:20260106T210930Z
UID:10014080-1771959600-1771963200@www.brooklyn.edu
SUMMARY:Ask Anything: Résumés\, LinkedIn\, and Job Search
DESCRIPTION:No agenda. Bring questions about résumés\, LinkedIn\, applications\, recruiters\, or the job market. \nJoin the Zoom meeting
URL:https://www.brooklyn.edu/event/ask-anything-resumes-linkedin-and-job-search/
LOCATION:Online
CATEGORIES:Alumni,Alumni Engagement
ORGANIZER;CN="Alumni Engagement":MAILTO:alumni@brooklyn.cuny.edu
END:VEVENT
BEGIN:VEVENT
DTSTART;TZID=America/New_York:20260219T190000
DTEND;TZID=America/New_York:20260219T200000
DTSTAMP:20260419T123837
CREATED:20260106T202551Z
LAST-MODIFIED:20260106T202551Z
UID:10014079-1771527600-1771531200@www.brooklyn.edu
SUMMARY:Craft Your Pivot Pitch + Résumé Alignment
DESCRIPTION:Write your pivot pitch live and align résumé bullets to new roles. Practice explaining your transition with confidence. \nJoin the Zoom meeting
URL:https://www.brooklyn.edu/event/craft-your-pivot-pitch-resume-alignment/
LOCATION:Online
CATEGORIES:Alumni,Alumni Engagement
ORGANIZER;CN="Alumni Engagement":MAILTO:alumni@brooklyn.cuny.edu
END:VEVENT
BEGIN:VEVENT
DTSTART;TZID=America/New_York:20260217T190000
DTEND;TZID=America/New_York:20260217T200000
DTSTAMP:20260419T123837
CREATED:20260106T172400Z
LAST-MODIFIED:20260106T172400Z
UID:10014078-1771354800-1771358400@www.brooklyn.edu
SUMMARY:Résumés for Career Changers and Pivots
DESCRIPTION:How to reframe experience\, highlight transferable skills\, and tell a pivot story without starting over. \nJoin the Zoom meeting
URL:https://www.brooklyn.edu/event/resumes-for-career-changers-and-pivots/
LOCATION:Online
CATEGORIES:Alumni,Alumni Engagement
ORGANIZER;CN="Alumni Engagement":MAILTO:alumni@brooklyn.cuny.edu
END:VEVENT
BEGIN:VEVENT
DTSTART;TZID=America/New_York:20260212T190000
DTEND;TZID=America/New_York:20260212T200000
DTSTAMP:20260419T123837
CREATED:20260106T153543Z
LAST-MODIFIED:20260106T153543Z
UID:10014077-1770922800-1770926400@www.brooklyn.edu
SUMMARY:LinkedIn Makeover Lab
DESCRIPTION:Step-by-step optimization of headlines\, About sections\, experience bullets\, and using “Open to Work” strategically. \nJoin the Zoom meeting
URL:https://www.brooklyn.edu/event/linkedin-makeover-lab/
LOCATION:Online
CATEGORIES:Alumni,Alumni Engagement
ORGANIZER;CN="Alumni Engagement":MAILTO:alumni@brooklyn.cuny.edu
END:VEVENT
BEGIN:VEVENT
DTSTART;TZID=America/New_York:20260210T190000
DTEND;TZID=America/New_York:20260210T200000
DTSTAMP:20260419T123837
CREATED:20260106T151256Z
LAST-MODIFIED:20260106T151256Z
UID:10014076-1770750000-1770753600@www.brooklyn.edu
SUMMARY:LinkedIn Isn't Optional Anymore
DESCRIPTION:How recruiters use LinkedIn\, how profiles get found\, what actually drives visibility\, and what to stop spending time on. \nJoin the Zoom meeting
URL:https://www.brooklyn.edu/event/linkedin-isnt-optional-anymore/
LOCATION:Online
CATEGORIES:Alumni,Alumni Engagement
ORGANIZER;CN="Alumni Engagement":MAILTO:alumni@brooklyn.cuny.edu
END:VEVENT
BEGIN:VEVENT
DTSTART;TZID=America/New_York:20260205T190000
DTEND;TZID=America/New_York:20260205T200000
DTSTAMP:20260419T123837
CREATED:20260106T143710Z
LAST-MODIFIED:20260106T143710Z
UID:10014075-1770318000-1770321600@www.brooklyn.edu
SUMMARY:Résumé Workshop: Fix It Live
DESCRIPTION:Live résumé edits\, bullet rewrites\, achievement framing\, and before/after examples. Bring your résumé\, or just observe and learn. \nJoin the Zoom meeting
URL:https://www.brooklyn.edu/event/resume-workshop-fix-it-live/
LOCATION:Online
CATEGORIES:Alumni,Alumni Engagement
ORGANIZER;CN="Alumni Engagement":MAILTO:alumni@brooklyn.cuny.edu
END:VEVENT
BEGIN:VEVENT
DTSTART;TZID=America/New_York:20260203T190000
DTEND;TZID=America/New_York:20260203T200000
DTSTAMP:20260419T123837
CREATED:20260105T200748Z
LAST-MODIFIED:20260105T200748Z
UID:10014074-1770145200-1770148800@www.brooklyn.edu
SUMMARY:Résumé Reality Check: What Recruiters Actually Read
DESCRIPTION:What really matters in the first six to 10 seconds\, common résumé myths\, Applicant Tracking Systems (ATS) truth versus fiction\, and how recruiters decide who moves forward. \nJoin the Zoom meeting
URL:https://www.brooklyn.edu/event/resume-reality-check-what-recruiters-actually-read/
LOCATION:Online
CATEGORIES:Alumni,Alumni Engagement
ORGANIZER;CN="Alumni Engagement":MAILTO:alumni@brooklyn.cuny.edu
END:VEVENT
BEGIN:VEVENT
DTSTART;TZID=America/New_York:20260201T150000
DTEND;TZID=America/New_York:20260201T170000
DTSTAMP:20260419T123837
CREATED:20250821T145858Z
LAST-MODIFIED:20250821T145858Z
UID:10013033-1769958000-1769965200@www.brooklyn.edu
SUMMARY:Special Disney on Ice Offer for Alumni
DESCRIPTION:Disney on Ice presents Mickey’s Search Party at Barclays Center. Join Mickey Mouse and friends on an action-packed adventure filled with acrobatics\, stunts\, and all your favorite Disney characters brought to life on the ice. \nThis exclusive alumni discount is part of your Brooklyn College alumni benefits—don’t miss out on this fun-filled experience for the whole family. Use code “BROOKLYNCOLLEGE” to purchase your discount tickets here.
URL:https://www.brooklyn.edu/event/special-disney-on-ice-offer-for-alumni/2026-02-01/2/
CATEGORIES:Alumni,Alumni Engagement
ORGANIZER;CN="Alumni Engagement":MAILTO:alumni@brooklyn.cuny.edu
END:VEVENT
BEGIN:VEVENT
DTSTART;TZID=America/New_York:20260201T110000
DTEND;TZID=America/New_York:20260201T130000
DTSTAMP:20260419T123837
CREATED:20250821T145858Z
LAST-MODIFIED:20250821T145858Z
UID:10013032-1769943600-1769950800@www.brooklyn.edu
SUMMARY:Special Disney on Ice Offer for Alumni
DESCRIPTION:Disney on Ice presents Mickey’s Search Party at Barclays Center. Join Mickey Mouse and friends on an action-packed adventure filled with acrobatics\, stunts\, and all your favorite Disney characters brought to life on the ice. \nThis exclusive alumni discount is part of your Brooklyn College alumni benefits—don’t miss out on this fun-filled experience for the whole family. Use code “BROOKLYNCOLLEGE” to purchase your discount tickets here.
URL:https://www.brooklyn.edu/event/special-disney-on-ice-offer-for-alumni/2026-02-01/1/
CATEGORIES:Alumni,Alumni Engagement
ORGANIZER;CN="Alumni Engagement":MAILTO:alumni@brooklyn.cuny.edu
END:VEVENT
BEGIN:VEVENT
DTSTART;TZID=America/New_York:20260131T190000
DTEND;TZID=America/New_York:20260131T210000
DTSTAMP:20260419T123837
CREATED:20250821T145858Z
LAST-MODIFIED:20250821T145858Z
UID:10013031-1769886000-1769893200@www.brooklyn.edu
SUMMARY:Special Disney on Ice Offer for Alumni
DESCRIPTION:Disney on Ice presents Mickey’s Search Party at Barclays Center. Join Mickey Mouse and friends on an action-packed adventure filled with acrobatics\, stunts\, and all your favorite Disney characters brought to life on the ice. \nThis exclusive alumni discount is part of your Brooklyn College alumni benefits—don’t miss out on this fun-filled experience for the whole family. Use code “BROOKLYNCOLLEGE” to purchase your discount tickets here.
URL:https://www.brooklyn.edu/event/special-disney-on-ice-offer-for-alumni/2026-01-31/
CATEGORIES:Alumni,Alumni Engagement
ORGANIZER;CN="Alumni Engagement":MAILTO:alumni@brooklyn.cuny.edu
END:VEVENT
BEGIN:VEVENT
DTSTART;TZID=America/New_York:20260130T190000
DTEND;TZID=America/New_York:20260130T210000
DTSTAMP:20260419T123837
CREATED:20250821T145858Z
LAST-MODIFIED:20250821T145858Z
UID:10013030-1769799600-1769806800@www.brooklyn.edu
SUMMARY:Special Disney on Ice Offer for Alumni
DESCRIPTION:Disney on Ice presents Mickey’s Search Party at Barclays Center. Join Mickey Mouse and friends on an action-packed adventure filled with acrobatics\, stunts\, and all your favorite Disney characters brought to life on the ice. \nThis exclusive alumni discount is part of your Brooklyn College alumni benefits—don’t miss out on this fun-filled experience for the whole family. Use code “BROOKLYNCOLLEGE” to purchase your discount tickets here.
URL:https://www.brooklyn.edu/event/special-disney-on-ice-offer-for-alumni/2026-01-30/2/
CATEGORIES:Alumni,Alumni Engagement
ORGANIZER;CN="Alumni Engagement":MAILTO:alumni@brooklyn.cuny.edu
END:VEVENT
BEGIN:VEVENT
DTSTART;TZID=America/New_York:20260130T110000
DTEND;TZID=America/New_York:20260130T130000
DTSTAMP:20260419T123837
CREATED:20250821T145858Z
LAST-MODIFIED:20250821T145858Z
UID:10013029-1769770800-1769778000@www.brooklyn.edu
SUMMARY:Special Disney on Ice Offer for Alumni
DESCRIPTION:Disney on Ice presents Mickey’s Search Party at Barclays Center. Join Mickey Mouse and friends on an action-packed adventure filled with acrobatics\, stunts\, and all your favorite Disney characters brought to life on the ice. \nThis exclusive alumni discount is part of your Brooklyn College alumni benefits—don’t miss out on this fun-filled experience for the whole family. Use code “BROOKLYNCOLLEGE” to purchase your discount tickets here.
URL:https://www.brooklyn.edu/event/special-disney-on-ice-offer-for-alumni/2026-01-30/1/
CATEGORIES:Alumni,Alumni Engagement
ORGANIZER;CN="Alumni Engagement":MAILTO:alumni@brooklyn.cuny.edu
END:VEVENT
BEGIN:VEVENT
DTSTART;TZID=America/New_York:20260129T190000
DTEND;TZID=America/New_York:20260129T210000
DTSTAMP:20260419T123837
CREATED:20250821T145858Z
LAST-MODIFIED:20250821T145858Z
UID:10013028-1769713200-1769720400@www.brooklyn.edu
SUMMARY:Special Disney on Ice Offer for Alumni
DESCRIPTION:Disney on Ice presents Mickey’s Search Party at Barclays Center. Join Mickey Mouse and friends on an action-packed adventure filled with acrobatics\, stunts\, and all your favorite Disney characters brought to life on the ice. \nThis exclusive alumni discount is part of your Brooklyn College alumni benefits—don’t miss out on this fun-filled experience for the whole family. Use code “BROOKLYNCOLLEGE” to purchase your discount tickets here.
URL:https://www.brooklyn.edu/event/special-disney-on-ice-offer-for-alumni/2026-01-29/
CATEGORIES:Alumni,Alumni Engagement
ORGANIZER;CN="Alumni Engagement":MAILTO:alumni@brooklyn.cuny.edu
END:VEVENT
BEGIN:VEVENT
DTSTART;TZID=America/New_York:20260121T183000
DTEND;TZID=America/New_York:20260121T200000
DTSTAMP:20260419T123837
CREATED:20251118T180749Z
LAST-MODIFIED:20260407T192124Z
UID:10014017-1769020200-1769025600@www.brooklyn.edu
SUMMARY:Careers in AI Virtual Panel
DESCRIPTION:Learn from Brooklyn College alumni how you can find success in an increasingly AI world. Three alumni panelists who work in the field join us to discuss AI-centered careers and how you can navigate them. \nPanelists \nPawel Walczuk ’10\, Managing Director\, Accenture and Brooklyn College Foundation Trustee \nRafi Lazerson ’16\, Responsible AI Associate Manager\, Accenture \nSoribel Feliz ’09\, AI Governance and AI Risk Management LinkedIn Instructor and Team Member \nThis event is open to students and alumni. If you’re interested in how AI is being used in today’s workforce\, be sure to register. It will be a panel format. \nThis event is co-sponsored by the Office of Alumni Engagement\, Brooklyn College Honors Academy\, Wolfe Institute\, Political Science Department\, and Computer Science Club.
URL:https://www.brooklyn.edu/event/careers-in-ai-virtual-panel/
LOCATION:Online
CATEGORIES:Alumni,Alumni Engagement,Computer and Information Science,Ethyle R. Wolfe Institute for the Humanities,Honors Academy,Political Science,Undergraduate
ORGANIZER;CN="Alumni Engagement":MAILTO:alumni@brooklyn.cuny.edu
END:VEVENT
END:VCALENDAR