BEGIN:VCALENDAR
VERSION:2.0
PRODID:-//Brooklyn College - ECPv6.15.12.2//NONSGML v1.0//EN
CALSCALE:GREGORIAN
METHOD:PUBLISH
X-ORIGINAL-URL:https://www.brooklyn.edu
X-WR-CALDESC:Events for Brooklyn College
REFRESH-INTERVAL;VALUE=DURATION:PT1H
X-Robots-Tag:noindex
X-PUBLISHED-TTL:PT1H
BEGIN:VTIMEZONE
TZID:America/New_York
BEGIN:DAYLIGHT
TZOFFSETFROM:-0500
TZOFFSETTO:-0400
TZNAME:EDT
DTSTART:20250309T070000
END:DAYLIGHT
BEGIN:STANDARD
TZOFFSETFROM:-0400
TZOFFSETTO:-0500
TZNAME:EST
DTSTART:20251102T060000
END:STANDARD
BEGIN:DAYLIGHT
TZOFFSETFROM:-0500
TZOFFSETTO:-0400
TZNAME:EDT
DTSTART:20260308T070000
END:DAYLIGHT
BEGIN:STANDARD
TZOFFSETFROM:-0400
TZOFFSETTO:-0500
TZNAME:EST
DTSTART:20261101T060000
END:STANDARD
BEGIN:DAYLIGHT
TZOFFSETFROM:-0500
TZOFFSETTO:-0400
TZNAME:EDT
DTSTART:20270314T070000
END:DAYLIGHT
BEGIN:STANDARD
TZOFFSETFROM:-0400
TZOFFSETTO:-0500
TZNAME:EST
DTSTART:20271107T060000
END:STANDARD
END:VTIMEZONE
BEGIN:VEVENT
DTSTART;TZID=America/New_York:20260421T150000
DTEND;TZID=America/New_York:20260421T170000
DTSTAMP:20260419T105909
CREATED:20260325T195139Z
LAST-MODIFIED:20260325T195139Z
UID:10014322-1776783600-1776790800@www.brooklyn.edu
SUMMARY:BCAA Post 50th Alumni Event
DESCRIPTION:Join us to commemorate the reunion of you and your fellow alumni celebrating milestone anniversaries of graduation\, including the Classes of 1940 (85th)\, 1945 (80th)\, 1950 (75th)\, 1955 (70th)\, 1960 (65th)\, 1965 (60th)\, and 1970 (55th). \nThis event will include the presentation of BCAA Lifetime Achievement Awards and the Milton Fisher ’38 Second Harvest Award. \nAll alumni who graduated more than 50 years ago are warmly welcome to attend. \nWe look forward to reconnecting\, reminiscing\, and celebrating with you!
URL:https://www.brooklyn.edu/event/bcaa-post-50th-alumni-event/
LOCATION:Online
CATEGORIES:Alumni,Alumni Engagement
ORGANIZER;CN="Alumni Engagement":MAILTO:alumni@brooklyn.cuny.edu
END:VEVENT
BEGIN:VEVENT
DTSTART;TZID=America/New_York:20260421T190000
DTEND;TZID=America/New_York:20260421T200000
DTSTAMP:20260419T105909
CREATED:20260320T154233Z
LAST-MODIFIED:20260320T154233Z
UID:10014307-1776798000-1776801600@www.brooklyn.edu
SUMMARY:Balancing Career and Life
DESCRIPTION:Struggling to juggle professional responsibilities and personal priorities? This workshop offers practical strategies to help you create a healthier\, more sustainable balance between your career and everyday life. Learn how to set boundaries\, manage your time effectively\, and prioritize what matters most. This virtual session is designed to support your well-being while keeping your career on track.
URL:https://www.brooklyn.edu/event/balancing-career-and-life/
LOCATION:Online
CATEGORIES:Alumni,Alumni Engagement
ORGANIZER;CN="Alumni Engagement":MAILTO:alumni@brooklyn.cuny.edu
END:VEVENT
BEGIN:VEVENT
DTSTART;TZID=America/New_York:20260422T110000
DTEND;TZID=America/New_York:20260422T140000
DTSTAMP:20260419T105909
CREATED:20260204T181027Z
LAST-MODIFIED:20260204T181027Z
UID:10014221-1776855600-1776866400@www.brooklyn.edu
SUMMARY:HireNewYork Multi-University Alumni Career Fair 2026
DESCRIPTION:Brooklyn College alumni are invited to attend the HireNewYork Multi-University Alumni Career Fair\, a free\, in-person event connecting job seekers with employers from a wide range of industries. Registration is required. \nThe fair will be held at the Prince George Ballroom\, 15 East 27th Street\, Manhattan.
URL:https://www.brooklyn.edu/event/hirenewyork-multi-university-alumni-career-fair-2026/
CATEGORIES:Alumni,Alumni Engagement
ORGANIZER;CN="Alumni Engagement":MAILTO:alumni@brooklyn.cuny.edu
END:VEVENT
BEGIN:VEVENT
DTSTART;TZID=America/New_York:20260424T190000
DTEND;TZID=America/New_York:20260424T200000
DTSTAMP:20260419T105909
CREATED:20260415T141636Z
LAST-MODIFIED:20260415T141724Z
UID:10014348-1777057200-1777060800@www.brooklyn.edu
SUMMARY:Preventing Burnout and Managing Career Stress
DESCRIPTION:Join us for this Brooklyn College Alumni Career Workshop and learn practical strategies to stay balanced\, focused\, and resilient in your career.
URL:https://www.brooklyn.edu/event/preventing-burnout-and-managing-career-stress/
LOCATION:Online
CATEGORIES:Alumni,Alumni Engagement
ORGANIZER;CN="Alumni Engagement":MAILTO:alumni@brooklyn.cuny.edu
END:VEVENT
BEGIN:VEVENT
DTSTART;TZID=America/New_York:20260428T123000
DTEND;TZID=America/New_York:20260428T140000
DTSTAMP:20260419T105909
CREATED:20260225T174212Z
LAST-MODIFIED:20260331T142908Z
UID:10014250-1777379400-1777384800@www.brooklyn.edu
SUMMARY:Nil Sine Magno Labore: Brooklyn College Immigrants' Personal and Professional Success Stories
DESCRIPTION:The Immigrant Student Success Office\, in partnership with the Magner Career Center and the Office of Alumni Engagement\, invites you to a special career panel designed to support undocumented and immigrant students as they explore professional pathways and opportunities. \nThe panel will feature alumni speakers Daniel Menendez ’08 and Kelly D. Harry ’15\, who will share their professional journeys\, insights\, and advice with immigrant students. This engaging conversation will highlight lived experiences and practical guidance for navigating today’s workforce. \nThe panel will provide a supportive space to discuss potential pathways across industries\, learn strategies for navigating the job search process as immigrants\, and build confidence while expanding professional networks. \nWhether you are beginning to consider your career options or preparing to enter the workforce\, this event offers an empowering opportunity to connect\, ask questions\, and gain insights from alumni and campus partners committed to your success.
URL:https://www.brooklyn.edu/event/nil-sine-magno-labore-brooklyn-college-immigrants-personal-and-professional-success-stories/
LOCATION:James Hall\, Room 1309
CATEGORIES:Alumni Engagement,Immigrant Student Success Office,Magner Career Center
GEO:40.63193;-73.95352
END:VEVENT
BEGIN:VEVENT
DTSTART;TZID=America/New_York:20260428T190000
DTEND;TZID=America/New_York:20260428T200000
DTSTAMP:20260419T105909
CREATED:20260320T181449Z
LAST-MODIFIED:20260320T181449Z
UID:10014308-1777402800-1777406400@www.brooklyn.edu
SUMMARY:Open Forum: Questions About Résumés\, Interviewing\, Networking\, or Anything Else
DESCRIPTION:Have questions about your job search or career next steps? This open forum offers a flexible\, supportive space to get expert guidance on résumés\, interviewing\, networking\, and more. Bring your questions and gain practical advice tailored to your goals. This interactive session is a great opportunity to connect\, learn\, and leave with actionable insights.
URL:https://www.brooklyn.edu/event/open-forum-questions-about-resumes-interviewing-networking-or-anything-else/
LOCATION:Online
CATEGORIES:Alumni,Alumni Engagement
ORGANIZER;CN="Alumni Engagement":MAILTO:alumni@brooklyn.cuny.edu
END:VEVENT
BEGIN:VEVENT
DTSTART;TZID=America/New_York:20260507T180000
DTEND;TZID=America/New_York:20260507T210000
DTSTAMP:20260419T105909
CREATED:20260120T183252Z
LAST-MODIFIED:20260120T183358Z
UID:10014118-1778176800-1778187600@www.brooklyn.edu
SUMMARY:Brooklyn College Student\, Alumni\, and Employer Networking Night
DESCRIPTION:At this networking event\, 100 to 150 alumni and students will mix and mingle to discuss career interests. We will have about 50 alumni representing a wide range of careers across the five Brooklyn College schools. Students can explore various careers or learn more about a career they are already interested in. Priority will be given to 2024\, 2025\, and 2026 undergraduate and graduate students. \nMore information will be provided after you RSVP. \nStudent RSVP \nAlumni RSVP
URL:https://www.brooklyn.edu/event/brooklyn-college-student-alumni-and-employer-networking-night/
LOCATION:Student Center
CATEGORIES:Alumni,Alumni Engagement,Graduate,Undergraduate
ORGANIZER;CN="Alumni Engagement":MAILTO:alumni@brooklyn.cuny.edu
GEO:40.63265;-73.95045
END:VEVENT
BEGIN:VEVENT
DTSTART;TZID=America/New_York:20260527T110000
DTEND;TZID=America/New_York:20260527T140000
DTSTAMP:20260419T105909
CREATED:20260219T170934Z
LAST-MODIFIED:20260219T172355Z
UID:10014236-1779879600-1779890400@www.brooklyn.edu
SUMMARY:Class of 1976—Day 1: 50th Reunion Luncheon
DESCRIPTION:Brooklyn College warmly invites the Class of 1976 to an unforgettable two-day celebration of 50 years of memories and friendships. \nDay 1 features a full day of on-campus activities designed for reconnecting\, reminiscing\, and celebrating the bonds that have lasted five decades.
URL:https://www.brooklyn.edu/event/class-of-1976-day-1-50th-reunion-luncheon/
LOCATION:Student Center\, Room 618\, Gold Room
CATEGORIES:Alumni,Alumni Engagement
ORGANIZER;CN="Alumni Engagement":MAILTO:alumni@brooklyn.cuny.edu
GEO:40.63265;-73.95045
END:VEVENT
BEGIN:VEVENT
DTSTART;TZID=America/New_York:20260528T080000
DTEND;TZID=America/New_York:20260528T130000
DTSTAMP:20260419T105909
CREATED:20260219T171613Z
LAST-MODIFIED:20260219T172218Z
UID:10014237-1779955200-1779973200@www.brooklyn.edu
SUMMARY:Class of 1976—Day 2: Commencement
DESCRIPTION:Brooklyn College warmly invites the Class of 1976 to an unforgettable two-day celebration of 50 years of memories and friendships. \nOn Day 2\, join your fellow classmates at Barclays Center to celebrate Commencement alongside the graduates of the Class of 2026! Mark 50 years since your own graduation\, dressed in a stunning gold cap and gown\, and enjoy front-row seats as you relive the excitement and magic of your special day—an unforgettable celebration you won’t want to miss.
URL:https://www.brooklyn.edu/event/class-of-1976-day-2-commencement/
LOCATION:Barclays Center\, 620 Atlantic Ave\, Brooklyn\, NY\, 11217
CATEGORIES:Alumni,Alumni Engagement
ORGANIZER;CN="Alumni Engagement":MAILTO:alumni@brooklyn.cuny.edu
GEO:40.6826465;-73.9754156
X-APPLE-STRUCTURED-LOCATION;VALUE=URI;X-ADDRESS=Barclays Center 620 Atlantic Ave Brooklyn NY 11217;X-APPLE-RADIUS=500;X-TITLE=620 Atlantic Ave:geo:-73.9754156,40.6826465
END:VEVENT
BEGIN:VEVENT
DTSTART;TZID=America/New_York:20260618T180000
DTEND;TZID=America/New_York:20260618T200000
DTSTAMP:20260419T105909
CREATED:20260316T170103Z
LAST-MODIFIED:20260316T170103Z
UID:10014288-1781805600-1781812800@www.brooklyn.edu
SUMMARY:Brooklyn College Alumni Mixer: Classes 2005–25
DESCRIPTION:Feeling nostalgic? Come stroll down memory lane with us! The Office of Alumni Engagement invites alumni from 2005 to 2025 to an evening of revisiting memories\, catching up with classmates and familiar faces\, and celebrating moments that shaped your Brooklyn College journey. \nEnjoy appetizers and nonalcoholic drinks; a cash bar will be available for alcoholic beverages. Test your Brooklyn College knowledge for a chance to win a prize\, and expand your network while soaking in the nostalgia! \nThe mixer will be held at Da Nonna Rosa\, 140 7th Avenue\, Brooklyn. \n* Tickets are $15. Registration is required\, as there is limited space.
URL:https://www.brooklyn.edu/event/brooklyn-college-alumni-mixer-classes-2005-25/
LOCATION:Off Campus\, 370 Jay Street\, Brooklyn\, NY
CATEGORIES:Alumni,Alumni Engagement
ORGANIZER;CN="Alumni Engagement":MAILTO:alumni@brooklyn.cuny.edu
END:VEVENT
END:VCALENDAR