BEGIN:VCALENDAR
VERSION:2.0
PRODID:-//Brooklyn College - ECPv6.15.12.2//NONSGML v1.0//EN
CALSCALE:GREGORIAN
METHOD:PUBLISH
X-WR-CALNAME:Brooklyn College
X-ORIGINAL-URL:https://www.brooklyn.edu
X-WR-CALDESC:Events for Brooklyn College
REFRESH-INTERVAL;VALUE=DURATION:PT1H
X-Robots-Tag:noindex
X-PUBLISHED-TTL:PT1H
BEGIN:VTIMEZONE
TZID:America/New_York
BEGIN:DAYLIGHT
TZOFFSETFROM:-0500
TZOFFSETTO:-0400
TZNAME:EDT
DTSTART:20240310T070000
END:DAYLIGHT
BEGIN:STANDARD
TZOFFSETFROM:-0400
TZOFFSETTO:-0500
TZNAME:EST
DTSTART:20241103T060000
END:STANDARD
BEGIN:DAYLIGHT
TZOFFSETFROM:-0500
TZOFFSETTO:-0400
TZNAME:EDT
DTSTART:20250309T070000
END:DAYLIGHT
BEGIN:STANDARD
TZOFFSETFROM:-0400
TZOFFSETTO:-0500
TZNAME:EST
DTSTART:20251102T060000
END:STANDARD
BEGIN:DAYLIGHT
TZOFFSETFROM:-0500
TZOFFSETTO:-0400
TZNAME:EDT
DTSTART:20260308T070000
END:DAYLIGHT
BEGIN:STANDARD
TZOFFSETFROM:-0400
TZOFFSETTO:-0500
TZNAME:EST
DTSTART:20261101T060000
END:STANDARD
BEGIN:DAYLIGHT
TZOFFSETFROM:-0500
TZOFFSETTO:-0400
TZNAME:EDT
DTSTART:20270314T070000
END:DAYLIGHT
BEGIN:STANDARD
TZOFFSETFROM:-0400
TZOFFSETTO:-0500
TZNAME:EST
DTSTART:20271107T060000
END:STANDARD
END:VTIMEZONE
BEGIN:VEVENT
DTSTART;TZID=America/New_York:20260210T190000
DTEND;TZID=America/New_York:20260210T200000
DTSTAMP:20260419T160434
CREATED:20260106T151256Z
LAST-MODIFIED:20260106T151256Z
UID:10014076-1770750000-1770753600@www.brooklyn.edu
SUMMARY:LinkedIn Isn't Optional Anymore
DESCRIPTION:How recruiters use LinkedIn\, how profiles get found\, what actually drives visibility\, and what to stop spending time on. \nJoin the Zoom meeting
URL:https://www.brooklyn.edu/event/linkedin-isnt-optional-anymore/
LOCATION:Online
CATEGORIES:Alumni,Alumni Engagement
ORGANIZER;CN="Alumni Engagement":MAILTO:alumni@brooklyn.cuny.edu
END:VEVENT
BEGIN:VEVENT
DTSTART;TZID=America/New_York:20260205T190000
DTEND;TZID=America/New_York:20260205T200000
DTSTAMP:20260419T160434
CREATED:20260106T143710Z
LAST-MODIFIED:20260106T143710Z
UID:10014075-1770318000-1770321600@www.brooklyn.edu
SUMMARY:Résumé Workshop: Fix It Live
DESCRIPTION:Live résumé edits\, bullet rewrites\, achievement framing\, and before/after examples. Bring your résumé\, or just observe and learn. \nJoin the Zoom meeting
URL:https://www.brooklyn.edu/event/resume-workshop-fix-it-live/
LOCATION:Online
CATEGORIES:Alumni,Alumni Engagement
ORGANIZER;CN="Alumni Engagement":MAILTO:alumni@brooklyn.cuny.edu
END:VEVENT
BEGIN:VEVENT
DTSTART;TZID=America/New_York:20260203T190000
DTEND;TZID=America/New_York:20260203T200000
DTSTAMP:20260419T160434
CREATED:20260105T200748Z
LAST-MODIFIED:20260105T200748Z
UID:10014074-1770145200-1770148800@www.brooklyn.edu
SUMMARY:Résumé Reality Check: What Recruiters Actually Read
DESCRIPTION:What really matters in the first six to 10 seconds\, common résumé myths\, Applicant Tracking Systems (ATS) truth versus fiction\, and how recruiters decide who moves forward. \nJoin the Zoom meeting
URL:https://www.brooklyn.edu/event/resume-reality-check-what-recruiters-actually-read/
LOCATION:Online
CATEGORIES:Alumni,Alumni Engagement
ORGANIZER;CN="Alumni Engagement":MAILTO:alumni@brooklyn.cuny.edu
END:VEVENT
BEGIN:VEVENT
DTSTART;TZID=America/New_York:20260201T150000
DTEND;TZID=America/New_York:20260201T170000
DTSTAMP:20260419T160434
CREATED:20250821T145858Z
LAST-MODIFIED:20250821T145858Z
UID:10013033-1769958000-1769965200@www.brooklyn.edu
SUMMARY:Special Disney on Ice Offer for Alumni
DESCRIPTION:Disney on Ice presents Mickey’s Search Party at Barclays Center. Join Mickey Mouse and friends on an action-packed adventure filled with acrobatics\, stunts\, and all your favorite Disney characters brought to life on the ice. \nThis exclusive alumni discount is part of your Brooklyn College alumni benefits—don’t miss out on this fun-filled experience for the whole family. Use code “BROOKLYNCOLLEGE” to purchase your discount tickets here.
URL:https://www.brooklyn.edu/event/special-disney-on-ice-offer-for-alumni/2026-02-01/2/
CATEGORIES:Alumni,Alumni Engagement
ORGANIZER;CN="Alumni Engagement":MAILTO:alumni@brooklyn.cuny.edu
END:VEVENT
BEGIN:VEVENT
DTSTART;TZID=America/New_York:20260201T110000
DTEND;TZID=America/New_York:20260201T130000
DTSTAMP:20260419T160434
CREATED:20250821T145858Z
LAST-MODIFIED:20250821T145858Z
UID:10013032-1769943600-1769950800@www.brooklyn.edu
SUMMARY:Special Disney on Ice Offer for Alumni
DESCRIPTION:Disney on Ice presents Mickey’s Search Party at Barclays Center. Join Mickey Mouse and friends on an action-packed adventure filled with acrobatics\, stunts\, and all your favorite Disney characters brought to life on the ice. \nThis exclusive alumni discount is part of your Brooklyn College alumni benefits—don’t miss out on this fun-filled experience for the whole family. Use code “BROOKLYNCOLLEGE” to purchase your discount tickets here.
URL:https://www.brooklyn.edu/event/special-disney-on-ice-offer-for-alumni/2026-02-01/1/
CATEGORIES:Alumni,Alumni Engagement
ORGANIZER;CN="Alumni Engagement":MAILTO:alumni@brooklyn.cuny.edu
END:VEVENT
BEGIN:VEVENT
DTSTART;TZID=America/New_York:20260131T190000
DTEND;TZID=America/New_York:20260131T210000
DTSTAMP:20260419T160434
CREATED:20250821T145858Z
LAST-MODIFIED:20250821T145858Z
UID:10013031-1769886000-1769893200@www.brooklyn.edu
SUMMARY:Special Disney on Ice Offer for Alumni
DESCRIPTION:Disney on Ice presents Mickey’s Search Party at Barclays Center. Join Mickey Mouse and friends on an action-packed adventure filled with acrobatics\, stunts\, and all your favorite Disney characters brought to life on the ice. \nThis exclusive alumni discount is part of your Brooklyn College alumni benefits—don’t miss out on this fun-filled experience for the whole family. Use code “BROOKLYNCOLLEGE” to purchase your discount tickets here.
URL:https://www.brooklyn.edu/event/special-disney-on-ice-offer-for-alumni/2026-01-31/
CATEGORIES:Alumni,Alumni Engagement
ORGANIZER;CN="Alumni Engagement":MAILTO:alumni@brooklyn.cuny.edu
END:VEVENT
BEGIN:VEVENT
DTSTART;TZID=America/New_York:20260130T190000
DTEND;TZID=America/New_York:20260130T210000
DTSTAMP:20260419T160434
CREATED:20250821T145858Z
LAST-MODIFIED:20250821T145858Z
UID:10013030-1769799600-1769806800@www.brooklyn.edu
SUMMARY:Special Disney on Ice Offer for Alumni
DESCRIPTION:Disney on Ice presents Mickey’s Search Party at Barclays Center. Join Mickey Mouse and friends on an action-packed adventure filled with acrobatics\, stunts\, and all your favorite Disney characters brought to life on the ice. \nThis exclusive alumni discount is part of your Brooklyn College alumni benefits—don’t miss out on this fun-filled experience for the whole family. Use code “BROOKLYNCOLLEGE” to purchase your discount tickets here.
URL:https://www.brooklyn.edu/event/special-disney-on-ice-offer-for-alumni/2026-01-30/2/
CATEGORIES:Alumni,Alumni Engagement
ORGANIZER;CN="Alumni Engagement":MAILTO:alumni@brooklyn.cuny.edu
END:VEVENT
BEGIN:VEVENT
DTSTART;TZID=America/New_York:20260130T110000
DTEND;TZID=America/New_York:20260130T130000
DTSTAMP:20260419T160434
CREATED:20250821T145858Z
LAST-MODIFIED:20250821T145858Z
UID:10013029-1769770800-1769778000@www.brooklyn.edu
SUMMARY:Special Disney on Ice Offer for Alumni
DESCRIPTION:Disney on Ice presents Mickey’s Search Party at Barclays Center. Join Mickey Mouse and friends on an action-packed adventure filled with acrobatics\, stunts\, and all your favorite Disney characters brought to life on the ice. \nThis exclusive alumni discount is part of your Brooklyn College alumni benefits—don’t miss out on this fun-filled experience for the whole family. Use code “BROOKLYNCOLLEGE” to purchase your discount tickets here.
URL:https://www.brooklyn.edu/event/special-disney-on-ice-offer-for-alumni/2026-01-30/1/
CATEGORIES:Alumni,Alumni Engagement
ORGANIZER;CN="Alumni Engagement":MAILTO:alumni@brooklyn.cuny.edu
END:VEVENT
BEGIN:VEVENT
DTSTART;TZID=America/New_York:20260129T190000
DTEND;TZID=America/New_York:20260129T210000
DTSTAMP:20260419T160434
CREATED:20250821T145858Z
LAST-MODIFIED:20250821T145858Z
UID:10013028-1769713200-1769720400@www.brooklyn.edu
SUMMARY:Special Disney on Ice Offer for Alumni
DESCRIPTION:Disney on Ice presents Mickey’s Search Party at Barclays Center. Join Mickey Mouse and friends on an action-packed adventure filled with acrobatics\, stunts\, and all your favorite Disney characters brought to life on the ice. \nThis exclusive alumni discount is part of your Brooklyn College alumni benefits—don’t miss out on this fun-filled experience for the whole family. Use code “BROOKLYNCOLLEGE” to purchase your discount tickets here.
URL:https://www.brooklyn.edu/event/special-disney-on-ice-offer-for-alumni/2026-01-29/
CATEGORIES:Alumni,Alumni Engagement
ORGANIZER;CN="Alumni Engagement":MAILTO:alumni@brooklyn.cuny.edu
END:VEVENT
BEGIN:VEVENT
DTSTART;TZID=America/New_York:20260121T183000
DTEND;TZID=America/New_York:20260121T200000
DTSTAMP:20260419T160434
CREATED:20251118T180749Z
LAST-MODIFIED:20260407T192124Z
UID:10014017-1769020200-1769025600@www.brooklyn.edu
SUMMARY:Careers in AI Virtual Panel
DESCRIPTION:Learn from Brooklyn College alumni how you can find success in an increasingly AI world. Three alumni panelists who work in the field join us to discuss AI-centered careers and how you can navigate them. \nPanelists \nPawel Walczuk ’10\, Managing Director\, Accenture and Brooklyn College Foundation Trustee \nRafi Lazerson ’16\, Responsible AI Associate Manager\, Accenture \nSoribel Feliz ’09\, AI Governance and AI Risk Management LinkedIn Instructor and Team Member \nThis event is open to students and alumni. If you’re interested in how AI is being used in today’s workforce\, be sure to register. It will be a panel format. \nThis event is co-sponsored by the Office of Alumni Engagement\, Brooklyn College Honors Academy\, Wolfe Institute\, Political Science Department\, and Computer Science Club.
URL:https://www.brooklyn.edu/event/careers-in-ai-virtual-panel/
LOCATION:Online
CATEGORIES:Alumni,Alumni Engagement,Computer and Information Science,Ethyle R. Wolfe Institute for the Humanities,Honors Academy,Political Science,Undergraduate
ORGANIZER;CN="Alumni Engagement":MAILTO:alumni@brooklyn.cuny.edu
END:VEVENT
BEGIN:VEVENT
DTSTART;TZID=America/New_York:20260121T113000
DTEND;TZID=America/New_York:20260121T140000
DTSTAMP:20260419T160434
CREATED:20250818T143249Z
LAST-MODIFIED:20250818T181447Z
UID:10013024-1768995000-1769004000@www.brooklyn.edu
SUMMARY:PBCC’s Second Luncheon of the Season
DESCRIPTION:The BCAA/PBCC board of directors warmly invites you to our chapter’s second luncheon of the season—a wonderful opportunity to reconnect\, enjoy great food\, and experience engaging entertainment. \nSpecial guest Michael Zandman will discuss “Music of the 1960s.” \nJoin fellow alumni and friends for a nostalgic journey through one of music’s most iconic decades\, paired with delicious Italian cuisine and warm company. \nMamma Mia Trattoria\n8855 Hypoluxo Road\nLake Worth\, Florida
URL:https://www.brooklyn.edu/event/pbccs-second-luncheon-of-the-season/
CATEGORIES:Alumni,Alumni Engagement
ORGANIZER;CN="Alumni Engagement":MAILTO:alumni@brooklyn.cuny.edu
END:VEVENT
BEGIN:VEVENT
DTSTART;TZID=America/New_York:20260115T183000
DTEND;TZID=America/New_York:20260115T200000
DTSTAMP:20260419T160434
CREATED:20251125T202719Z
LAST-MODIFIED:20260406T171449Z
UID:10014023-1768501800-1768507200@www.brooklyn.edu
SUMMARY:Alumni Experts Learning Workshops
DESCRIPTION:Brooklyn College alumni bring their expertise to fellow alumni in three breakout sessions. From understanding how sugar impacts your health\, to building long-term wealth\, to planning ahead for life’s final expenses\, these sessions offer practical insights you can use right away. Don’t miss this chance to learn from trusted professionals how you can take control of your physical\, financial\, and future well-being. \nPanelists \nJessica Jones ’12 Co-Founder and CEO\, and Registered Dietitian\, Diabetes Digital\n“Balancing Sugar 101”\nCurious about how sugar affects your body? This introductory workshop demystifies blood sugar balance. We’ll cover the basics of how food turns into energy and provide simple\, actionable tips to reduce spikes and crashes in your daily life. \nSlav Kuzmin ’13 SVP Wealth Management Adviser and Certified Financial Planner\n“Personal Finance 101”\nLearn tips on how to invest for the long term and build a sound investment strategy as you earn more. \nDr. E.J. Simms ’76 Owner\, E.J. Simms Funeral Svcs.\, Inc.\n“Your Last Bill”\nLearn how to plan funeral bills (your last bill). Learn practical tips to ease the financial and emotional burden on your loved ones and gain insights from a trusted professional in the field. \nSchedule \n6:30–6:45 p.m.\nQuick intros about your session. Move into a breakout room. \n6:45–7:15 p.m.\n30-minute presentation \n7:15–8:30 p.m.\nQ&A \nRegister Now
URL:https://www.brooklyn.edu/event/alumni-experts-learning-workshops/
LOCATION:Online
CATEGORIES:Alumni,Alumni Engagement
ORGANIZER;CN="Alumni Engagement":MAILTO:alumni@brooklyn.cuny.edu
END:VEVENT
BEGIN:VEVENT
DTSTART;TZID=America/New_York:20251209T180000
DTEND;TZID=America/New_York:20251209T193000
DTSTAMP:20260419T160434
CREATED:20251020T142751Z
LAST-MODIFIED:20251210T185829Z
UID:10013956-1765303200-1765308600@www.brooklyn.edu
SUMMARY:AI 101: A Beginner’s Guide for Alumni
DESCRIPTION:Want to learn how artificial intelligence is changing the way we work—and how you can use it to your advantage? AI 101 is a beginner-friendly\, in-person event designed to give alumni a practical introduction to AI\, with real examples and tools you can start using right away. You’ll gain a clear understanding of what AI is (and isn’t)\, easy ways to start using AI in your career or everyday tasks\, and insight into how AI is shaping the job market. \nRSVP
URL:https://www.brooklyn.edu/event/ai-101-a-beginners-guide-for-alumni/
LOCATION:Online
CATEGORIES:Alumni,Alumni Engagement
ORGANIZER;CN="Alumni Engagement":MAILTO:alumni@brooklyn.cuny.edu
END:VEVENT
BEGIN:VEVENT
DTSTART;TZID=America/New_York:20251209T140000
DTEND;TZID=America/New_York:20251209T153000
DTSTAMP:20260419T160434
CREATED:20251103T193843Z
LAST-MODIFIED:20251210T185818Z
UID:10013955-1765288800-1765294200@www.brooklyn.edu
SUMMARY:AI 101: A Beginner’s Guide for Alumni
DESCRIPTION:Want to learn how artificial intelligence is changing the way we work—and how you can use it to your advantage? AI 101 is a beginner-friendly\, in-person event designed to give alumni a practical introduction to AI\, with real examples and tools you can start using right away. You’ll gain a clear understanding of what AI is (and isn’t)\, easy ways to start using AI in your career or everyday tasks\, and insight into how AI is shaping the job market. \nRSVP
URL:https://www.brooklyn.edu/event/ai-101-a-beginners-guide-for-alumni-2/
LOCATION:Online
CATEGORIES:Alumni,Alumni Engagement
ORGANIZER;CN="Alumni Engagement":MAILTO:alumni@brooklyn.cuny.edu
END:VEVENT
BEGIN:VEVENT
DTSTART;TZID=America/New_York:20251202T190000
DTEND;TZID=America/New_York:20251202T200000
DTSTAMP:20260419T160434
CREATED:20250926T193624Z
LAST-MODIFIED:20250926T193708Z
UID:10013390-1764702000-1764705600@www.brooklyn.edu
SUMMARY:New Year\, New Career: How to Pivot
DESCRIPTION:Discover how to successfully shift into a new role or industry. This workshop covers identifying transferable skills\, telling your story\, and building a roadmap to make your career change stick. \nJoin the Zoom meeting
URL:https://www.brooklyn.edu/event/new-year-new-career-how-to-pivot/
LOCATION:Online
CATEGORIES:Alumni,Alumni Engagement
ORGANIZER;CN="Alumni Engagement":MAILTO:alumni@brooklyn.cuny.edu
END:VEVENT
BEGIN:VEVENT
DTSTART;TZID=America/New_York:20251130T130000
DTEND;TZID=America/New_York:20251130T160000
DTSTAMP:20260419T160434
CREATED:20250731T193016Z
LAST-MODIFIED:20250731T193016Z
UID:10013014-1764507600-1764518400@www.brooklyn.edu
SUMMARY:Brooklyn College Alumni Day at MetLife Stadium: Jets vs. Falcons
DESCRIPTION:Join your fellow alumni for a great day of football as the New York Jets face off against the Atlanta Falcons at MetLife Stadium. We’ve lined up special discounted tickets just for Brooklyn College alumni\, so gather your crew\, wear your Bulldog gear\, and come enjoy the action and alumni spirit! Spots are limited. \nBuy Tickets Now
URL:https://www.brooklyn.edu/event/brooklyn-college-alumni-day-at-metlife-stadium-jets-vs-falcons/
CATEGORIES:Alumni,Alumni Engagement
ORGANIZER;CN="Alumni Engagement":MAILTO:alumni@brooklyn.cuny.edu
END:VEVENT
BEGIN:VEVENT
DTSTART;TZID=America/New_York:20251118T190000
DTEND;TZID=America/New_York:20251118T200000
DTSTAMP:20260419T160434
CREATED:20250926T191259Z
LAST-MODIFIED:20250926T191259Z
UID:10013389-1763492400-1763496000@www.brooklyn.edu
SUMMARY:Brooklyn College Alumni Webinar: Advocating for a Raise or Promotion
DESCRIPTION:Learn how to confidently make your case for more—whether it’s pay\, title\, or responsibility. This workshop covers timing\, framing your value\, and handling tough conversations with impact. \nJoin the Zoom meeting
URL:https://www.brooklyn.edu/event/brooklyn-college-alumni-webinar-advocating-for-a-raise-or-promotion/
LOCATION:Online
CATEGORIES:Alumni,Alumni Engagement
ORGANIZER;CN="Alumni Engagement":MAILTO:alumni@brooklyn.cuny.edu
END:VEVENT
BEGIN:VEVENT
DTSTART;TZID=America/New_York:20251118T123000
DTEND;TZID=America/New_York:20251118T140000
DTSTAMP:20260419T160434
CREATED:20250912T162408Z
LAST-MODIFIED:20250912T162408Z
UID:10013070-1763469000-1763474400@www.brooklyn.edu
SUMMARY:Annual Mentor Luncheon
DESCRIPTION:The Magner Career Center is seeking new alumni to participate in our annual Mentor Luncheon. This is your chance to help students explore career options in a variety of fields about your particular industry\, role\, company\, and more. If you are interested\, submit this form and we will reach out to you to confirm. Sign-up is required.
URL:https://www.brooklyn.edu/event/annual-mentor-luncheon/
LOCATION:Student Center
CATEGORIES:Alumni,Alumni Engagement
ORGANIZER;CN="Alumni Engagement":MAILTO:alumni@brooklyn.cuny.edu
GEO:40.63265;-73.95045
END:VEVENT
BEGIN:VEVENT
DTSTART;TZID=America/New_York:20251114T120000
DTEND;TZID=America/New_York:20251114T154500
DTSTAMP:20260419T160434
CREATED:20250630T193555Z
LAST-MODIFIED:20251008T162649Z
UID:10012973-1763121600-1763135100@www.brooklyn.edu
SUMMARY:Welcome Back Luncheon
DESCRIPTION:Celebrate milestone reunions\, hear updates from President Michelle J. Anderson\, enjoy lunch in the cafeteria\, attend a faculty talk\, and explore the campus. \nRSVP Today
URL:https://www.brooklyn.edu/event/brooklyn-college-welcome-back-luncheon/
LOCATION:Student Center
CATEGORIES:Alumni,Alumni Engagement
ORGANIZER;CN="Alumni Engagement":MAILTO:alumni@brooklyn.cuny.edu
GEO:40.63265;-73.95045
END:VEVENT
BEGIN:VEVENT
DTSTART;TZID=America/New_York:20251113T190000
DTEND;TZID=America/New_York:20251113T200000
DTSTAMP:20260419T160434
CREATED:20251107T160042Z
LAST-MODIFIED:20251107T160042Z
UID:10013982-1763060400-1763064000@www.brooklyn.edu
SUMMARY:Alumni Career Q&A
DESCRIPTION:Jump on Zoom\, with no preparation necessary\, and ask a Magner Career Center career coach any career-related question. In addition to getting your question answered\, this is a great way to meet and learn from other alumni\, in a small-group setting. \nJoin the Zoom meeting
URL:https://www.brooklyn.edu/event/alumni-career-qa-2/
LOCATION:Online
CATEGORIES:Alumni,Alumni Engagement
ORGANIZER;CN="Alumni Engagement":MAILTO:alumni@brooklyn.cuny.edu
END:VEVENT
BEGIN:VEVENT
DTSTART;TZID=America/New_York:20251112T123000
DTEND;TZID=America/New_York:20251112T143000
DTSTAMP:20260419T160434
CREATED:20250818T170209Z
LAST-MODIFIED:20250818T170209Z
UID:10013026-1762950600-1762957800@www.brooklyn.edu
SUMMARY:PBCC's First Luncheon of the Season
DESCRIPTION:The Palm Beach County Chapter is holding its first luncheon of the season at Souvlaki Greek Restaurant\, 8794 Boynton Beach Boulevard\, Boynton Beach\, Florida. Historian and Professor Steve Rubin will lead a discussion. Please arrive by 11:30 a.m.
URL:https://www.brooklyn.edu/event/pbccs-first-luncheon-of-the-season/
CATEGORIES:Alumni,Alumni Engagement
ORGANIZER;CN="Alumni Engagement":MAILTO:alumni@brooklyn.cuny.edu
END:VEVENT
BEGIN:VEVENT
DTSTART;TZID=America/New_York:20251111T190000
DTEND;TZID=America/New_York:20251111T200000
DTSTAMP:20260419T160434
CREATED:20250926T165634Z
LAST-MODIFIED:20250926T165634Z
UID:10013388-1762887600-1762891200@www.brooklyn.edu
SUMMARY:Brooklyn College Alumni Webinar: How to Be an Effective Mentor
DESCRIPTION:Are you a Brooklyn College alum and are interested in giving back? Eager to make a positive difference in a student’s life? Attend this webinar to learn about the benefits and rewards of serving as an alumni mentor and how you can make a positive difference in the professional lives of students. \nJoin the Zoom meeting
URL:https://www.brooklyn.edu/event/brooklyn-college-alumni-webinar-how-to-be-an-effective-mentor/2025-11-11/
LOCATION:Online
CATEGORIES:Alumni,Alumni Engagement
ORGANIZER;CN="Alumni Engagement":MAILTO:alumni@brooklyn.cuny.edu
END:VEVENT
BEGIN:VEVENT
DTSTART;TZID=America/New_York:20251106T110000
DTEND;TZID=America/New_York:20251106T140000
DTSTAMP:20260419T160434
CREATED:20250828T153848Z
LAST-MODIFIED:20250828T153848Z
UID:10013044-1762426800-1762437600@www.brooklyn.edu
SUMMARY:HireNewYork Multi-University Alumni Career Fair
DESCRIPTION:We’re excited to announce the return of the HireNewYork Multi-University Alumni Career Fair\, a premier hiring event bringing together top talent from the New York Metro area with more than 70 leading employers from a wide range of industries. \nWhether you’re a recent graduate\, current graduate student\, or a seasoned professional\, this event is your chance to connect directly with recruiters from Fortune 500 companies\, innovative startups\, nonprofits\, and government agencies—all hiring for full-time\, salaried positions. Join us to network\, explore new opportunities\, and take the next step in your career. \nThis event will be held at Prince George Ballroom\, 15 East 27th Street\, Manhattan. \nRegister Now
URL:https://www.brooklyn.edu/event/hirenewyork-multi-university-alumni-career-fair/
CATEGORIES:Alumni,Alumni Engagement,Graduate
ORGANIZER;CN="Alumni Engagement":MAILTO:alumni@brooklyn.cuny.edu
END:VEVENT
BEGIN:VEVENT
DTSTART;TZID=America/New_York:20251104T190000
DTEND;TZID=America/New_York:20251104T200000
DTSTAMP:20260419T160434
CREATED:20250926T165634Z
LAST-MODIFIED:20250926T165634Z
UID:10013387-1762282800-1762286400@www.brooklyn.edu
SUMMARY:Brooklyn College Alumni Webinar: How to Be an Effective Mentor
DESCRIPTION:Are you a Brooklyn College alum and are interested in giving back? Eager to make a positive difference in a student’s life? Attend this webinar to learn about the benefits and rewards of serving as an alumni mentor and how you can make a positive difference in the professional lives of students. \nJoin the Zoom meeting
URL:https://www.brooklyn.edu/event/brooklyn-college-alumni-webinar-how-to-be-an-effective-mentor/2025-11-04/
LOCATION:Online
CATEGORIES:Alumni,Alumni Engagement
ORGANIZER;CN="Alumni Engagement":MAILTO:alumni@brooklyn.cuny.edu
END:VEVENT
BEGIN:VEVENT
DTSTART;TZID=America/New_York:20251030T190000
DTEND;TZID=America/New_York:20251030T200000
DTSTAMP:20260419T160434
CREATED:20251008T204918Z
LAST-MODIFIED:20251008T204918Z
UID:10013947-1761850800-1761854400@www.brooklyn.edu
SUMMARY:Alumni Career Q&A
DESCRIPTION:Jump on Zoom\, with no preparation necessary\, and ask a Magner Career Center career coach any career-related question. In addition to getting your question answered\, this is a great way to meet and learn from other alumni\, in a small-group setting. \nJoin the Zoom meeting
URL:https://www.brooklyn.edu/event/alumni-career-qa/2025-10-30/
LOCATION:Online
CATEGORIES:Alumni,Alumni Engagement
ORGANIZER;CN="Alumni Engagement":MAILTO:alumni@brooklyn.cuny.edu
END:VEVENT
BEGIN:VEVENT
DTSTART;TZID=America/New_York:20251028T190000
DTEND;TZID=America/New_York:20251028T200000
DTSTAMP:20260419T160434
CREATED:20250926T160740Z
LAST-MODIFIED:20250926T160740Z
UID:10013386-1761678000-1761681600@www.brooklyn.edu
SUMMARY:Brooklyn College Alumni Webinar: Balancing Careers and Life
DESCRIPTION:Learn how to grow your career without burning out. This workshop covers setting boundaries\, aligning your work with your values\, and building habits that enable you to succeed at work while maintaining a life outside of work. \nJoin the Zoom meeting
URL:https://www.brooklyn.edu/event/brooklyn-college-alumni-webinar-balancing-careers-and-life/
LOCATION:Online
CATEGORIES:Alumni,Alumni Engagement
ORGANIZER;CN="Alumni Engagement":MAILTO:alumni@brooklyn.cuny.edu
END:VEVENT
BEGIN:VEVENT
DTSTART;TZID=America/New_York:20251023T190000
DTEND;TZID=America/New_York:20251023T200000
DTSTAMP:20260419T160434
CREATED:20251008T204918Z
LAST-MODIFIED:20251008T204918Z
UID:10013946-1761246000-1761249600@www.brooklyn.edu
SUMMARY:Alumni Career Q&A
DESCRIPTION:Jump on Zoom\, with no preparation necessary\, and ask a Magner Career Center career coach any career-related question. In addition to getting your question answered\, this is a great way to meet and learn from other alumni\, in a small-group setting. \nJoin the Zoom meeting
URL:https://www.brooklyn.edu/event/alumni-career-qa/2025-10-23/
LOCATION:Online
CATEGORIES:Alumni,Alumni Engagement
ORGANIZER;CN="Alumni Engagement":MAILTO:alumni@brooklyn.cuny.edu
END:VEVENT
BEGIN:VEVENT
DTSTART;TZID=America/New_York:20251022T133000
DTEND;TZID=America/New_York:20251022T153000
DTSTAMP:20260419T160434
CREATED:20250814T210149Z
LAST-MODIFIED:20250814T210229Z
UID:10013023-1761139800-1761147000@www.brooklyn.edu
SUMMARY:PBCC Meet and Greet Boat Ride
DESCRIPTION:The Palm Beach County Chapter kicks off its 2025–26 season with a meet and greet boat ride down the Intracoastal Waterway. \nPurchase your tickets at least 30 minutes before the cruise\, from Delray Yacht Cruises\, 801 East Atlantic Avenue\, Delray Beach\, Florida. Tickets cost $38\, which includes a senior discount and tax.
URL:https://www.brooklyn.edu/event/pbcc-meet-and-greet-boat-ride/
CATEGORIES:Alumni,Alumni Engagement
ORGANIZER;CN="Alumni Engagement":MAILTO:alumni@brooklyn.cuny.edu
END:VEVENT
BEGIN:VEVENT
DTSTART;TZID=America/New_York:20251021T190000
DTEND;TZID=America/New_York:20251021T200000
DTSTAMP:20260419T160434
CREATED:20250925T205519Z
LAST-MODIFIED:20250925T205519Z
UID:10013385-1761073200-1761076800@www.brooklyn.edu
SUMMARY:Brooklyn College Alumni Webinar: LinkedIn and Networking Tips
DESCRIPTION:Looking to elevate your professional presence and expand your network? Join us for an exclusive Brooklyn College alumni webinar focused on maximizing LinkedIn and mastering modern networking strategies. Discover how to optimize your profile\, connect with the right people\, and utilize your alumni community to unlock opportunities. Whether you’re job hunting\, career shifting\, or simply growing your network\, this session offers practical tips to help you stand out and stay connected. \nJoin the Zoom meeting
URL:https://www.brooklyn.edu/event/brooklyn-college-alumni-webinar-linkedin-and-networking-tips/
LOCATION:Online
CATEGORIES:Alumni,Alumni Engagement
ORGANIZER;CN="Alumni Engagement":MAILTO:alumni@brooklyn.cuny.edu
END:VEVENT
BEGIN:VEVENT
DTSTART;TZID=America/New_York:20251019T130000
DTEND;TZID=America/New_York:20251019T160000
DTSTAMP:20260419T160434
CREATED:20250731T191133Z
LAST-MODIFIED:20250731T191133Z
UID:10013013-1760878800-1760889600@www.brooklyn.edu
SUMMARY:Brooklyn College Alumni: Join Us for a New York Jets Game
DESCRIPTION:Brooklyn College alumni are invited to some fall football fun! Come out to MetLife Stadium to watch the New York Jets take on the Carolina Panthers and enjoy exclusive discounted tickets just for our alumni community. Reconnect with fellow Bulldogs\, bring your friends and family\, and show your school pride while cheering on the Jets! Tickets are limited. \nBuy Tickets Now
URL:https://www.brooklyn.edu/event/brooklyn-college-alumni-join-us-for-a-new-york-jets-game/
CATEGORIES:Alumni,Alumni Engagement
ORGANIZER;CN="Alumni Engagement":MAILTO:alumni@brooklyn.cuny.edu
END:VEVENT
END:VCALENDAR