BEGIN:VCALENDAR
VERSION:2.0
PRODID:-//Brooklyn College - ECPv6.15.12.2//NONSGML v1.0//EN
CALSCALE:GREGORIAN
METHOD:PUBLISH
X-WR-CALNAME:Brooklyn College
X-ORIGINAL-URL:https://www.brooklyn.edu
X-WR-CALDESC:Events for Brooklyn College
REFRESH-INTERVAL;VALUE=DURATION:PT1H
X-Robots-Tag:noindex
X-PUBLISHED-TTL:PT1H
BEGIN:VTIMEZONE
TZID:America/New_York
BEGIN:DAYLIGHT
TZOFFSETFROM:-0500
TZOFFSETTO:-0400
TZNAME:EDT
DTSTART:20240310T070000
END:DAYLIGHT
BEGIN:STANDARD
TZOFFSETFROM:-0400
TZOFFSETTO:-0500
TZNAME:EST
DTSTART:20241103T060000
END:STANDARD
BEGIN:DAYLIGHT
TZOFFSETFROM:-0500
TZOFFSETTO:-0400
TZNAME:EDT
DTSTART:20250309T070000
END:DAYLIGHT
BEGIN:STANDARD
TZOFFSETFROM:-0400
TZOFFSETTO:-0500
TZNAME:EST
DTSTART:20251102T060000
END:STANDARD
BEGIN:DAYLIGHT
TZOFFSETFROM:-0500
TZOFFSETTO:-0400
TZNAME:EDT
DTSTART:20260308T070000
END:DAYLIGHT
BEGIN:STANDARD
TZOFFSETFROM:-0400
TZOFFSETTO:-0500
TZNAME:EST
DTSTART:20261101T060000
END:STANDARD
END:VTIMEZONE
BEGIN:VEVENT
DTSTART;TZID=America/New_York:20251023T180000
DTEND;TZID=America/New_York:20251023T190000
DTSTAMP:20260420T091624
CREATED:20250623T171911Z
LAST-MODIFIED:20250825T153532Z
UID:10012965-1761242400-1761246000@www.brooklyn.edu
SUMMARY:Graduate Open House – School of Education\, Middle Childhood Education Teacher (5-9) Mathematics\, M.S.Ed. and Math Teacher (7-12)\, M.A.
DESCRIPTION:Meet with faculty and admissions representatives to discuss the Middle Childhood Education Teacher (5-9) Mathematics\, M.S.Ed. and Math Teacher (7-12)\, M.A.\, admission requirements\, and the application process. \nLearn about career resources\, internships\, and financial aid\, and get to know our students\, faculty\, and staff. \nRegister for Zoom
URL:https://www.brooklyn.edu/event/graduate-open-house-2025-school-of-education-middle-childhood-education-teacher-5-9-mathematics-m-s-ed-and-math-teacher-7-12-m-a/
LOCATION:Online
CATEGORIES:Admissions,Admissions, Graduate,Childhood, Bilingual, and Special Education,Graduate,School of Education
ORGANIZER;CN="Admissions%2C Graduate":MAILTO:grads@brooklyn.cuny.edu
END:VEVENT
BEGIN:VEVENT
DTSTART;TZID=America/New_York:20251022T190000
DTEND;TZID=America/New_York:20251022T200000
DTSTAMP:20260420T091624
CREATED:20250721T175239Z
LAST-MODIFIED:20250825T145235Z
UID:10012981-1761159600-1761163200@www.brooklyn.edu
SUMMARY:Graduate Open House – School of Humanities and Social Sciences\, Autism Spectrum Disorders\, Advanced Certificate
DESCRIPTION:Meet with faculty and admissions representatives to discuss the Autism Spectrum Disorders\, Advanced Certificate\, admission requirements\, and the application process. \nLearn about career resources\, internship opportunities\, and funding options\, and get to know our current students\, faculty\, and staff. \nREGISTER Now
URL:https://www.brooklyn.edu/event/graduate-open-house-2025-school-of-humanities-and-social-sciences-autism-spectrum-disorders-advanced-certificate/
LOCATION:Online
CATEGORIES:Admissions,Admissions, Graduate,Childhood, Bilingual, and Special Education,Communication Arts, Sciences, and Disorders,Graduate,School of Education,School of Humanities and Social Sciences
ORGANIZER;CN="Admissions%2C Graduate":MAILTO:grads@brooklyn.cuny.edu
END:VEVENT
BEGIN:VEVENT
DTSTART;TZID=America/New_York:20251021T190000
DTEND;TZID=America/New_York:20251021T200000
DTSTAMP:20260420T091624
CREATED:20250623T172940Z
LAST-MODIFIED:20250825T153350Z
UID:10012962-1761073200-1761076800@www.brooklyn.edu
SUMMARY:Graduate Open House – School of Education\, Early Childhood Education Teacher (Birth-Grade 2)\, M.S.Ed.
DESCRIPTION:Meet with faculty and admissions representatives to discuss the Early Childhood Education Teacher (Birth-Grade 2)\, M.S.Ed.\, admission requirements\, and the application process. \nLearn about career resources\, internships\, and financial aid\, and get to know our students\, faculty\, and staff. \nRegister for Zoom
URL:https://www.brooklyn.edu/event/graduate-open-house-2025-school-of-education-early-childhood-education-teacher-b-2-m-s-ed/
LOCATION:Online
CATEGORIES:Admissions,Admissions, Graduate,Childhood, Bilingual, and Special Education,Graduate,School of Education
ORGANIZER;CN="Admissions%2C Graduate":MAILTO:grads@brooklyn.cuny.edu
END:VEVENT
BEGIN:VEVENT
DTSTART;TZID=America/New_York:20251021T180000
DTEND;TZID=America/New_York:20251021T190000
DTSTAMP:20260420T091625
CREATED:20250721T184056Z
LAST-MODIFIED:20250825T153916Z
UID:10012985-1761069600-1761073200@www.brooklyn.edu
SUMMARY:Graduate Open House – School of Education\, Special Education\, M.S.Ed. (All Grades)
DESCRIPTION:Meet with faculty and admissions representatives to discuss the Special Education\, M.S.Ed. (Birth – Grade 2\, Grades 1-6\, Grades 7-12)\,  admission requirements\, and the application process. \nLearn about career resources\, internships\, and funding options\, and get to know our students\, faculty\, and staff. \nREGISTER NOW
URL:https://www.brooklyn.edu/event/graduate-open-house-2025-school-of-education-special-education-m-s-ed-all-grades/
LOCATION:Online
CATEGORIES:Admissions,Admissions, Graduate,Childhood, Bilingual, and Special Education,Graduate,School of Education
ORGANIZER;CN="Admissions%2C Graduate":MAILTO:grads@brooklyn.cuny.edu
END:VEVENT
BEGIN:VEVENT
DTSTART;TZID=America/New_York:20251020T190000
DTEND;TZID=America/New_York:20251020T200000
DTSTAMP:20260420T091625
CREATED:20250623T172656Z
LAST-MODIFIED:20250825T153315Z
UID:10012961-1760986800-1760990400@www.brooklyn.edu
SUMMARY:Graduate Open House – School of Education\, Childhood Education Teacher (1-6) Liberal Arts\, M.S.Ed. and Childhood Education Teacher (1-6) Mathematics\, M.S.Ed.
DESCRIPTION:Meet with faculty and admissions representatives to discuss the Childhood Education Teacher (1-6) Liberal Arts\, M.S.Ed. and Childhood Education Teacher (1-6) Mathematics\, M.S.Ed. programs\, admission requirements\, and the application process. \nLearn about career resources\, internships\, and financial aid\, and get to know our students\, faculty\, and staff. \nRegister for Zoom
URL:https://www.brooklyn.edu/event/graduate-open-house-2025-school-of-education-childhood-education-teacher-1-6-liberal-arts-m-s-ed-and-math-m-s-ed/
LOCATION:Online
CATEGORIES:Admissions,Admissions, Graduate,Childhood, Bilingual, and Special Education,Graduate,School of Education
ORGANIZER;CN="Admissions%2C Graduate":MAILTO:grads@brooklyn.cuny.edu
END:VEVENT
BEGIN:VEVENT
DTSTART;TZID=America/New_York:20251020T180000
DTEND;TZID=America/New_York:20251020T190000
DTSTAMP:20260420T091625
CREATED:20250623T173348Z
LAST-MODIFIED:20250825T153233Z
UID:10012960-1760983200-1760986800@www.brooklyn.edu
SUMMARY:Graduate Open House – School of Education\, Childhood Education Teacher (1-6)\, Bilingual Education\, M.S.Ed. and Advanced Certificate Programs
DESCRIPTION:Meet with faculty and admissions representatives to discuss the Childhood Education (1-6)\, Bilingual Education\, M.S.Ed. and Bilingual Education\, Advanced Certificate\, admission requirements\, and the application process. \nLearn about career resources\, internships\, and funding options\, and get to know our students\, faculty\, and staff. \nRegister for zoom
URL:https://www.brooklyn.edu/event/graduate-open-house-2025-school-of-education-childhood-education-teacher-1-6-bilingual-education-m-s-ed-and-advanced-certificate-programs/
LOCATION:Online
CATEGORIES:Admissions,Admissions, Graduate,Childhood, Bilingual, and Special Education,Graduate,School of Education
ORGANIZER;CN="Admissions%2C Graduate":MAILTO:grads@brooklyn.cuny.edu
END:VEVENT
BEGIN:VEVENT
DTSTART;TZID=America/New_York:20250430T141500
DTEND;TZID=America/New_York:20250430T150000
DTSTAMP:20260420T091625
CREATED:20250207T152928Z
LAST-MODIFIED:20250207T154722Z
UID:10012644-1746022500-1746025200@www.brooklyn.edu
SUMMARY:Stories on Disability Through Our Voices: Born This Way—A Conversation Between Author Yoon Joo Lee and Professor David J. Connor
DESCRIPTION:This event celebrates the publication of Stories on Disability Through Our Voices: Born This Way (Routledge\, 2025)\, the first solo book by Yoon Joo Lee\, associate professor of childhood\, bilingual\, and special education. Lee will be joined by Professor Emeritus David J. Connor\, Hunter College (CUNY). The book explores the lived experiences of Korean and Korean American women with visible disabilities in South Korea and the United States. Drawing upon the work of scholars in disability studies in education and feminist disability studies\, it challenges readers to (re)consider their own misconceptions and assumptions about disability and reconceptualize their understanding of diversity. Lee’s work is distinguished by her ability to connect personally with the women she interviews\, sharing unique yet overlapping experiences as a woman with visible disabilities. Part of the Routledge Book Series Autocritical Disability Studies\, the book uses autoethnography to center the researcher’s personal experiences throughout the process. Lee and Connor will engage in a conversation around values of foregrounding voices of individuals with disabilities in various forms of research.
URL:https://www.brooklyn.edu/event/stories-on-disability-through-our-voices-born-this-way-a-conversation-between-author-yoon-joo-lee-and-professor-david-j-connor/
LOCATION:Library\, Room 150\, Woody Tanger Auditorium
CATEGORIES:Childhood, Bilingual, and Special Education,Ethyle R. Wolfe Institute for the Humanities,School of Education
ATTACH;FMTTYPE=image/jpeg:https://www.brooklyn.edu/wp-content/uploads/Yoon-Joo-Lee.jpg
ORGANIZER;CN="Ethyle R. Wolfe Institute for the Humanities":MAILTO:wolfe@brooklyn.cuny.edu
GEO:40.63109;-73.94981
END:VEVENT
END:VCALENDAR