BEGIN:VCALENDAR
VERSION:2.0
PRODID:-//Brooklyn College - ECPv6.15.12.2//NONSGML v1.0//EN
CALSCALE:GREGORIAN
METHOD:PUBLISH
X-ORIGINAL-URL:https://www.brooklyn.edu
X-WR-CALDESC:Events for Brooklyn College
REFRESH-INTERVAL;VALUE=DURATION:PT1H
X-Robots-Tag:noindex
X-PUBLISHED-TTL:PT1H
BEGIN:VTIMEZONE
TZID:America/New_York
BEGIN:DAYLIGHT
TZOFFSETFROM:-0500
TZOFFSETTO:-0400
TZNAME:EDT
DTSTART:20250309T070000
END:DAYLIGHT
BEGIN:STANDARD
TZOFFSETFROM:-0400
TZOFFSETTO:-0500
TZNAME:EST
DTSTART:20251102T060000
END:STANDARD
BEGIN:DAYLIGHT
TZOFFSETFROM:-0500
TZOFFSETTO:-0400
TZNAME:EDT
DTSTART:20260308T070000
END:DAYLIGHT
BEGIN:STANDARD
TZOFFSETFROM:-0400
TZOFFSETTO:-0500
TZNAME:EST
DTSTART:20261101T060000
END:STANDARD
BEGIN:DAYLIGHT
TZOFFSETFROM:-0500
TZOFFSETTO:-0400
TZNAME:EDT
DTSTART:20270314T070000
END:DAYLIGHT
BEGIN:STANDARD
TZOFFSETFROM:-0400
TZOFFSETTO:-0500
TZNAME:EST
DTSTART:20271107T060000
END:STANDARD
END:VTIMEZONE
BEGIN:VEVENT
DTSTART;TZID=America/New_York:20260510T190000
DTEND;TZID=America/New_York:20260510T201500
DTSTAMP:20260419T124009
CREATED:20260402T204107Z
LAST-MODIFIED:20260402T204107Z
UID:10014334-1778439600-1778444100@www.brooklyn.edu
SUMMARY:Student Recital: Nino Chanadiri\, piano
DESCRIPTION:Pianist presents recital with works by TBA
URL:https://www.brooklyn.edu/event/student-recital-nino-chandadiri-piano/
LOCATION:Leonard & Claire Tow Center for the Performing Arts\, Don Buchwald Theater
CATEGORIES:Academics,Alumni,Conservatory of Music,Leonard & Claire Tow Center for the Performing Arts,School of Visual, Media and Performing Arts
ORGANIZER;CN="Conservatory of Music":MAILTO:bstrasberg@brooklyn.cuny.edu
GEO:40.63169;-73.94867
END:VEVENT
BEGIN:VEVENT
DTSTART;TZID=America/New_York:20260511T190000
DTEND;TZID=America/New_York:20260511T203000
DTSTAMP:20260419T124009
CREATED:20230921T161823Z
LAST-MODIFIED:20250925T161702Z
UID:10006864-1778526000-1778531400@www.brooklyn.edu
SUMMARY:Composers Concert I
DESCRIPTION:7-8:30 p.m. performance\nDon Buchwald Theater \nConservatory of Music composers present their new acoustic and electroacoustic works.
URL:https://www.brooklyn.edu/event/composers-concert-i/
LOCATION:Leonard & Claire Tow Center for the Performing Arts\, Don Buchwald Theater
CATEGORIES:Academics,Alumni,Conservatory of Music,Leonard & Claire Tow Center for the Performing Arts,School of Visual, Media and Performing Arts
ATTACH;FMTTYPE=image/jpeg:https://www.brooklyn.edu/wp-content/uploads/Rotj9ARQ.jpeg
ORGANIZER;CN="Conservatory of Music":MAILTO:bstrasberg@brooklyn.cuny.edu
GEO:40.63169;-73.94867
END:VEVENT
BEGIN:VEVENT
DTSTART;TZID=America/New_York:20260512T190000
DTEND;TZID=America/New_York:20260512T203000
DTSTAMP:20260419T124009
CREATED:20240924T200228Z
LAST-MODIFIED:20250925T161901Z
UID:10013371-1778612400-1778617800@www.brooklyn.edu
SUMMARY:Composers Concert II
DESCRIPTION:6:30 p.m. doors / 7-8:30 p.m. performance\nDon Buchwald Theater\nFree to all \nConservatory of Music composers present their new acoustic and electroacoustic works.
URL:https://www.brooklyn.edu/event/composers-concert-ii/
LOCATION:Leonard & Claire Tow Center for the Performing Arts\, Topfer Rehearsal Studio
CATEGORIES:Academics,Alumni,Conservatory of Music,Leonard & Claire Tow Center for the Performing Arts,School of Visual, Media and Performing Arts
ATTACH;FMTTYPE=image/jpeg:https://www.brooklyn.edu/wp-content/uploads/Rotj9ARQ.jpeg
ORGANIZER;CN="Conservatory of Music":MAILTO:bstrasberg@brooklyn.cuny.edu
GEO:40.63159;-73.94897
END:VEVENT
BEGIN:VEVENT
DTSTART;TZID=America/New_York:20260513T130000
DTEND;TZID=America/New_York:20260513T140000
DTSTAMP:20260419T124009
CREATED:20260210T205652Z
LAST-MODIFIED:20260210T205758Z
UID:10013128-1778677200-1778680800@www.brooklyn.edu
SUMMARY:Brooklyn College Percussion Ensemble
DESCRIPTION:1-2 p.m. performance\nTopfer Rehearsal Studio\nFree to all \nThe Percussion Ensemble performs dynamic international works from the 20th- and 21st-century canon along with jazz-influenced pieces.
URL:https://www.brooklyn.edu/event/brooklyn-college-percussion-ensemble-2026-05-13/
LOCATION:Leonard & Claire Tow Center for the Performing Arts\, Topfer Rehearsal Studio
CATEGORIES:Academics,Alumni,Conservatory of Music,Leonard & Claire Tow Center for the Performing Arts,School of Visual, Media and Performing Arts
ATTACH;FMTTYPE=image/jpeg:https://www.brooklyn.edu/wp-content/uploads/TOW-Event-Percussion-Ensemble-231201-4.jpg
ORGANIZER;CN="Conservatory of Music":MAILTO:bstrasberg@brooklyn.cuny.edu
GEO:40.63159;-73.94897
END:VEVENT
BEGIN:VEVENT
DTSTART;TZID=America/New_York:20260513T170000
DTEND;TZID=America/New_York:20260513T183000
DTSTAMP:20260419T124009
CREATED:20240926T145348Z
LAST-MODIFIED:20251126T162359Z
UID:10010310-1778691600-1778697000@www.brooklyn.edu
SUMMARY:Music from the Conservatory III
DESCRIPTION:5-6:30 p.m. performance\nDon Buchwald Theater\nFree to all \nConservatory of Music students present solo and chamber works. \n 
URL:https://www.brooklyn.edu/event/music-from-the-conservatory-iii-3/
LOCATION:Leonard & Claire Tow Center for the Performing Arts\, Don Buchwald Theater
CATEGORIES:Academics,Alumni,Conservatory of Music,Leonard & Claire Tow Center for the Performing Arts,School of Visual, Media and Performing Arts
ATTACH;FMTTYPE=image/jpeg:https://www.brooklyn.edu/wp-content/uploads/TOW-Music-from-the-Conservatory.jpg
ORGANIZER;CN="Conservatory of Music":MAILTO:bstrasberg@brooklyn.cuny.edu
GEO:40.63169;-73.94867
END:VEVENT
BEGIN:VEVENT
DTSTART;TZID=America/New_York:20260514T173000
DTEND;TZID=America/New_York:20260514T190000
DTSTAMP:20260419T124009
CREATED:20240930T160111Z
LAST-MODIFIED:20250922T143745Z
UID:10010347-1778779800-1778785200@www.brooklyn.edu
SUMMARY:Conservatory Orchestra: Orchestral Readings
DESCRIPTION:5:30-7 p.m. performance\nDon Buchwald Theater \nFree for all. \nThe Orchestra presents readings of new original works by Conservatory composers followed by the Annual Awards Ceremony. \n 
URL:https://www.brooklyn.edu/event/conservatory-orchestra-orchestral-readings/
LOCATION:Leonard & Claire Tow Center for the Performing Arts\, Don Buchwald Theater
CATEGORIES:Academics,Alumni,Conservatory of Music,Leonard & Claire Tow Center for the Performing Arts,School of Visual, Media and Performing Arts
ATTACH;FMTTYPE=image/jpeg:https://www.brooklyn.edu/wp-content/uploads/gyNT6CUu.jpeg
ORGANIZER;CN="Conservatory of Music":MAILTO:bstrasberg@brooklyn.cuny.edu
GEO:40.63169;-73.94867
END:VEVENT
BEGIN:VEVENT
DTSTART;TZID=America/New_York:20260516T160000
DTEND;TZID=America/New_York:20260516T171500
DTSTAMP:20260419T124009
CREATED:20260326T184310Z
LAST-MODIFIED:20260326T184310Z
UID:10014324-1778947200-1778951700@www.brooklyn.edu
SUMMARY:Student Recital: Brian Hernandez\, clarinet
DESCRIPTION:Clarinetist presents recital with works TBA
URL:https://www.brooklyn.edu/event/student-recital-brian-hernandez-clarinet/
LOCATION:Leonard & Claire Tow Center for the Performing Arts\, Don Buchwald Theater
CATEGORIES:Academics,Alumni,Conservatory of Music,Leonard & Claire Tow Center for the Performing Arts,School of Visual, Media and Performing Arts
ORGANIZER;CN="Conservatory of Music":MAILTO:bstrasberg@brooklyn.cuny.edu
GEO:40.63169;-73.94867
END:VEVENT
BEGIN:VEVENT
DTSTART;TZID=America/New_York:20260516T190000
DTEND;TZID=America/New_York:20260516T201500
DTSTAMP:20260419T124009
CREATED:20260326T184907Z
LAST-MODIFIED:20260326T184907Z
UID:10014328-1778958000-1778962500@www.brooklyn.edu
SUMMARY:Advanced Diploma Recital: Kevin Mann\, baritone
DESCRIPTION:Baritone presents recital with works by TBA
URL:https://www.brooklyn.edu/event/advanced-diploma-recital-kevin-mann-baritone/
LOCATION:Leonard & Claire Tow Center for the Performing Arts\, Don Buchwald Theater
CATEGORIES:Academics,Alumni,Conservatory of Music,Leonard & Claire Tow Center for the Performing Arts,School of Visual, Media and Performing Arts
ORGANIZER;CN="Conservatory of Music":MAILTO:bstrasberg@brooklyn.cuny.edu
GEO:40.63169;-73.94867
END:VEVENT
BEGIN:VEVENT
DTSTART;TZID=America/New_York:20260517T130000
DTEND;TZID=America/New_York:20260517T141500
DTSTAMP:20260419T124009
CREATED:20260326T184430Z
LAST-MODIFIED:20260326T184430Z
UID:10014325-1779022800-1779027300@www.brooklyn.edu
SUMMARY:Student Recital: Michael Jara\, guitar
DESCRIPTION:Guitarist presents recital with works by Dyens\, De Abreu\, Mangore\, and more!
URL:https://www.brooklyn.edu/event/student-recital-michael-jara-guitar/
LOCATION:Leonard & Claire Tow Center for the Performing Arts\, Don Buchwald Theater
CATEGORIES:Academics,Alumni,Conservatory of Music,Leonard & Claire Tow Center for the Performing Arts,School of Visual, Media and Performing Arts
ORGANIZER;CN="Conservatory of Music":MAILTO:bstrasberg@brooklyn.cuny.edu
GEO:40.63169;-73.94867
END:VEVENT
BEGIN:VEVENT
DTSTART;TZID=America/New_York:20260517T160000
DTEND;TZID=America/New_York:20260517T171500
DTSTAMP:20260419T124009
CREATED:20260326T184536Z
LAST-MODIFIED:20260326T184536Z
UID:10014326-1779033600-1779038100@www.brooklyn.edu
SUMMARY:Student Recital: Sarah Stevenson\, mezzo-soprano
DESCRIPTION:Mezzo-soprano presents recital with works by TBA
URL:https://www.brooklyn.edu/event/student-recital-sarah-stevenson-mezzo-soprano/
LOCATION:Leonard & Claire Tow Center for the Performing Arts\, Don Buchwald Theater
CATEGORIES:Academics,Alumni,Conservatory of Music,Leonard & Claire Tow Center for the Performing Arts,School of Visual, Media and Performing Arts
ORGANIZER;CN="Conservatory of Music":MAILTO:bstrasberg@brooklyn.cuny.edu
GEO:40.63169;-73.94867
END:VEVENT
BEGIN:VEVENT
DTSTART;TZID=America/New_York:20260517T190000
DTEND;TZID=America/New_York:20260517T201500
DTSTAMP:20260419T124009
CREATED:20260326T184703Z
LAST-MODIFIED:20260326T184703Z
UID:10014327-1779044400-1779048900@www.brooklyn.edu
SUMMARY:Student Recital: Nicole Osmolovskaya\, soprano
DESCRIPTION:Soprano presents recital with works by Handel\, Wolf\, Faure\, Debussy\, Sondheim and more!
URL:https://www.brooklyn.edu/event/student-recital-nicole-osmolovskaya-soprano/
LOCATION:Leonard & Claire Tow Center for the Performing Arts\, Don Buchwald Theater
CATEGORIES:Academics,Alumni,Conservatory of Music,Leonard & Claire Tow Center for the Performing Arts,School of Visual, Media and Performing Arts
ORGANIZER;CN="Conservatory of Music":MAILTO:bstrasberg@brooklyn.cuny.edu
GEO:40.63169;-73.94867
END:VEVENT
BEGIN:VEVENT
DTSTART;TZID=America/New_York:20260521T190000
DTEND;TZID=America/New_York:20260521T203000
DTSTAMP:20260419T124009
CREATED:20250108T200937Z
LAST-MODIFIED:20251028T200105Z
UID:10013140-1779390000-1779395400@www.brooklyn.edu
SUMMARY:Computer Music Showcase
DESCRIPTION:7-8:30 p.m. performance\nTopfer Rehearsal Studio\nFree to all \nStudents of Electroacoustic Music present new original acousmatic and interactive electronic works.\nSol Leon\, Director
URL:https://www.brooklyn.edu/event/computer-music-showcase-2025-26/2026-05-21/
LOCATION:Leonard & Claire Tow Center for the Performing Arts\, Topfer Rehearsal Studio
CATEGORIES:Academics,Alumni,Conservatory of Music,Leonard & Claire Tow Center for the Performing Arts,School of Visual, Media and Performing Arts
ATTACH;FMTTYPE=image/jpeg:https://www.brooklyn.edu/wp-content/uploads/TOW-Event-Computer-Music-Showcase-231214-4.jpg
ORGANIZER;CN="Conservatory of Music":MAILTO:bstrasberg@brooklyn.cuny.edu
GEO:40.63159;-73.94897
END:VEVENT
BEGIN:VEVENT
DTSTART;TZID=America/New_York:20260523T160000
DTEND;TZID=America/New_York:20260523T171500
DTSTAMP:20260419T124009
CREATED:20260326T185149Z
LAST-MODIFIED:20260326T185149Z
UID:10014329-1779552000-1779556500@www.brooklyn.edu
SUMMARY:Student Recital: Joanelys Rosado\, mezzo-soprano
DESCRIPTION:Mezzo-soprano presents recital with works by TBA
URL:https://www.brooklyn.edu/event/student-recital-joanelys-rosado-mezzo-soprano/
LOCATION:Leonard & Claire Tow Center for the Performing Arts\, Don Buchwald Theater
CATEGORIES:Academics,Alumni,Conservatory of Music,Leonard & Claire Tow Center for the Performing Arts,School of Visual, Media and Performing Arts
ORGANIZER;CN="Conservatory of Music":MAILTO:bstrasberg@brooklyn.cuny.edu
GEO:40.63169;-73.94867
END:VEVENT
END:VCALENDAR