BEGIN:VCALENDAR
VERSION:2.0
PRODID:-//Brooklyn College - ECPv6.15.12.2//NONSGML v1.0//EN
CALSCALE:GREGORIAN
METHOD:PUBLISH
X-ORIGINAL-URL:https://www.brooklyn.edu
X-WR-CALDESC:Events for Brooklyn College
REFRESH-INTERVAL;VALUE=DURATION:PT1H
X-Robots-Tag:noindex
X-PUBLISHED-TTL:PT1H
BEGIN:VTIMEZONE
TZID:America/New_York
BEGIN:DAYLIGHT
TZOFFSETFROM:-0500
TZOFFSETTO:-0400
TZNAME:EDT
DTSTART:20240310T070000
END:DAYLIGHT
BEGIN:STANDARD
TZOFFSETFROM:-0400
TZOFFSETTO:-0500
TZNAME:EST
DTSTART:20241103T060000
END:STANDARD
BEGIN:DAYLIGHT
TZOFFSETFROM:-0500
TZOFFSETTO:-0400
TZNAME:EDT
DTSTART:20250309T070000
END:DAYLIGHT
BEGIN:STANDARD
TZOFFSETFROM:-0400
TZOFFSETTO:-0500
TZNAME:EST
DTSTART:20251102T060000
END:STANDARD
BEGIN:DAYLIGHT
TZOFFSETFROM:-0500
TZOFFSETTO:-0400
TZNAME:EDT
DTSTART:20260308T070000
END:DAYLIGHT
BEGIN:STANDARD
TZOFFSETFROM:-0400
TZOFFSETTO:-0500
TZNAME:EST
DTSTART:20261101T060000
END:STANDARD
BEGIN:DAYLIGHT
TZOFFSETFROM:-0500
TZOFFSETTO:-0400
TZNAME:EDT
DTSTART:20270314T070000
END:DAYLIGHT
BEGIN:STANDARD
TZOFFSETFROM:-0400
TZOFFSETTO:-0500
TZNAME:EST
DTSTART:20271107T060000
END:STANDARD
END:VTIMEZONE
BEGIN:VEVENT
DTSTART;TZID=America/New_York:20260331T123000
DTEND;TZID=America/New_York:20260331T140000
DTSTAMP:20260422T030822
CREATED:20260318T151902Z
LAST-MODIFIED:20260318T152417Z
UID:10014301-1774960200-1774965600@www.brooklyn.edu
SUMMARY:K-Pop Dance Class
DESCRIPTION:The Korean Culture Club is holding a Korean pop dance class that provides an opportunity for students to participate in modern Korean pop culture through creative movement. \nThis guided workshop includes introductory warm-ups and dance instruction that covers the chorus part of Fifty Fifty’s hit single “Cupid.” Near the end of class\, students can participate in an end-of-class filming\, where they can access the recorded videos afterward. \nThe workshop is a great opportunity for students who want to de-stress after midterms\, for friends who share  an interest in Korean popular culture\, or for anyone who wants to try a dance class without the monetary pressure.
URL:https://www.brooklyn.edu/event/k-pop-dance-class/
LOCATION:West Quad Center\, Room 240\, Multipurpose Room
CATEGORIES:Division of Student Affairs,Graduate,Undergraduate
ORGANIZER;CN="Division of Student Affairs":MAILTO:studentaffairs@brooklyn.cuny.edu
GEO:40.63077;-73.95432
X-APPLE-STRUCTURED-LOCATION;VALUE=URI;X-ADDRESS=West Quad Center Room 240 Multipurpose Room;X-APPLE-RADIUS=500;X-TITLE=Multipurpose Room:geo:-73.95432,40.63077
END:VEVENT
BEGIN:VEVENT
DTSTART;TZID=America/New_York:20251113T121500
DTEND;TZID=America/New_York:20251113T141500
DTSTAMP:20260422T030822
CREATED:20251110T171417Z
LAST-MODIFIED:20251110T171417Z
UID:10013983-1763036100-1763043300@www.brooklyn.edu
SUMMARY:"Caribbean Queen" Film Screening and Workshop
DESCRIPTION:Join the LGBTQ+ Center and BLMI to watch the film Caribbean Queen\, a short film by Sekiya Dorset that follows Q\, a young Caribbean boy who aspires to become the Queen of the West Indian Day Carnival Parade. Despite facing adversity and prejudice from family and the community\, Q remains determined to pursue their dream. The screening will be followed by a brief workshop help by the Caribbean Equality Project. Lunch will be served.
URL:https://www.brooklyn.edu/event/caribbean-queen-film-screening-and-workshop/
LOCATION:Student Center\, Room 518\, Occidental Room
CATEGORIES:Division of Student Affairs,LGBTQ Resource Center
ORGANIZER;CN="LGBTQ Resource Center":MAILTO:lgbtqcenter@brooklyn.cuny.edu
GEO:40.63265;-73.95045
END:VEVENT
BEGIN:VEVENT
DTSTART;TZID=America/New_York:20251030T123000
DTEND;TZID=America/New_York:20251030T141000
DTSTAMP:20260422T030822
CREATED:20251024T154154Z
LAST-MODIFIED:20251024T154154Z
UID:10013967-1761827400-1761833400@www.brooklyn.edu
SUMMARY:Autumn Showcase—Celebrate Fall and Sustainability
DESCRIPTION:Meet local organizations\, campus groups\, and others to learn about their efforts and how you can promote sustainability while decorating pumpkins. \nRSVP Today
URL:https://www.brooklyn.edu/event/autumn-showcase-celebrate-fall-and-sustainability/
LOCATION:West Quad
CATEGORIES:Campus Sustainability,Division of Student Affairs,Environmental Health and Safety
ORGANIZER;CN="Environmental Health and Safety":MAILTO:ehs@brooklyn.cuny.edu
GEO:40.63113837;-73.95336753
END:VEVENT
BEGIN:VEVENT
DTSTART;TZID=America/New_York:20250916T120000
DTEND;TZID=America/New_York:20250916T143000
DTSTAMP:20260422T030822
CREATED:20250910T155933Z
LAST-MODIFIED:20250910T160018Z
UID:10013059-1758024000-1758033000@www.brooklyn.edu
SUMMARY:Check In and Swag Up! Fall Resource and Mini Health Fair
DESCRIPTION:This exciting and informative event is hosted by the Brooklyn College Food Pantry\, Student Support Services\, and the Health Programs Office. Students will check in with both on-campus and external resources to make sure they are on track for the semester and have what they need to be healthy and engaged. We will incorporate a Bingo game: Each table will have a Bingo marker to stamp students’ cards as they visit. Students who earn Bingo can turn in their card for a Brooklyn College sweatshirt.
URL:https://www.brooklyn.edu/event/check-in-and-swag-up-fall-resource-and-mini-health-fair/
LOCATION:West Quad
CATEGORIES:Division of Student Affairs,Graduate,Undergraduate
ORGANIZER;CN="Division of Student Affairs":MAILTO:studentaffairs@brooklyn.cuny.edu
GEO:40.63113837;-73.95336753
END:VEVENT
BEGIN:VEVENT
DTSTART;TZID=America/New_York:20250506T120000
DTEND;TZID=America/New_York:20250506T143000
DTSTAMP:20260422T030822
CREATED:20250409T154320Z
LAST-MODIFIED:20250409T154320Z
UID:10012824-1746532800-1746541800@www.brooklyn.edu
SUMMARY:Health and Wellness Festival—Your Health Is Our Priority
DESCRIPTION:The Health and Wellness Festival is hosted by the Health Programs Office and the Brooklyn College Cancer Center. This exciting event promises to be informative and engaging\, offering a wealth of resources and support to help you navigate a healthier lifestyle. Join us for this fantastic opportunity to enhance your well-being. \nRain location will be in the Student Center.
URL:https://www.brooklyn.edu/event/health-and-wellness-festival-your-health-is-our-priority/
LOCATION:East Quad
CATEGORIES:Brooklyn College Cancer Center,Division of Student Affairs
ATTACH;FMTTYPE=image/jpeg:https://www.brooklyn.edu/wp-content/uploads/2025-Health-and-Wellness-Fair.jpg
ORGANIZER;CN="Health Programs / Immunization Requirements":MAILTO:hpo@brooklyn.cuny.edu
GEO:40.63133352;-73.95161278
END:VEVENT
END:VCALENDAR