BEGIN:VCALENDAR
VERSION:2.0
PRODID:-//Brooklyn College - ECPv6.15.12.2//NONSGML v1.0//EN
CALSCALE:GREGORIAN
METHOD:PUBLISH
X-ORIGINAL-URL:https://www.brooklyn.edu
X-WR-CALDESC:Events for Brooklyn College
REFRESH-INTERVAL;VALUE=DURATION:PT1H
X-Robots-Tag:noindex
X-PUBLISHED-TTL:PT1H
BEGIN:VTIMEZONE
TZID:America/New_York
BEGIN:DAYLIGHT
TZOFFSETFROM:-0500
TZOFFSETTO:-0400
TZNAME:EDT
DTSTART:20240310T070000
END:DAYLIGHT
BEGIN:STANDARD
TZOFFSETFROM:-0400
TZOFFSETTO:-0500
TZNAME:EST
DTSTART:20241103T060000
END:STANDARD
BEGIN:DAYLIGHT
TZOFFSETFROM:-0500
TZOFFSETTO:-0400
TZNAME:EDT
DTSTART:20250309T070000
END:DAYLIGHT
BEGIN:STANDARD
TZOFFSETFROM:-0400
TZOFFSETTO:-0500
TZNAME:EST
DTSTART:20251102T060000
END:STANDARD
BEGIN:DAYLIGHT
TZOFFSETFROM:-0500
TZOFFSETTO:-0400
TZNAME:EDT
DTSTART:20260308T070000
END:DAYLIGHT
BEGIN:STANDARD
TZOFFSETFROM:-0400
TZOFFSETTO:-0500
TZNAME:EST
DTSTART:20261101T060000
END:STANDARD
END:VTIMEZONE
BEGIN:VEVENT
DTSTART;TZID=America/New_York:20250403T110000
DTEND;TZID=America/New_York:20250403T121500
DTSTAMP:20260421T131758
CREATED:20250113T170420Z
LAST-MODIFIED:20250303T164630Z
UID:10012530-1743678000-1743682500@www.brooklyn.edu
SUMMARY:The 2025 Robert L. Hess Memorial Lecture: Funhouse Footnote Four—How the Roberts Court Is Remaking the Constitutional Order
DESCRIPTION:Melissa Murray\, Frederick I. and Grace Stokes Professor of Law\, NYU School of Law; co-host of Strict Scrutiny podcast; MSNBC legal analyst\, and Robert L. Hess Scholar-in Residence 2024–25\, delivers the 2025 Hess Memorial Lecture based on her forthcoming book\, Woke Warriors: The Roberts Court’s Racial Reckoning.
URL:https://www.brooklyn.edu/event/the-2025-robert-l-hess-memorial-lecture-woke-warriors-the-roberts-courts-racial-reckoning/
LOCATION:Library\, Room 150\, Woody Tanger Auditorium
CATEGORIES:Ethyle R. Wolfe Institute for the Humanities,Graduate,School of Humanities and Social Sciences,Undergraduate
ATTACH;FMTTYPE=image/jpeg:https://www.brooklyn.edu/wp-content/uploads/Melissa-Murray.jpeg
ORGANIZER;CN="Ethyle R. Wolfe Institute for the Humanities":MAILTO:wolfe@brooklyn.cuny.edu
GEO:40.63109;-73.94981
END:VEVENT
BEGIN:VEVENT
DTSTART;TZID=America/New_York:20250304T123000
DTEND;TZID=America/New_York:20250304T133000
DTSTAMP:20260421T131758
CREATED:20250205T203251Z
LAST-MODIFIED:20250205T203251Z
UID:10012639-1741091400-1741095000@www.brooklyn.edu
SUMMARY:Graduate Open House – School of Natural and Behavioral Sciences (For Alumni and Staff)
DESCRIPTION:Graduate Admissions will be hosting the School of Natural and Behavioral Sciences Graduate Open House only for Brooklyn College seniors\, staff\, and alumni on March 4\, 2025\, starting at 12:30 p.m. in the Student Center Occidental Room 5th Floor. \nGraduating seniors\, alumni\, and staff can bring their unofficial transcripts to receive an admission decision for most programs in as few as 3 days. Most programs also be waiving the application fee and letters of recommendations. \nMeet with faculty and program directors who teach the courses and learn more about the graduate programs within the School of Natural and Behavioral Sciences. \nLunch will be provided. \nRSVP Now
URL:https://www.brooklyn.edu/event/graduate-open-house-school-of-natural-and-behavioral-sciences-alumni-and-staff/
LOCATION:Student Center\, Room 518\, Occidental Room
CATEGORIES:Admissions, Graduate,Alumni,Graduate,School of Natural and Behavioral Sciences,Staff
ORGANIZER;CN="Admissions%2C Graduate":MAILTO:grads@brooklyn.cuny.edu
GEO:40.63265;-73.95045
END:VEVENT
END:VCALENDAR