BEGIN:VCALENDAR
VERSION:2.0
PRODID:-//Brooklyn College - ECPv6.15.12.2//NONSGML v1.0//EN
CALSCALE:GREGORIAN
METHOD:PUBLISH
X-WR-CALNAME:Brooklyn College
X-ORIGINAL-URL:https://www.brooklyn.edu
X-WR-CALDESC:Events for Brooklyn College
REFRESH-INTERVAL;VALUE=DURATION:PT1H
X-Robots-Tag:noindex
X-PUBLISHED-TTL:PT1H
BEGIN:VTIMEZONE
TZID:America/New_York
BEGIN:DAYLIGHT
TZOFFSETFROM:-0500
TZOFFSETTO:-0400
TZNAME:EDT
DTSTART:20240310T070000
END:DAYLIGHT
BEGIN:STANDARD
TZOFFSETFROM:-0400
TZOFFSETTO:-0500
TZNAME:EST
DTSTART:20241103T060000
END:STANDARD
BEGIN:DAYLIGHT
TZOFFSETFROM:-0500
TZOFFSETTO:-0400
TZNAME:EDT
DTSTART:20250309T070000
END:DAYLIGHT
BEGIN:STANDARD
TZOFFSETFROM:-0400
TZOFFSETTO:-0500
TZNAME:EST
DTSTART:20251102T060000
END:STANDARD
BEGIN:DAYLIGHT
TZOFFSETFROM:-0500
TZOFFSETTO:-0400
TZNAME:EDT
DTSTART:20260308T070000
END:DAYLIGHT
BEGIN:STANDARD
TZOFFSETFROM:-0400
TZOFFSETTO:-0500
TZNAME:EST
DTSTART:20261101T060000
END:STANDARD
END:VTIMEZONE
BEGIN:VEVENT
DTSTART;TZID=America/New_York:20251112T190000
DTEND;TZID=America/New_York:20251112T200000
DTSTAMP:20260421T155622
CREATED:20250522T163740Z
LAST-MODIFIED:20251105T154257Z
UID:10012898-1762974000-1762977600@www.brooklyn.edu
SUMMARY:Graduate Open House – School of Humanities and Social Sciences\, History\, M.A.
DESCRIPTION:Meet with faculty and admissions representatives to discuss the History\, M.A.\, admission requirements\, and the application process. \nLearn about career resources\, internship opportunities\, and funding options\, and get to know our current students\, faculty\, and staff. \nRegister for Zoom
URL:https://www.brooklyn.edu/event/graduate-open-house-2025-school-of-humanities-and-social-sciences-history-m-a/
LOCATION:Online
CATEGORIES:Admissions,Admissions, Graduate,Graduate,History,School of Humanities and Social Sciences
ORGANIZER;CN="Admissions%2C Graduate":MAILTO:grads@brooklyn.cuny.edu
END:VEVENT
BEGIN:VEVENT
DTSTART;TZID=America/New_York:20251016T180000
DTEND;TZID=America/New_York:20251016T191500
DTSTAMP:20260421T155622
CREATED:20250826T190758Z
LAST-MODIFIED:20251001T130623Z
UID:10013041-1760637600-1760642100@www.brooklyn.edu
SUMMARY:New Books by BC Faculty Series: Embodied Epistemology as Rigorous Historical Method
DESCRIPTION:Join medieval historian Lauren Mancia and anthropologist Professor Katie Rose Hejtmanek as they discuss Mancia’s new short book\, Embodied Epistemology as Rigorous Historical Method. Learn why scholars assume they cannot use reperformance in academic inquiry and why they\, in fact\, should. Discover how embodied epistemology is particularly suited to studying certain pre-1500 C.E. historical topics. Find out how using performance as a tool for historical investigation might work. And hear about some of the innovative\, fun\, and crazy things these two professors do in their research and in their classrooms. \nLauren Mancia is a professor of history at Brooklyn College and professor of medieval studies at the CUNY Graduate Center. She also organizes the LAMEM colloquium. \nKatie Rose Hejtmanek is professor of anthropology and children and youth studies as well as a national and world champion in masters weightlifting. \nRegister for the Zoom meeting
URL:https://www.brooklyn.edu/event/new-books-by-bc-faculty-series-embodied-epistemology-as-rigorous-historical-method/
LOCATION:Online
CATEGORIES:Anthropology,Children and Youth Studies,Ethyle R. Wolfe Institute for the Humanities,History,Late Antique-Medieval-Early Modern Faculty Working Group (LAMEM),School of Natural and Behavioral Sciences
ORGANIZER;CN="Ethyle R. Wolfe Institute for the Humanities":MAILTO:wolfe@brooklyn.cuny.edu
END:VEVENT
BEGIN:VEVENT
DTSTART;TZID=America/New_York:20250402T154000
DTEND;TZID=America/New_York:20250402T170000
DTSTAMP:20260421T155622
CREATED:20250214T194618Z
LAST-MODIFIED:20250303T163547Z
UID:10012649-1743608400-1743613200@www.brooklyn.edu
SUMMARY:The Role of the Courts in Our Democracy
DESCRIPTION:This event\, moderated by Associate Professor of Philosophy Anna Gotlib\, will feature the following speakers: Melissa Murray\, Frederick I. and Grace Stokes Professor of Law at NYU School of Law\, co-host of Strict Scrutiny podcast\, MSNBC legal analyst\, and Robert L. Hess Scholar-in Residence 2025; Deborah N. Archer\, president\, American Civil Liberties Union (ACLU)\, and Margaret B. Hoppin Professor of Clinical Law and associate dean\, experiential education and clinical programs at NYU Law School; Lee Gelernt\, director of the ACLU’s Immigrants’ Rights Project and director of the project’s Access to the Courts program\, and adjunct professor at Columbia Law School; and Leah Litman\, professor of law at University of Michigan Law School and co-host of Strict Scrutiny. \nSponsored by the Frederic Ewen Civil Liberties and Academic Freedom Lecture and the Department of History at Brooklyn College.
URL:https://www.brooklyn.edu/event/the-role-of-the-courts-in-our-democracy/
LOCATION:Library\, Room 150\, Woody Tanger Auditorium
CATEGORIES:Ethyle R. Wolfe Institute for the Humanities,History,School of Humanities and Social Sciences
ATTACH;FMTTYPE=image/jpeg:https://www.brooklyn.edu/wp-content/uploads/Melissa-Murray.jpeg
ORGANIZER;CN="Ethyle R. Wolfe Institute for the Humanities":MAILTO:wolfe@brooklyn.cuny.edu
GEO:40.63109;-73.94981
END:VEVENT
BEGIN:VEVENT
DTSTART;TZID=America/New_York:20250402T110000
DTEND;TZID=America/New_York:20250402T121500
DTSTAMP:20260421T155622
CREATED:20250206T170957Z
LAST-MODIFIED:20250303T163514Z
UID:10012643-1743591600-1743596100@www.brooklyn.edu
SUMMARY:History and the Courts
DESCRIPTION:This conversation takes its inspiration from Melissa Murray’s 2024 article “Making History” (The Yale Law Journal Forum 133 (PDF))\, in which she asks\, “What does it mean for the Court to ‘do history’?” \nMurray is the Frederick I. and Grace Stokes Professor of Law at NYU School of Law\, co-host of Strict Scrutiny podcast\, MSNBC legal analyst\, and Robert L. Hess Scholar-in Residence 2025. She will be joined by Christen Hammock Jones\, doctoral student in American legal history at University of Pennsylvania; Christina D. Ponsa-Kraus\, professor at Columbia University School of Law; and Noah Rosenblum\, associate professor of law at New York University School of Law and faculty director of the Vanderbilt Scholars Program and Katzmann Symposium. \nModerated by Anna Law\, Kurz Chair of Constitutional Rights and Professor of Political Science\, Brooklyn College.
URL:https://www.brooklyn.edu/event/history-and-the-courts/
LOCATION:Library\, Room 150\, Woody Tanger Auditorium
CATEGORIES:Ethyle R. Wolfe Institute for the Humanities,History,Political Science,School of Humanities and Social Sciences
ATTACH;FMTTYPE=image/jpeg:https://www.brooklyn.edu/wp-content/uploads/Melissa-Murray.jpeg
ORGANIZER;CN="Ethyle R. Wolfe Institute for the Humanities":MAILTO:wolfe@brooklyn.cuny.edu
GEO:40.63109;-73.94981
END:VEVENT
END:VCALENDAR