BEGIN:VCALENDAR
VERSION:2.0
PRODID:-//Brooklyn College - ECPv6.15.12.2//NONSGML v1.0//EN
CALSCALE:GREGORIAN
METHOD:PUBLISH
X-ORIGINAL-URL:https://www.brooklyn.edu
X-WR-CALDESC:Events for Brooklyn College
REFRESH-INTERVAL;VALUE=DURATION:PT1H
X-Robots-Tag:noindex
X-PUBLISHED-TTL:PT1H
BEGIN:VTIMEZONE
TZID:America/New_York
BEGIN:DAYLIGHT
TZOFFSETFROM:-0500
TZOFFSETTO:-0400
TZNAME:EDT
DTSTART:20250309T070000
END:DAYLIGHT
BEGIN:STANDARD
TZOFFSETFROM:-0400
TZOFFSETTO:-0500
TZNAME:EST
DTSTART:20251102T060000
END:STANDARD
BEGIN:DAYLIGHT
TZOFFSETFROM:-0500
TZOFFSETTO:-0400
TZNAME:EDT
DTSTART:20260308T070000
END:DAYLIGHT
BEGIN:STANDARD
TZOFFSETFROM:-0400
TZOFFSETTO:-0500
TZNAME:EST
DTSTART:20261101T060000
END:STANDARD
BEGIN:DAYLIGHT
TZOFFSETFROM:-0500
TZOFFSETTO:-0400
TZNAME:EDT
DTSTART:20270314T070000
END:DAYLIGHT
BEGIN:STANDARD
TZOFFSETFROM:-0400
TZOFFSETTO:-0500
TZNAME:EST
DTSTART:20271107T060000
END:STANDARD
END:VTIMEZONE
BEGIN:VEVENT
DTSTART;TZID=America/New_York:20260428T123000
DTEND;TZID=America/New_York:20260428T140000
DTSTAMP:20260421T142747
CREATED:20251211T182206Z
LAST-MODIFIED:20251211T182327Z
UID:10014067-1777379400-1777384800@www.brooklyn.edu
SUMMARY:LAMEM at the HSS Expo
DESCRIPTION:LAMEM at the HSS Expo! Come walk among late antique stylites and medieval anchorites. \nFeaturing the history students of HIST 4006. \nVisit LAMEM
URL:https://www.brooklyn.edu/event/lamem-at-the-hss-expo/
LOCATION:East Quad
CATEGORIES:Academics,History,Late Antique-Medieval-Early Modern Faculty Working Group (LAMEM),School of Humanities and Social Sciences
ATTACH;FMTTYPE=image/jpeg:https://www.brooklyn.edu/wp-content/uploads/2025/12/LAMEM-aristole-phyllis.jpg
ORGANIZER;CN="Late Antique-Medieval-Early Modern Faculty Working Group (LAMEM)":MAILTO:nicolam@brooklyn.cuny.edu
GEO:40.63133352;-73.95161278
END:VEVENT
BEGIN:VEVENT
DTSTART;TZID=America/New_York:20260428T123000
DTEND;TZID=America/New_York:20260428T140000
DTSTAMP:20260421T142747
CREATED:20260414T172708Z
LAST-MODIFIED:20260414T172708Z
UID:10014346-1777379400-1777384800@www.brooklyn.edu
SUMMARY:Experiencing Medieval Durational Performance
DESCRIPTION:Join us as 15 advanced history undergraduates do performance-as-research about medieval asceticism\, investigating premodern people who wholly committed their lives to a single purpose: pilgrims (who walked long distances to special destinations)\, stylites (who stoically sat on the top of pillars in the desert as exemplars of humility)\, hermits (who were caretakers of the environment and their community)\, and anchorites (who permanently “buried” themselves in small huts so they could best meditate on death while still alive). Come explore a corner of our campus that students will transform into a learning laboratory where they investigate what it meant to live intentionally in the premodern world. Students will be on hand to explain the scholarly rigor of our embodied research methodologies and the premodern historical context\, and they will also help facilitate any willing audience members’ participation in our performance-as-research.
URL:https://www.brooklyn.edu/event/experiencing-medieval-durational-performance/
LOCATION:Lily Pond
CATEGORIES:Ethyle R. Wolfe Institute for the Humanities,History,School of Humanities and Social Sciences
ORGANIZER;CN="Ethyle R. Wolfe Institute for the Humanities":MAILTO:wolfe@brooklyn.cuny.edu
END:VEVENT
END:VCALENDAR