BEGIN:VCALENDAR
VERSION:2.0
PRODID:-//Brooklyn College - ECPv6.15.12.2//NONSGML v1.0//EN
CALSCALE:GREGORIAN
METHOD:PUBLISH
X-WR-CALNAME:Brooklyn College
X-ORIGINAL-URL:https://www.brooklyn.edu
X-WR-CALDESC:Events for Brooklyn College
REFRESH-INTERVAL;VALUE=DURATION:PT1H
X-Robots-Tag:noindex
X-PUBLISHED-TTL:PT1H
BEGIN:VTIMEZONE
TZID:America/New_York
BEGIN:DAYLIGHT
TZOFFSETFROM:-0500
TZOFFSETTO:-0400
TZNAME:EDT
DTSTART:20250309T070000
END:DAYLIGHT
BEGIN:STANDARD
TZOFFSETFROM:-0400
TZOFFSETTO:-0500
TZNAME:EST
DTSTART:20251102T060000
END:STANDARD
BEGIN:DAYLIGHT
TZOFFSETFROM:-0500
TZOFFSETTO:-0400
TZNAME:EDT
DTSTART:20260308T070000
END:DAYLIGHT
BEGIN:STANDARD
TZOFFSETFROM:-0400
TZOFFSETTO:-0500
TZNAME:EST
DTSTART:20261101T060000
END:STANDARD
BEGIN:DAYLIGHT
TZOFFSETFROM:-0500
TZOFFSETTO:-0400
TZNAME:EDT
DTSTART:20270314T070000
END:DAYLIGHT
BEGIN:STANDARD
TZOFFSETFROM:-0400
TZOFFSETTO:-0500
TZNAME:EST
DTSTART:20271107T060000
END:STANDARD
END:VTIMEZONE
BEGIN:VEVENT
DTSTART;TZID=America/New_York:20260422T120000
DTEND;TZID=America/New_York:20260422T140000
DTSTAMP:20260421T045450
CREATED:20260325T140052Z
LAST-MODIFIED:20260325T140052Z
UID:10014320-1776859200-1776866400@www.brooklyn.edu
SUMMARY:Queerzines! A Zine-Making Workshop
DESCRIPTION:Zines are creative ways for queer communities to express ourselves\, platform our creativity\, and distribute as forms of resistance. Think magazine—but DIY counterculture. Paper\, pencils\, pens\, etc.\, will provided as well and guidance on making your own zine! Refreshments will be served. \nThis is a collaboration with the social work interns and the offices of the LGBTQ+ Resource Center and Brooklyn College SEEK.
URL:https://www.brooklyn.edu/event/queerzines-a-zine-making-workshop/
LOCATION:Student Center\, Room 219\, LGBTQ Resource Center
CATEGORIES:LGBTA,LGBTQ Resource Center,Percy Ellis Sutton SEEK Program
ORGANIZER;CN="LGBTQ Resource Center":MAILTO:lgbtqcenter@brooklyn.cuny.edu
GEO:40.63267;-73.95022
END:VEVENT
BEGIN:VEVENT
DTSTART;TZID=America/New_York:20260423T123000
DTEND;TZID=America/New_York:20260423T133000
DTSTAMP:20260421T045450
CREATED:20260219T201053Z
LAST-MODIFIED:20260219T201053Z
UID:10014241-1776947400-1776951000@www.brooklyn.edu
SUMMARY:Trans+ Affinity Support Group
DESCRIPTION:The Transgender and Nonbinary Affinity Support Group will be led by the LGBTQ+ Resource Center’s own social work intern\, Daniel-José. A space intended for trans (and nonbinary) students\, students are welcome to share their personal experiences and journeys in a supportive environment. This group will meet several times throughout the spring semester. Although registration is not required\, it is preferred so that Daniel-José can keep in contact with students interested in the group.
URL:https://www.brooklyn.edu/event/trans-affinity-support-group/2026-04-23/
LOCATION:Student Center\, Room 407\, Aviary Room
CATEGORIES:LGBTA,LGBTQ Resource Center
ORGANIZER;CN="LGBTQ Resource Center":MAILTO:lgbtqcenter@brooklyn.cuny.edu
GEO:40.63267;-73.95022
END:VEVENT
BEGIN:VEVENT
DTSTART;TZID=America/New_York:20260430T150000
DTEND;TZID=America/New_York:20260430T200000
DTSTAMP:20260421T045450
CREATED:20260406T131453Z
LAST-MODIFIED:20260406T131453Z
UID:10014335-1777561200-1777579200@www.brooklyn.edu
SUMMARY:2nd Annual CUNY-Wide Vogue Ball: Tailoring Black Style
DESCRIPTION:The Brooklyn College LGBTA and the LGBTQ+ Resource Center will be hosting our 2nd Annual CUNY-Wide Vogue Ball. This year’s theme will be “Dandyism: Tailoring Black Style\,” inspired by the 2025 Met Gala and exhibit titled “Superfine: Tailoring Black Style.” \nThe Vogue Ball\, 5–8 p.m.\, will feature several categories for participants to dip\, twirl\, spin\, and show off your best face. Judges will determine who will take home the prizes! Food will be served. Beginner-friendly categories include Face\, Runway\, Performance\, Realness\, and Fashion. \nPrior to the ball\, from 3 to 5 p.m.\, there will be a resource fair with internal partners and external organizations. Come learn about different services provided by Brooklyn College and community organizations. \nThe “ballroom scene” is a vibrant subculture within the LGBTQ+ community\, born in the underground New York City scene. Historically\, these spaces served as safe havens for LGBTQ+ people of color. Through extravagant performances and fashion\, LGBTQ+ people challenged societal norms on gender and sexuality through fashion and gender expression. \nThe ball is for CUNY students\, staff\, and faculty only\, and a reservation is required\, as space is limited. RSVP does not guarantee entry after 6:30 p.m.
URL:https://www.brooklyn.edu/event/2nd-annual-cuny-wide-vogue-ball-tailoring-black-style/
LOCATION:Leonard & Claire Tow Center for the Performing Arts\, Lobby
CATEGORIES:LGBTA,LGBTQ Resource Center
ORGANIZER;CN="LGBTQ Resource Center":MAILTO:lgbtqcenter@brooklyn.cuny.edu
GEO:40.63184;-73.94892
END:VEVENT
BEGIN:VEVENT
DTSTART;TZID=America/New_York:20260507T123000
DTEND;TZID=America/New_York:20260507T133000
DTSTAMP:20260421T045450
CREATED:20260406T135427Z
LAST-MODIFIED:20260406T135427Z
UID:10014336-1778157000-1778160600@www.brooklyn.edu
SUMMARY:Trans+ Affinity Support Group
DESCRIPTION:The Transgender and Nonbinary Affinity Support Group will be led by the LGBTQ+ Resource Center’s social work intern\, Daniel-José. At this space intended for trans (and nonbinary) students\, students are welcome to share their personal experiences and journeys in a supportive environment. This group will meet several times throughout the spring semester. Although registration is not required\, it is preferred so that Daniel-José can keep in contact with students interested in the group.
URL:https://www.brooklyn.edu/event/trans-affinity-support-group-2/
LOCATION:Student Center\, Room 407\, Aviary Room
CATEGORIES:LGBTA,LGBTQ Resource Center
ORGANIZER;CN="LGBTQ Resource Center":MAILTO:lgbtqcenter@brooklyn.cuny.edu
GEO:40.63267;-73.95022
END:VEVENT
BEGIN:VEVENT
DTSTART;TZID=America/New_York:20260513T123000
DTEND;TZID=America/New_York:20260513T133000
DTSTAMP:20260421T045450
CREATED:20260407T192326Z
LAST-MODIFIED:20260407T192457Z
UID:10014337-1778675400-1778679000@www.brooklyn.edu
SUMMARY:Ace and Aro Affinity Support Group
DESCRIPTION:The Asexual and Aromantic Affinity Support Group will be led by LGBTQ+ Resource Center’s social work intern\, Daniel-José. This space is intended for students who identify on the asexual and/or aromantic spectrum\, or are questioning if these identities make sense for them. Students are welcome to share their experiences and stories in a supportive and encouraging environment. This group will meet several times throughout the spring semester. Although registration is not required\, it is preferred so that Daniel-José can keep in contact with prospective group members.
URL:https://www.brooklyn.edu/event/ace-aro-affinity-group/
LOCATION:Student Center\, Room 407\, Aviary Room
CATEGORIES:LGBTA,LGBTQ Resource Center
ORGANIZER;CN="LGBTQ Resource Center":MAILTO:lgbtqcenter@brooklyn.cuny.edu
GEO:40.63267;-73.95022
END:VEVENT
END:VCALENDAR