BEGIN:VCALENDAR
VERSION:2.0
PRODID:-//Brooklyn College - ECPv6.15.12.2//NONSGML v1.0//EN
CALSCALE:GREGORIAN
METHOD:PUBLISH
X-ORIGINAL-URL:https://www.brooklyn.edu
X-WR-CALDESC:Events for Brooklyn College
REFRESH-INTERVAL;VALUE=DURATION:PT1H
X-Robots-Tag:noindex
X-PUBLISHED-TTL:PT1H
BEGIN:VTIMEZONE
TZID:America/New_York
BEGIN:DAYLIGHT
TZOFFSETFROM:-0500
TZOFFSETTO:-0400
TZNAME:EDT
DTSTART:20240310T070000
END:DAYLIGHT
BEGIN:STANDARD
TZOFFSETFROM:-0400
TZOFFSETTO:-0500
TZNAME:EST
DTSTART:20241103T060000
END:STANDARD
BEGIN:DAYLIGHT
TZOFFSETFROM:-0500
TZOFFSETTO:-0400
TZNAME:EDT
DTSTART:20250309T070000
END:DAYLIGHT
BEGIN:STANDARD
TZOFFSETFROM:-0400
TZOFFSETTO:-0500
TZNAME:EST
DTSTART:20251102T060000
END:STANDARD
BEGIN:DAYLIGHT
TZOFFSETFROM:-0500
TZOFFSETTO:-0400
TZNAME:EDT
DTSTART:20260308T070000
END:DAYLIGHT
BEGIN:STANDARD
TZOFFSETFROM:-0400
TZOFFSETTO:-0500
TZNAME:EST
DTSTART:20261101T060000
END:STANDARD
END:VTIMEZONE
BEGIN:VEVENT
DTSTART;TZID=America/New_York:20251202T123000
DTEND;TZID=America/New_York:20251202T140000
DTSTAMP:20260419T235440
CREATED:20251118T203420Z
LAST-MODIFIED:20251118T203420Z
UID:10014018-1764678600-1764684000@www.brooklyn.edu
SUMMARY:Urban Upbound VITA Info Session
DESCRIPTION:Join Urban Upbound for an information session where they will discuss Volunteer and Paid Tax Preparer opportunities for the IRS Volunteer Income Tax Assistance (VITA) program this tax season. Participants will prepare simple to advanced returns for low-income individuals and families\, either in-person or virtually. \nRegister here at Handshake: https://tinyurl.com/UrbanUpboundInfo \n 
URL:https://www.brooklyn.edu/event/urban-upbound-vita-info-session/
LOCATION:1309 James Hall
CATEGORIES:Magner Career Center
END:VEVENT
BEGIN:VEVENT
DTSTART;TZID=America/New_York:20251120T123000
DTEND;TZID=America/New_York:20251120T140000
DTSTAMP:20260419T235440
CREATED:20251114T145755Z
LAST-MODIFIED:20251114T150525Z
UID:10014014-1763641800-1763647200@www.brooklyn.edu
SUMMARY:Enterprise Info Session
DESCRIPTION:Learn about Enterprise’s Internship Program and its Management Training Program. Gain experience in marketing\, sales\, finance\, customer service\, and operations. Seniors are eligible for the trainee program\, which allows you to secure a job before you graduate. Junior students are eligible for the Summer Internship Program. Freshmen and sophomores are eligible for the Customer Assistance Representative Program. All roles are paid. \nRegister on Handshake
URL:https://www.brooklyn.edu/event/enterprise-info-session/
LOCATION:James Hall\, Room 1309
CATEGORIES:Magner Career Center,Undergraduate
ORGANIZER;CN="Magner Career Center":MAILTO:careernews@brooklyn.cuny.edu
GEO:40.63193;-73.95352
END:VEVENT
BEGIN:VEVENT
DTSTART;TZID=America/New_York:20251115T100000
DTEND;TZID=America/New_York:20251115T120000
DTSTAMP:20260419T235440
CREATED:20250908T200450Z
LAST-MODIFIED:20250908T200604Z
UID:10013054-1763200800-1763208000@www.brooklyn.edu
SUMMARY:Uncommon Schools Career Lab
DESCRIPTION:Uncommon Schools will be hosting a professional development experience. At this event\, you will: \n\nmeet the hiring team\,\nexperience professional development that prioritizes your growth\,\nlearn how to do a Demo Lesson Plan\, and\nlearn how to interview with supportive school leaders.
URL:https://www.brooklyn.edu/event/uncommon-schools-career-lab/
LOCATION:James Hall\, Room 1309
CATEGORIES:Magner Career Center
ORGANIZER;CN="Magner Career Center":MAILTO:careernews@brooklyn.cuny.edu
GEO:40.63193;-73.95352
END:VEVENT
BEGIN:VEVENT
DTSTART;TZID=America/New_York:20251113T123000
DTEND;TZID=America/New_York:20251113T140000
DTSTAMP:20260419T235440
CREATED:20251017T152645Z
LAST-MODIFIED:20251017T152645Z
UID:10013954-1763037000-1763042400@www.brooklyn.edu
SUMMARY:Career Paths for Psychology Majors: A Virtual Alumni Panel
DESCRIPTION:Thinking about a career with your psychology major/degree but not sure where to start? Join us for an inspiring virtual panel featuring successful alumni who have turned their psychology degrees into diverse and exciting careers! Hear firsthand how they’ve applied their skills in fields like legal services\, health and human services\, education\, and consulting and psychotherapy. This is your chance to get a sneak peek into the jobs you never knew existed and ask your burning questions. \nJoin the Zoom meeting
URL:https://www.brooklyn.edu/event/career-paths-for-psychology-majors-a-virtual-alumni-panel/
LOCATION:Online
CATEGORIES:Magner Career Center,Psychology
ORGANIZER;CN="Magner Career Center":MAILTO:careernews@brooklyn.cuny.edu
END:VEVENT
BEGIN:VEVENT
DTSTART;TZID=America/New_York:20251113T123000
DTEND;TZID=America/New_York:20251113T134500
DTSTAMP:20260419T235440
CREATED:20250917T200141Z
LAST-MODIFIED:20250917T200141Z
UID:10013102-1763037000-1763041500@www.brooklyn.edu
SUMMARY:Networking
DESCRIPTION:The Magner Career Center is hosting a workshop designed to help students master networking! Learn how to confidently connect with professionals\, start engaging conversations that lead to opportunities\, and build lasting relationships that can boost your career. Don’t miss this chance to transform your dream into career reality.
URL:https://www.brooklyn.edu/event/networking/2025-11-13/
LOCATION:James Hall\, Room 1309
CATEGORIES:Graduate,Magner Career Center,Undergraduate
ORGANIZER;CN="Magner Career Center":MAILTO:careernews@brooklyn.cuny.edu
GEO:40.63193;-73.95352
END:VEVENT
BEGIN:VEVENT
DTSTART;TZID=America/New_York:20251111T123000
DTEND;TZID=America/New_York:20251111T140000
DTSTAMP:20260419T235440
CREATED:20251014T191257Z
LAST-MODIFIED:20251210T185849Z
UID:10013949-1762864200-1762869600@www.brooklyn.edu
SUMMARY:Supercharge Your Job Hunt With AI
DESCRIPTION:Students will learn AI basics\, and AI strategy for résumé/cover letter creation\, company discovery\, career exploration\, and more! Limited computers are available for students to follow along. \nRegister Today
URL:https://www.brooklyn.edu/event/supercharge-your-job-hunt-with-ai/
LOCATION:Library\, Room 383\, PC Multimedia Classroom
CATEGORIES:Graduate,Magner Career Center,Undergraduate
ORGANIZER;CN="Magner Career Center":MAILTO:careernews@brooklyn.cuny.edu
GEO:40.63109;-73.94981
X-APPLE-STRUCTURED-LOCATION;VALUE=URI;X-ADDRESS=Library Room 383 PC Multimedia Classroom;X-APPLE-RADIUS=500;X-TITLE=PC Multimedia Classroom:geo:-73.94981,40.63109
END:VEVENT
BEGIN:VEVENT
DTSTART;TZID=America/New_York:20251111T123000
DTEND;TZID=America/New_York:20251111T140000
DTSTAMP:20260419T235440
CREATED:20250922T151439Z
LAST-MODIFIED:20250922T151439Z
UID:10013110-1762864200-1762869600@www.brooklyn.edu
SUMMARY:From College to Courtroom: Careers in Law
DESCRIPTION:At this event\, you can speak directly with Brooklyn College alumni about all things law. The law school application process can be a very daunting task. This session breaks down the process and answers your most pressing questions about law school\, LSAC\, and everything related to having a career in the field of law.
URL:https://www.brooklyn.edu/event/from-college-to-courtroom-careers-in-law/
LOCATION:Student Center\, Room 502\, State Room
CATEGORIES:Magner Career Center,Undergraduate
ORGANIZER;CN="Magner Career Center":MAILTO:careernews@brooklyn.cuny.edu
GEO:40.63262;-73.95068
END:VEVENT
BEGIN:VEVENT
DTSTART;TZID=America/New_York:20251106T123000
DTEND;TZID=America/New_York:20251106T141500
DTSTAMP:20260419T235440
CREATED:20251017T150522Z
LAST-MODIFIED:20251017T150522Z
UID:10013953-1762432200-1762438500@www.brooklyn.edu
SUMMARY:From Molecule to Medicine: A Scientific and Career Seminar With Benjamin Rudshteyn '13
DESCRIPTION:A joint discussion on cutting-edge drug discovery and design\, and the career path of a scientist and Brooklyn College alumnus in the pharmaceutical industry. Lunch will be served. \n12:30–1:30 p.m.—Scientific Talk\n1:30–2:15 p.m.—Career Chat
URL:https://www.brooklyn.edu/event/from-molecule-to-medicine-a-scientific-and-career-seminar-with-benjamin-rudshteyn-13/
LOCATION:Library\, Room 411\, Samuel and Bernice Gottlieb Room
CATEGORIES:Magner Career Center
ORGANIZER;CN="Magner Career Center":MAILTO:careernews@brooklyn.cuny.edu
GEO:40.63131;-73.95019
END:VEVENT
BEGIN:VEVENT
DTSTART;TZID=America/New_York:20251030T123000
DTEND;TZID=America/New_York:20251030T140000
DTSTAMP:20260419T235440
CREATED:20251016T165306Z
LAST-MODIFIED:20251016T165306Z
UID:10013951-1761827400-1761832800@www.brooklyn.edu
SUMMARY:Google at Brooklyn College: Technical Résumé Workshop
DESCRIPTION:Engage with Google representatives on campus at this event designed to prepare and inform you on what to expect when exploring a career in tech. This workshop is open to all students pursuing tech+ majors (computer science\, electrical and computer engineering\, etc.). \nAfter you sign up\, you will receive an invitation link to join the virtual workshop. The information you submit on the sign-up form will be used in accordance with Google’s Applicant and Candidate Privacy Policy. If you would like to request deletion of your RSVP form\, email hrdatarequest@google.com. If you have any questions\, email techstudents@google.com. \nSign Up Today \n 
URL:https://www.brooklyn.edu/event/google-at-brooklyn-college-technical-resume-workshop/
LOCATION:Online
CATEGORIES:Graduate,Magner Career Center,Undergraduate
ORGANIZER;CN="Magner Career Center":MAILTO:careernews@brooklyn.cuny.edu
END:VEVENT
BEGIN:VEVENT
DTSTART;TZID=America/New_York:20251028T123000
DTEND;TZID=America/New_York:20251028T140000
DTSTAMP:20260419T235440
CREATED:20251016T164701Z
LAST-MODIFIED:20251016T164915Z
UID:10013950-1761654600-1761660000@www.brooklyn.edu
SUMMARY:Google at Brooklyn College: Technical Interview Prep Workshop
DESCRIPTION:Engage with Google representatives on campus at this event designed to prepare and inform you on what to expect when exploring a career in tech. This workshop is open to all students pursuing tech+ majors (computer science\, electrical and computer engineering\, etc.). \nThe information you submit on the sign-up form will be used in accordance with Google’s Applicant and Candidate Privacy Policy. If you would like to request deletion of your RSVP form\, email hrdatarequest@google.com. If you have any questions\, email techstudents@google.com. \nSign Up Today \n 
URL:https://www.brooklyn.edu/event/google-at-brooklyn-college-technical-interview-prep-workshop/
LOCATION:Student Center\, Room 400\, Jefferson-Williams Room
CATEGORIES:Graduate,Magner Career Center,Undergraduate
ORGANIZER;CN="Magner Career Center":MAILTO:careernews@brooklyn.cuny.edu
GEO:40.63262;-73.95068
END:VEVENT
BEGIN:VEVENT
DTSTART;TZID=America/New_York:20251026T110000
DTEND;TZID=America/New_York:20251026T123000
DTSTAMP:20260419T235440
CREATED:20250909T210232Z
LAST-MODIFIED:20250909T210232Z
UID:10013058-1761476400-1761481800@www.brooklyn.edu
SUMMARY:The Job Search
DESCRIPTION:Learn all about the job search and seek new opportunities to grow and contribute in a dynamic work environment. This event will help you focus on roles that align with your skills\, values\, and long-term career goals. \nJoin the Zoom meeting
URL:https://www.brooklyn.edu/event/the-job-search/
LOCATION:Online
CATEGORIES:Magner Career Center
ORGANIZER;CN="Magner Career Center":MAILTO:careernews@brooklyn.cuny.edu
END:VEVENT
BEGIN:VEVENT
DTSTART;TZID=America/New_York:20251023T123000
DTEND;TZID=America/New_York:20251023T140000
DTSTAMP:20260419T235440
CREATED:20250910T170858Z
LAST-MODIFIED:20250910T171214Z
UID:10013060-1761222600-1761228000@www.brooklyn.edu
SUMMARY:Magner Career Center Networking Event
DESCRIPTION:Join the Magner Career Center for an interactive networking session designed to help you build valuable connections and enhance your professional skills. Whether you’re just starting out or looking to grow your network\, this event will provide practical tips and strategies to make meaningful connections in any industry. More than two-thirds of jobs are acquired by networking. You’ll learn how to talk to other people so they remember you as someone who left a positive impression about your skills and personality.
URL:https://www.brooklyn.edu/event/magner-career-center-networking-event/
LOCATION:James Hall\, Room 1309
CATEGORIES:Graduate,Magner Career Center,Undergraduate
ORGANIZER;CN="Magner Career Center":MAILTO:careernews@brooklyn.cuny.edu
GEO:40.63193;-73.95352
END:VEVENT
BEGIN:VEVENT
DTSTART;TZID=America/New_York:20251023T123000
DTEND;TZID=America/New_York:20251023T134500
DTSTAMP:20260419T235440
CREATED:20250917T200141Z
LAST-MODIFIED:20250917T200141Z
UID:10013101-1761222600-1761227100@www.brooklyn.edu
SUMMARY:Networking
DESCRIPTION:The Magner Career Center is hosting a workshop designed to help students master networking! Learn how to confidently connect with professionals\, start engaging conversations that lead to opportunities\, and build lasting relationships that can boost your career. Don’t miss this chance to transform your dream into career reality.
URL:https://www.brooklyn.edu/event/networking/2025-10-23/
LOCATION:James Hall\, Room 1309
CATEGORIES:Graduate,Magner Career Center,Undergraduate
ORGANIZER;CN="Magner Career Center":MAILTO:careernews@brooklyn.cuny.edu
GEO:40.63193;-73.95352
END:VEVENT
BEGIN:VEVENT
DTSTART;TZID=America/New_York:20251022T191500
DTEND;TZID=America/New_York:20251022T204500
DTSTAMP:20260419T235440
CREATED:20250909T144001Z
LAST-MODIFIED:20250909T144001Z
UID:10013057-1761160500-1761165900@www.brooklyn.edu
SUMMARY:Ask Me Anything!
DESCRIPTION:Join us at the Magner Career Center and ask us any of your career-related question. We’ll provide the answers you need!
URL:https://www.brooklyn.edu/event/ask-me-anything/2025-10-22/
LOCATION:James Hall\, Room 1309
CATEGORIES:Magner Career Center
ORGANIZER;CN="Magner Career Center":MAILTO:careernews@brooklyn.cuny.edu
GEO:40.63193;-73.95352
END:VEVENT
BEGIN:VEVENT
DTSTART;TZID=America/New_York:20251014T191500
DTEND;TZID=America/New_York:20251014T204500
DTSTAMP:20260419T235440
CREATED:20250909T144001Z
LAST-MODIFIED:20250909T144001Z
UID:10013056-1760469300-1760474700@www.brooklyn.edu
SUMMARY:Ask Me Anything!
DESCRIPTION:Join us at the Magner Career Center and ask us any of your career-related question. We’ll provide the answers you need!
URL:https://www.brooklyn.edu/event/ask-me-anything/2025-10-14/
LOCATION:James Hall\, Room 1309
CATEGORIES:Magner Career Center
ORGANIZER;CN="Magner Career Center":MAILTO:careernews@brooklyn.cuny.edu
GEO:40.63193;-73.95352
END:VEVENT
BEGIN:VEVENT
DTSTART;TZID=America/New_York:20251009T190000
DTEND;TZID=America/New_York:20251009T200000
DTSTAMP:20260419T235440
CREATED:20250910T185737Z
LAST-MODIFIED:20250910T190659Z
UID:10013064-1760036400-1760040000@www.brooklyn.edu
SUMMARY:Career Q&A
DESCRIPTION:Ask a Magner Career Center career coach any career-related question. In addition to getting your question answered\, this is a great way to meet and learn from other alumni\, in a small-group setting. \nJoin the Zoom meeting
URL:https://www.brooklyn.edu/event/career-qa/2025-10-09/
LOCATION:Online
CATEGORIES:Alumni,Magner Career Center
ORGANIZER;CN="Alumni Engagement":MAILTO:alumni@brooklyn.cuny.edu
END:VEVENT
BEGIN:VEVENT
DTSTART;TZID=America/New_York:20251009T113000
DTEND;TZID=America/New_York:20251009T143000
DTSTAMP:20260419T235440
CREATED:20250731T185627Z
LAST-MODIFIED:20250731T185627Z
UID:10013012-1760009400-1760020200@www.brooklyn.edu
SUMMARY:Fall 2025 Job and Internship Fair
DESCRIPTION:The Magner Career Center is proud to host the Fall 2025 Career Fair with lots of great job and internship opportunities. The event is open to all undergraduates\, graduate students\, and alumni. \nRegister Now
URL:https://www.brooklyn.edu/event/fall-2025-job-and-internship-fair/
LOCATION:Student Center
CATEGORIES:Alumni,Graduate,Magner Career Center,Undergraduate
ORGANIZER;CN="Magner Career Center":MAILTO:careernews@brooklyn.cuny.edu
GEO:40.63265;-73.95045
END:VEVENT
BEGIN:VEVENT
DTSTART;TZID=America/New_York:20251002T190000
DTEND;TZID=America/New_York:20251002T200000
DTSTAMP:20260419T235440
CREATED:20250910T185737Z
LAST-MODIFIED:20250910T190659Z
UID:10013063-1759431600-1759435200@www.brooklyn.edu
SUMMARY:Career Q&A
DESCRIPTION:Ask a Magner Career Center career coach any career-related question. In addition to getting your question answered\, this is a great way to meet and learn from other alumni\, in a small-group setting. \nJoin the Zoom meeting
URL:https://www.brooklyn.edu/event/career-qa/2025-10-02/
LOCATION:Online
CATEGORIES:Alumni,Magner Career Center
ORGANIZER;CN="Alumni Engagement":MAILTO:alumni@brooklyn.cuny.edu
END:VEVENT
BEGIN:VEVENT
DTSTART;TZID=America/New_York:20250930T121500
DTEND;TZID=America/New_York:20250930T140000
DTSTAMP:20260419T235440
CREATED:20250731T184056Z
LAST-MODIFIED:20250829T140747Z
UID:10013011-1759234500-1759240800@www.brooklyn.edu
SUMMARY:Aon Extern Job and Internship Fair Prep
DESCRIPTION:Aon is hosting an exclusive Job and Internship Fair prep session. This is your chance to gain a competitive edge for the upcoming fair\, and refine skills like your elevator pitch and interviewing techniques. Don’t miss this opportunity to learn directly from Aon professionals and maximize your chances of securing an opportunity with an employer from the Job and Internship Fair. \nRegister on BC Handshake\nRegister With Aon
URL:https://www.brooklyn.edu/event/aon-extern-job-and-internship-fair-prep/
LOCATION:Student Center\, Room 400\, Jefferson-Williams Room
CATEGORIES:Magner Career Center
ORGANIZER;CN="Magner Career Center":MAILTO:careernews@brooklyn.cuny.edu
GEO:40.63262;-73.95068
END:VEVENT
BEGIN:VEVENT
DTSTART;TZID=America/New_York:20250925T190000
DTEND;TZID=America/New_York:20250925T200000
DTSTAMP:20260419T235440
CREATED:20250910T185737Z
LAST-MODIFIED:20250910T190659Z
UID:10013065-1758826800-1758830400@www.brooklyn.edu
SUMMARY:Career Q&A
DESCRIPTION:Ask a Magner Career Center career coach any career-related question. In addition to getting your question answered\, this is a great way to meet and learn from other alumni\, in a small-group setting. \nJoin the Zoom meeting
URL:https://www.brooklyn.edu/event/career-qa/2025-09-25/
LOCATION:Online
CATEGORIES:Alumni,Magner Career Center
ORGANIZER;CN="Alumni Engagement":MAILTO:alumni@brooklyn.cuny.edu
END:VEVENT
BEGIN:VEVENT
DTSTART;TZID=America/New_York:20250918T190000
DTEND;TZID=America/New_York:20250918T200000
DTSTAMP:20260419T235440
CREATED:20250910T185737Z
LAST-MODIFIED:20250910T190659Z
UID:10013061-1758222000-1758225600@www.brooklyn.edu
SUMMARY:Career Q&A
DESCRIPTION:Ask a Magner Career Center career coach any career-related question. In addition to getting your question answered\, this is a great way to meet and learn from other alumni\, in a small-group setting. \nJoin the Zoom meeting
URL:https://www.brooklyn.edu/event/career-qa/2025-09-18/
LOCATION:Online
CATEGORIES:Alumni,Magner Career Center
ORGANIZER;CN="Alumni Engagement":MAILTO:alumni@brooklyn.cuny.edu
END:VEVENT
BEGIN:VEVENT
DTSTART;TZID=America/New_York:20250918T090000
DTEND;TZID=America/New_York:20250918T160000
DTSTAMP:20260419T235440
CREATED:20250908T203128Z
LAST-MODIFIED:20250908T203128Z
UID:10013055-1758186000-1758211200@www.brooklyn.edu
SUMMARY:Ascend Charter Schools On-Campus Interviews
DESCRIPTION:Join Ascend Public Charter Schools for on-campus interviews. Ascend Public Charter Schools is a network of 17 schools across Brooklyn dedicated to providing students with a rich and joyful education that prepares them for success in college and beyond. Ascend believes in developing great teachers and leaders\, fostering belonging\, and building a strong\, mission-driven community. \nStudents and alumni interested in teaching roles or other opportunities can apply in advance by submitting their contact information and résumé using this form. Selected candidates will be invited to schedule a 30-minute interview during the day. \nCome learn more about Ascend\, share your story\, and explore how you can launch a meaningful career in education! \nIf you have any questions\, email Ascend.
URL:https://www.brooklyn.edu/event/ascend-charter-schools-on-campus-interviews/
LOCATION:James Hall\, Room 1303\, Magner Career Center
CATEGORIES:Magner Career Center,School of Education
ORGANIZER;CN="Magner Career Center":MAILTO:careernews@brooklyn.cuny.edu
GEO:40.63197;-73.95312
X-APPLE-STRUCTURED-LOCATION;VALUE=URI;X-ADDRESS=James Hall Room 1303 Magner Career Center;X-APPLE-RADIUS=500;X-TITLE=Magner Career Center:geo:-73.95312,40.63197
END:VEVENT
BEGIN:VEVENT
DTSTART;TZID=America/New_York:20250917T173000
DTEND;TZID=America/New_York:20250917T190000
DTSTAMP:20260419T235440
CREATED:20250731T172603Z
LAST-MODIFIED:20250731T172603Z
UID:10013009-1758130200-1758135600@www.brooklyn.edu
SUMMARY:Interview Prep for Accounting/Finance
DESCRIPTION:Hop on Zoom for small-group interview prep and get the opportunity to practice with alumni and/or recruiters in accounting and finance to be ready for recruiting season! \nRegister Today
URL:https://www.brooklyn.edu/event/interview-prep-for-accounting-finance/
LOCATION:Online
CATEGORIES:Accounting,Finance,Magner Career Center
ORGANIZER;CN="Magner Career Center":MAILTO:careernews@brooklyn.cuny.edu
END:VEVENT
BEGIN:VEVENT
DTSTART;TZID=America/New_York:20250916T123000
DTEND;TZID=America/New_York:20250916T140000
DTSTAMP:20260419T235440
CREATED:20250828T153036Z
LAST-MODIFIED:20250828T153036Z
UID:10013043-1758025800-1758031200@www.brooklyn.edu
SUMMARY:Rising Star Celebratory Luncheon
DESCRIPTION:Students who have successfully completed recent internships (between fall 2024 and summer 2025) are invited to celebrate their hard work\, growth\, and achievements. Students will have an opportunity to: \n\ncelebrate their achievements with peers and mentors\,\nshare internship experiences and professional takeaways\,\nreceive recognition\, and\nconnect with the career development team and faculty supporters.\n\nLunch will be provided.
URL:https://www.brooklyn.edu/event/rising-star-celebratory-luncheon/
LOCATION:Student Center
CATEGORIES:Magner Career Center
ORGANIZER;CN="Magner Career Center":MAILTO:careernews@brooklyn.cuny.edu
GEO:40.63265;-73.95045
END:VEVENT
BEGIN:VEVENT
DTSTART;TZID=America/New_York:20250912T094500
DTEND;TZID=America/New_York:20250912T120000
DTSTAMP:20260419T235440
CREATED:20250730T142516Z
LAST-MODIFIED:20250730T142658Z
UID:10012998-1757670300-1757678400@www.brooklyn.edu
SUMMARY:JPMorganChase Company Visit
DESCRIPTION:The Magner Career Center\, in collaboration with the Koppelman Student Leadership Council\, is excited to offer a unique opportunity to visit JPMorganChase in Downtown Brooklyn\, in partnership with a Brooklyn College alumna currently working at the firm. Attendees will hear from professionals about internship programs; discover career paths in tech\, finance\, and operations\, and gain networking and job search tips. \nSpace is limited. Fill out the interest form to be considered for this exclusive experience! Not all students will be confirmed. Students will hear back in mid- to late August from Business Career Coach Cliff Frontera. If you have any questions\, you may email him. \nRegister Now
URL:https://www.brooklyn.edu/event/jpmorganchase-company-visit/
CATEGORIES:Magner Career Center,Murray Koppelman School of Business
END:VEVENT
BEGIN:VEVENT
DTSTART;TZID=America/New_York:20250911T123000
DTEND;TZID=America/New_York:20250911T140000
DTSTAMP:20260419T235440
CREATED:20250731T175410Z
LAST-MODIFIED:20250731T175410Z
UID:10013010-1757593800-1757599200@www.brooklyn.edu
SUMMARY:PwC Former Intern Panel
DESCRIPTION:Hear from former PricewaterhouseCoopers interns about their experiences with the firm and advice on the process. There will also be extensive time to speak with PwC’s recruiter to ensure you are positioned to best apply for their roles. Double registration is required. \nRegister on BC Handshake\nRegister With PwC
URL:https://www.brooklyn.edu/event/pwc-former-intern-panel/
LOCATION:Student Center\, Room 400\, Jefferson-Williams Room
CATEGORIES:Magner Career Center
ORGANIZER;CN="Magner Career Center":MAILTO:careernews@brooklyn.cuny.edu
GEO:40.63262;-73.95068
END:VEVENT
BEGIN:VEVENT
DTSTART;TZID=America/New_York:20250910T173000
DTEND;TZID=America/New_York:20250910T190000
DTSTAMP:20260419T235440
CREATED:20250730T183303Z
LAST-MODIFIED:20250730T205045Z
UID:10013008-1757525400-1757530800@www.brooklyn.edu
SUMMARY:Résumé Review for Accounting/Finance
DESCRIPTION:Hop on Zoom for a résumé review session in a small group with alumni and/or recruiters in accounting and finance to be ready for recruiting season. \nRegister Today
URL:https://www.brooklyn.edu/event/resume-review-for-accounting-finance/
LOCATION:Online
CATEGORIES:Accounting,Finance,Magner Career Center
ORGANIZER;CN="Magner Career Center":MAILTO:careernews@brooklyn.cuny.edu
END:VEVENT
BEGIN:VEVENT
DTSTART;TZID=America/New_York:20250904T130000
DTEND;TZID=America/New_York:20250904T140000
DTSTAMP:20260419T235440
CREATED:20250730T155601Z
LAST-MODIFIED:20250730T155644Z
UID:10013002-1756990800-1756994400@www.brooklyn.edu
SUMMARY:PwC Fall Corporate Presentation
DESCRIPTION:Meet PricewaterhouseCoopers campus recruiters and other professionals for their upcoming opportunities in accounting and consulting. Lunch will be provided. \nDouble registration is required. Please complete both forms. \nRegister on BC Handshake \nRegister With PwC \n 
URL:https://www.brooklyn.edu/event/pwc-fall-corporate-presentation/
LOCATION:Student Center\, Room 400\, Jefferson-Williams Room
CATEGORIES:Magner Career Center
GEO:40.63262;-73.95068
END:VEVENT
BEGIN:VEVENT
DTSTART;TZID=America/New_York:20250828T120000
DTEND;TZID=America/New_York:20250828T140000
DTSTAMP:20260419T235440
CREATED:20250730T135125Z
LAST-MODIFIED:20250730T142014Z
UID:10012997-1756382400-1756389600@www.brooklyn.edu
SUMMARY:Aon Welcome Back Tabling—With Doughnuts!
DESCRIPTION:Meet Aon representatives on the West Quad for doughnuts and to chat about roles with their company! Stop by anytime. (Rain date: September 2) \nRegister Today
URL:https://www.brooklyn.edu/event/aon-welcome-back-tabling-with-doughnuts/
LOCATION:West Quad
CATEGORIES:Magner Career Center
ORGANIZER;CN="Magner Career Center":MAILTO:careernews@brooklyn.cuny.edu
GEO:40.63113837;-73.95336753
END:VEVENT
BEGIN:VEVENT
DTSTART;TZID=America/New_York:20250529T093000
DTEND;TZID=America/New_York:20250529T163000
DTSTAMP:20260419T235440
CREATED:20250415T183006Z
LAST-MODIFIED:20250415T183141Z
UID:10012828-1748511000-1748536200@www.brooklyn.edu
SUMMARY:Survival of the Fittest: Postgrad Career Bootcamp
DESCRIPTION:This is a must-attend event for Brooklyn College graduates from 2024 and 2025 who need to enhance their job-hunting skills for the competitive job market. Guests will learn how to go from good to great on résumé and cover letter creation\, networking\, and interviewing\, following the formula to get more interviews from job postings and leads within their network. A mini job fair will end this day of prep. \nRegister Today
URL:https://www.brooklyn.edu/event/survival-of-the-fittest-postgrad-career-bootcamp/
LOCATION:Student Center\, 2nd Floor
CATEGORIES:Alumni,Magner Career Center
ORGANIZER;CN="Magner Career Center":MAILTO:careernews@brooklyn.cuny.edu
GEO:40.63265;-73.95045
END:VEVENT
END:VCALENDAR