BEGIN:VCALENDAR
VERSION:2.0
PRODID:-//Brooklyn College - ECPv6.15.12.2//NONSGML v1.0//EN
CALSCALE:GREGORIAN
METHOD:PUBLISH
X-ORIGINAL-URL:https://www.brooklyn.edu
X-WR-CALDESC:Events for Brooklyn College
REFRESH-INTERVAL;VALUE=DURATION:PT1H
X-Robots-Tag:noindex
X-PUBLISHED-TTL:PT1H
BEGIN:VTIMEZONE
TZID:America/New_York
BEGIN:DAYLIGHT
TZOFFSETFROM:-0500
TZOFFSETTO:-0400
TZNAME:EDT
DTSTART:20240310T070000
END:DAYLIGHT
BEGIN:STANDARD
TZOFFSETFROM:-0400
TZOFFSETTO:-0500
TZNAME:EST
DTSTART:20241103T060000
END:STANDARD
BEGIN:DAYLIGHT
TZOFFSETFROM:-0500
TZOFFSETTO:-0400
TZNAME:EDT
DTSTART:20250309T070000
END:DAYLIGHT
BEGIN:STANDARD
TZOFFSETFROM:-0400
TZOFFSETTO:-0500
TZNAME:EST
DTSTART:20251102T060000
END:STANDARD
BEGIN:DAYLIGHT
TZOFFSETFROM:-0500
TZOFFSETTO:-0400
TZNAME:EDT
DTSTART:20260308T070000
END:DAYLIGHT
BEGIN:STANDARD
TZOFFSETFROM:-0400
TZOFFSETTO:-0500
TZNAME:EST
DTSTART:20261101T060000
END:STANDARD
END:VTIMEZONE
BEGIN:VEVENT
DTSTART;TZID=America/New_York:20250918T190000
DTEND;TZID=America/New_York:20250918T200000
DTSTAMP:20260420T032831
CREATED:20250910T185737Z
LAST-MODIFIED:20250910T190659Z
UID:10013061-1758222000-1758225600@www.brooklyn.edu
SUMMARY:Career Q&A
DESCRIPTION:Ask a Magner Career Center career coach any career-related question. In addition to getting your question answered\, this is a great way to meet and learn from other alumni\, in a small-group setting. \nJoin the Zoom meeting
URL:https://www.brooklyn.edu/event/career-qa/2025-09-18/
LOCATION:Online
CATEGORIES:Alumni,Magner Career Center
ORGANIZER;CN="Alumni Engagement":MAILTO:alumni@brooklyn.cuny.edu
END:VEVENT
BEGIN:VEVENT
DTSTART;TZID=America/New_York:20250918T090000
DTEND;TZID=America/New_York:20250918T160000
DTSTAMP:20260420T032831
CREATED:20250908T203128Z
LAST-MODIFIED:20250908T203128Z
UID:10013055-1758186000-1758211200@www.brooklyn.edu
SUMMARY:Ascend Charter Schools On-Campus Interviews
DESCRIPTION:Join Ascend Public Charter Schools for on-campus interviews. Ascend Public Charter Schools is a network of 17 schools across Brooklyn dedicated to providing students with a rich and joyful education that prepares them for success in college and beyond. Ascend believes in developing great teachers and leaders\, fostering belonging\, and building a strong\, mission-driven community. \nStudents and alumni interested in teaching roles or other opportunities can apply in advance by submitting their contact information and résumé using this form. Selected candidates will be invited to schedule a 30-minute interview during the day. \nCome learn more about Ascend\, share your story\, and explore how you can launch a meaningful career in education! \nIf you have any questions\, email Ascend.
URL:https://www.brooklyn.edu/event/ascend-charter-schools-on-campus-interviews/
LOCATION:James Hall\, Room 1303\, Magner Career Center
CATEGORIES:Magner Career Center,School of Education
ORGANIZER;CN="Magner Career Center":MAILTO:careernews@brooklyn.cuny.edu
GEO:40.63197;-73.95312
X-APPLE-STRUCTURED-LOCATION;VALUE=URI;X-ADDRESS=James Hall Room 1303 Magner Career Center;X-APPLE-RADIUS=500;X-TITLE=Magner Career Center:geo:-73.95312,40.63197
END:VEVENT
BEGIN:VEVENT
DTSTART;TZID=America/New_York:20250917T173000
DTEND;TZID=America/New_York:20250917T190000
DTSTAMP:20260420T032831
CREATED:20250731T172603Z
LAST-MODIFIED:20250731T172603Z
UID:10013009-1758130200-1758135600@www.brooklyn.edu
SUMMARY:Interview Prep for Accounting/Finance
DESCRIPTION:Hop on Zoom for small-group interview prep and get the opportunity to practice with alumni and/or recruiters in accounting and finance to be ready for recruiting season! \nRegister Today
URL:https://www.brooklyn.edu/event/interview-prep-for-accounting-finance/
LOCATION:Online
CATEGORIES:Accounting,Finance,Magner Career Center
ORGANIZER;CN="Magner Career Center":MAILTO:careernews@brooklyn.cuny.edu
END:VEVENT
BEGIN:VEVENT
DTSTART;TZID=America/New_York:20250916T123000
DTEND;TZID=America/New_York:20250916T140000
DTSTAMP:20260420T032831
CREATED:20250828T153036Z
LAST-MODIFIED:20250828T153036Z
UID:10013043-1758025800-1758031200@www.brooklyn.edu
SUMMARY:Rising Star Celebratory Luncheon
DESCRIPTION:Students who have successfully completed recent internships (between fall 2024 and summer 2025) are invited to celebrate their hard work\, growth\, and achievements. Students will have an opportunity to: \n\ncelebrate their achievements with peers and mentors\,\nshare internship experiences and professional takeaways\,\nreceive recognition\, and\nconnect with the career development team and faculty supporters.\n\nLunch will be provided.
URL:https://www.brooklyn.edu/event/rising-star-celebratory-luncheon/
LOCATION:Student Center
CATEGORIES:Magner Career Center
ORGANIZER;CN="Magner Career Center":MAILTO:careernews@brooklyn.cuny.edu
GEO:40.63265;-73.95045
END:VEVENT
BEGIN:VEVENT
DTSTART;TZID=America/New_York:20250912T094500
DTEND;TZID=America/New_York:20250912T120000
DTSTAMP:20260420T032831
CREATED:20250730T142516Z
LAST-MODIFIED:20250730T142658Z
UID:10012998-1757670300-1757678400@www.brooklyn.edu
SUMMARY:JPMorganChase Company Visit
DESCRIPTION:The Magner Career Center\, in collaboration with the Koppelman Student Leadership Council\, is excited to offer a unique opportunity to visit JPMorganChase in Downtown Brooklyn\, in partnership with a Brooklyn College alumna currently working at the firm. Attendees will hear from professionals about internship programs; discover career paths in tech\, finance\, and operations\, and gain networking and job search tips. \nSpace is limited. Fill out the interest form to be considered for this exclusive experience! Not all students will be confirmed. Students will hear back in mid- to late August from Business Career Coach Cliff Frontera. If you have any questions\, you may email him. \nRegister Now
URL:https://www.brooklyn.edu/event/jpmorganchase-company-visit/
CATEGORIES:Magner Career Center,Murray Koppelman School of Business
END:VEVENT
BEGIN:VEVENT
DTSTART;TZID=America/New_York:20250911T123000
DTEND;TZID=America/New_York:20250911T140000
DTSTAMP:20260420T032831
CREATED:20250731T175410Z
LAST-MODIFIED:20250731T175410Z
UID:10013010-1757593800-1757599200@www.brooklyn.edu
SUMMARY:PwC Former Intern Panel
DESCRIPTION:Hear from former PricewaterhouseCoopers interns about their experiences with the firm and advice on the process. There will also be extensive time to speak with PwC’s recruiter to ensure you are positioned to best apply for their roles. Double registration is required. \nRegister on BC Handshake\nRegister With PwC
URL:https://www.brooklyn.edu/event/pwc-former-intern-panel/
LOCATION:Student Center\, Room 400\, Jefferson-Williams Room
CATEGORIES:Magner Career Center
ORGANIZER;CN="Magner Career Center":MAILTO:careernews@brooklyn.cuny.edu
GEO:40.63262;-73.95068
END:VEVENT
BEGIN:VEVENT
DTSTART;TZID=America/New_York:20250910T173000
DTEND;TZID=America/New_York:20250910T190000
DTSTAMP:20260420T032831
CREATED:20250730T183303Z
LAST-MODIFIED:20250730T205045Z
UID:10013008-1757525400-1757530800@www.brooklyn.edu
SUMMARY:Résumé Review for Accounting/Finance
DESCRIPTION:Hop on Zoom for a résumé review session in a small group with alumni and/or recruiters in accounting and finance to be ready for recruiting season. \nRegister Today
URL:https://www.brooklyn.edu/event/resume-review-for-accounting-finance/
LOCATION:Online
CATEGORIES:Accounting,Finance,Magner Career Center
ORGANIZER;CN="Magner Career Center":MAILTO:careernews@brooklyn.cuny.edu
END:VEVENT
BEGIN:VEVENT
DTSTART;TZID=America/New_York:20250904T130000
DTEND;TZID=America/New_York:20250904T140000
DTSTAMP:20260420T032831
CREATED:20250730T155601Z
LAST-MODIFIED:20250730T155644Z
UID:10013002-1756990800-1756994400@www.brooklyn.edu
SUMMARY:PwC Fall Corporate Presentation
DESCRIPTION:Meet PricewaterhouseCoopers campus recruiters and other professionals for their upcoming opportunities in accounting and consulting. Lunch will be provided. \nDouble registration is required. Please complete both forms. \nRegister on BC Handshake \nRegister With PwC \n 
URL:https://www.brooklyn.edu/event/pwc-fall-corporate-presentation/
LOCATION:Student Center\, Room 400\, Jefferson-Williams Room
CATEGORIES:Magner Career Center
GEO:40.63262;-73.95068
END:VEVENT
BEGIN:VEVENT
DTSTART;TZID=America/New_York:20250828T120000
DTEND;TZID=America/New_York:20250828T140000
DTSTAMP:20260420T032831
CREATED:20250730T135125Z
LAST-MODIFIED:20250730T142014Z
UID:10012997-1756382400-1756389600@www.brooklyn.edu
SUMMARY:Aon Welcome Back Tabling—With Doughnuts!
DESCRIPTION:Meet Aon representatives on the West Quad for doughnuts and to chat about roles with their company! Stop by anytime. (Rain date: September 2) \nRegister Today
URL:https://www.brooklyn.edu/event/aon-welcome-back-tabling-with-doughnuts/
LOCATION:West Quad
CATEGORIES:Magner Career Center
ORGANIZER;CN="Magner Career Center":MAILTO:careernews@brooklyn.cuny.edu
GEO:40.63113837;-73.95336753
END:VEVENT
BEGIN:VEVENT
DTSTART;TZID=America/New_York:20250529T093000
DTEND;TZID=America/New_York:20250529T163000
DTSTAMP:20260420T032831
CREATED:20250415T183006Z
LAST-MODIFIED:20250415T183141Z
UID:10012828-1748511000-1748536200@www.brooklyn.edu
SUMMARY:Survival of the Fittest: Postgrad Career Bootcamp
DESCRIPTION:This is a must-attend event for Brooklyn College graduates from 2024 and 2025 who need to enhance their job-hunting skills for the competitive job market. Guests will learn how to go from good to great on résumé and cover letter creation\, networking\, and interviewing\, following the formula to get more interviews from job postings and leads within their network. A mini job fair will end this day of prep. \nRegister Today
URL:https://www.brooklyn.edu/event/survival-of-the-fittest-postgrad-career-bootcamp/
LOCATION:Student Center\, 2nd Floor
CATEGORIES:Alumni,Magner Career Center
ORGANIZER;CN="Magner Career Center":MAILTO:careernews@brooklyn.cuny.edu
GEO:40.63265;-73.95045
END:VEVENT
BEGIN:VEVENT
DTSTART;TZID=America/New_York:20250529T093000
DTEND;TZID=America/New_York:20250529T160000
DTSTAMP:20260420T032831
CREATED:20250502T144544Z
LAST-MODIFIED:20250502T144544Z
UID:10012851-1748511000-1748534400@www.brooklyn.edu
SUMMARY:Postgraduation Bootcamp and Mini Job Fair
DESCRIPTION:Enhance your job-search skills\, including networking\, and then meet with employers. The event will be held in James Hall.
URL:https://www.brooklyn.edu/event/postgraduation-bootcamp-and-mini-job-fair/
CATEGORIES:Graduate,Magner Career Center,Undergraduate
ORGANIZER;CN="Magner Career Center":MAILTO:careernews@brooklyn.cuny.edu
END:VEVENT
BEGIN:VEVENT
DTSTART;TZID=America/New_York:20250508T123000
DTEND;TZID=America/New_York:20250508T140000
DTSTAMP:20260420T032831
CREATED:20250428T131751Z
LAST-MODIFIED:20250428T142550Z
UID:10012842-1746707400-1746712800@www.brooklyn.edu
SUMMARY:Out at Work: Careers for Queers
DESCRIPTION:Connect with LGBTQ professionals\, hear how to bring your authentic self to work\, and explore career paths that center the queer experience. \nLunch to be provided. \nMagner Center Workshop Room\, James Hall \nRSVP
URL:https://www.brooklyn.edu/event/out-at-work-careers-for-queers/
LOCATION:James Hall\, Room 1303\, Magner Career Center
CATEGORIES:LGBTA,LGBTQ Resource Center,Magner Career Center,Women's and Gender Studies
ORGANIZER;CN="LGBTQ Resource Center":MAILTO:lgbtqcenter@brooklyn.cuny.edu
GEO:40.63197;-73.95312
X-APPLE-STRUCTURED-LOCATION;VALUE=URI;X-ADDRESS=James Hall Room 1303 Magner Career Center;X-APPLE-RADIUS=500;X-TITLE=Magner Career Center:geo:-73.95312,40.63197
END:VEVENT
BEGIN:VEVENT
DTSTART;TZID=America/New_York:20250506T123000
DTEND;TZID=America/New_York:20250506T140000
DTSTAMP:20260420T032831
CREATED:20250502T135739Z
LAST-MODIFIED:20250502T135739Z
UID:10012850-1746534600-1746540000@www.brooklyn.edu
SUMMARY:Spring 2025 Education Resource Fair
DESCRIPTION:This one-stop event is for students\, job seekers\, educators\, and community members looking to connect with valuable educational resources and career opportunities. Whether you’re exploring academic programs\, seeking professional development\, or on the hunt for your next job\, this event has something for everyone. You’ll meet representatives; discover job openings; access career coaching\, résumé help\, and job application tips; and network with professionals and community leaders. \nThis event is geared especially toward education/children and youth studies students\, job seekers and career changers\, educators and school counselors\, and anyone interested in lifelong learning and growth. \nJoin the Zoom meeting
URL:https://www.brooklyn.edu/event/spring-2025-education-resource-fair/
LOCATION:Zoom
CATEGORIES:Magner Career Center
ORGANIZER;CN="Magner Career Center":MAILTO:careernews@brooklyn.cuny.edu
END:VEVENT
BEGIN:VEVENT
DTSTART;TZID=America/New_York:20250501T080000
DTEND;TZID=America/New_York:20250501T170000
DTSTAMP:20260420T032831
CREATED:20250501T192249Z
LAST-MODIFIED:20250501T192249Z
UID:10012848-1746086400-1746118800@www.brooklyn.edu
SUMMARY:Open Question & Answer Session for Seniors and Alumni
DESCRIPTION:Meet with a Magner Career Center career coach and get any career related question answered\, with no preparation necessary. This is a great opportunity to learn and network with others who may have similar job search challenges. Come join us us at 1:30 p.m. This is a virtual event.  Zoom link here.
URL:https://www.brooklyn.edu/event/open-question-answer-session-for-seniors-and-alumni/
CATEGORIES:Magner Career Center
END:VEVENT
BEGIN:VEVENT
DTSTART;TZID=America/New_York:20250423T173000
DTEND;TZID=America/New_York:20250423T203000
DTSTAMP:20260420T032831
CREATED:20250418T151657Z
LAST-MODIFIED:20250418T151657Z
UID:10012839-1745429400-1745440200@www.brooklyn.edu
SUMMARY:Uncommon Schools Career Lab With Brooklyn College
DESCRIPTION:Uncommon Schools will be hosting Uncommon Institute on campus. At this event\, you’ll experience professional development that prioritizes your growth\, learn how to do a demo lesson plan\, meet the hiring team\, and learn how to make a compelling résumé and how to interview with supportive school leaders. \nRegister Today
URL:https://www.brooklyn.edu/event/uncommon-schools-career-lab-with-brooklyn-college/
LOCATION:James Hall\, Room 1309
CATEGORIES:Magner Career Center
ORGANIZER;CN="Magner Career Center":MAILTO:careernews@brooklyn.cuny.edu
GEO:40.63193;-73.95352
END:VEVENT
END:VCALENDAR