BEGIN:VCALENDAR
VERSION:2.0
PRODID:-//Brooklyn College - ECPv6.15.12.2//NONSGML v1.0//EN
CALSCALE:GREGORIAN
METHOD:PUBLISH
X-WR-CALNAME:Brooklyn College
X-ORIGINAL-URL:https://www.brooklyn.edu
X-WR-CALDESC:Events for Brooklyn College
REFRESH-INTERVAL;VALUE=DURATION:PT1H
X-Robots-Tag:noindex
X-PUBLISHED-TTL:PT1H
BEGIN:VTIMEZONE
TZID:America/New_York
BEGIN:DAYLIGHT
TZOFFSETFROM:-0500
TZOFFSETTO:-0400
TZNAME:EDT
DTSTART:20240310T070000
END:DAYLIGHT
BEGIN:STANDARD
TZOFFSETFROM:-0400
TZOFFSETTO:-0500
TZNAME:EST
DTSTART:20241103T060000
END:STANDARD
BEGIN:DAYLIGHT
TZOFFSETFROM:-0500
TZOFFSETTO:-0400
TZNAME:EDT
DTSTART:20250309T070000
END:DAYLIGHT
BEGIN:STANDARD
TZOFFSETFROM:-0400
TZOFFSETTO:-0500
TZNAME:EST
DTSTART:20251102T060000
END:STANDARD
BEGIN:DAYLIGHT
TZOFFSETFROM:-0500
TZOFFSETTO:-0400
TZNAME:EDT
DTSTART:20260308T070000
END:DAYLIGHT
BEGIN:STANDARD
TZOFFSETFROM:-0400
TZOFFSETTO:-0500
TZNAME:EST
DTSTART:20261101T060000
END:STANDARD
END:VTIMEZONE
BEGIN:VEVENT
DTSTART;TZID=America/New_York:20251027T180000
DTEND;TZID=America/New_York:20251027T190000
DTSTAMP:20260421T123535
CREATED:20250623T163923Z
LAST-MODIFIED:20250825T151746Z
UID:10012954-1761588000-1761591600@www.brooklyn.edu
SUMMARY:Graduate Open House – School of Natural and Behavioral Sciences\, Earth and Environmental Sciences Programs
DESCRIPTION:Meet with faculty and admissions representatives to discuss the Earth and Environmental Sciences M.A. and M.S. programs\, admission requirements\, and the application process. \nLearn about career resources\, internship opportunities\, and funding options\, and get to know our current students\, faculty\, and staff. \nRegister for zoom
URL:https://www.brooklyn.edu/event/graduate-open-house-2025-school-of-natural-and-behavioral-sciences-earth-and-environmental-sciences-programs/
LOCATION:Online
CATEGORIES:Admissions,Admissions, Graduate,Earth and Environmental Sciences,Graduate,School of Natural and Behavioral Sciences
ORGANIZER;CN="Admissions%2C Graduate":MAILTO:grads@brooklyn.cuny.edu
END:VEVENT
BEGIN:VEVENT
DTSTART;TZID=America/New_York:20251017T123000
DTEND;TZID=America/New_York:20251017T133000
DTSTAMP:20260421T123535
CREATED:20250812T184957Z
LAST-MODIFIED:20250820T132732Z
UID:10013018-1760704200-1760707800@www.brooklyn.edu
SUMMARY:Joint Seminar With Ryan Williams
DESCRIPTION:In this BCCC-CURE joint seminar with the Chemistry and Biochemistry Department\, Ryan Williams (associate professor of medicine\, Division of Nephrology and Hypertension\, Stony Brook University) will present “Nanomedicine for the Treatment and Diagnosis of Cancer and Related Diseases.” This seminar is hosted by Assistant Professor Ankit Jain and sponsored by the Cancer Research Institutional Development ACS Grant.
URL:https://www.brooklyn.edu/event/joint-seminar-with-ryan-williams/
LOCATION:Ingersoll Hall\, Room 3143
CATEGORIES:Brooklyn College Cancer Center,Chemistry and Biochemistry,School of Natural and Behavioral Sciences
ORGANIZER;CN="Brooklyn College Cancer Center (BCCC)":MAILTO:bccc-cure@brooklyn.cuny.edu
GEO:40.63082;-73.95186
END:VEVENT
BEGIN:VEVENT
DTSTART;TZID=America/New_York:20251016T180000
DTEND;TZID=America/New_York:20251016T191500
DTSTAMP:20260421T123535
CREATED:20250826T190758Z
LAST-MODIFIED:20251001T130623Z
UID:10013041-1760637600-1760642100@www.brooklyn.edu
SUMMARY:New Books by BC Faculty Series: Embodied Epistemology as Rigorous Historical Method
DESCRIPTION:Join medieval historian Lauren Mancia and anthropologist Professor Katie Rose Hejtmanek as they discuss Mancia’s new short book\, Embodied Epistemology as Rigorous Historical Method. Learn why scholars assume they cannot use reperformance in academic inquiry and why they\, in fact\, should. Discover how embodied epistemology is particularly suited to studying certain pre-1500 C.E. historical topics. Find out how using performance as a tool for historical investigation might work. And hear about some of the innovative\, fun\, and crazy things these two professors do in their research and in their classrooms. \nLauren Mancia is a professor of history at Brooklyn College and professor of medieval studies at the CUNY Graduate Center. She also organizes the LAMEM colloquium. \nKatie Rose Hejtmanek is professor of anthropology and children and youth studies as well as a national and world champion in masters weightlifting. \nRegister for the Zoom meeting
URL:https://www.brooklyn.edu/event/new-books-by-bc-faculty-series-embodied-epistemology-as-rigorous-historical-method/
LOCATION:Online
CATEGORIES:Anthropology,Children and Youth Studies,Ethyle R. Wolfe Institute for the Humanities,History,Late Antique-Medieval-Early Modern Faculty Working Group (LAMEM),School of Natural and Behavioral Sciences
ORGANIZER;CN="Ethyle R. Wolfe Institute for the Humanities":MAILTO:wolfe@brooklyn.cuny.edu
END:VEVENT
BEGIN:VEVENT
DTSTART;TZID=America/New_York:20250919T123000
DTEND;TZID=America/New_York:20250919T133000
DTSTAMP:20260421T123535
CREATED:20250812T183316Z
LAST-MODIFIED:20250820T132822Z
UID:10013017-1758285000-1758288600@www.brooklyn.edu
SUMMARY:Joint Seminar With Elizabeth Papish
DESCRIPTION:In this BCCC-CURE joint seminar with the Chemistry and Biochemistry Department\, Elizabeth Papish (professor of chemistry\, director of graduate recruiting\, Department of Chemistry and Biochemistry\, University of Alabama) will present “Ligand Protonation State Influences the Pathways Open to Light Activated Ruthenium Anticancer Compounds.” The seminar is hosted by Professor Maria Contel and sponsored by the Cancer Research Institutional Development ACS Grant.
URL:https://www.brooklyn.edu/event/joint-seminar-with-elizabeth-papish/
LOCATION:Ingersoll Hall\, Room 3143
CATEGORIES:Brooklyn College Cancer Center,Chemistry and Biochemistry,School of Natural and Behavioral Sciences
ORGANIZER;CN="Brooklyn College Cancer Center (BCCC)":MAILTO:bccc-cure@brooklyn.cuny.edu
GEO:40.63082;-73.95186
END:VEVENT
BEGIN:VEVENT
DTSTART;TZID=America/New_York:20250515T123000
DTEND;TZID=America/New_York:20250515T133000
DTSTAMP:20260421T123535
CREATED:20250127T183942Z
LAST-MODIFIED:20250820T130328Z
UID:10012616-1747312200-1747315800@www.brooklyn.edu
SUMMARY:Caffeine and Epigenetics: Novel Approaches to Prevent and Treat Skin Cancer
DESCRIPTION:In this joint scientific seminar with the Department of Chemistry and Biochemistry\, Dr. Masaoki Kawasumi (Professor\, Department of Dermatology\, University of Washington) presents “Caffeine and Epigenetics: Novel Approaches to Prevent and Treat Skin Cancer.” Hosted by Professor Alexander Greer.
URL:https://www.brooklyn.edu/event/caffeine-and-epigenetics-novel-approaches-to-prevent-and-treat-skin-cancer/
LOCATION:Ingersoll Hall\, Room 2143
CATEGORIES:Brooklyn College Cancer Center,Chemistry and Biochemistry,School of Natural and Behavioral Sciences
ORGANIZER;CN="Brooklyn College Cancer Center (BCCC)":MAILTO:bccc-cure@brooklyn.cuny.edu
GEO:40.63082;-73.95186
END:VEVENT
BEGIN:VEVENT
DTSTART;TZID=America/New_York:20250509T093000
DTEND;TZID=America/New_York:20250509T140000
DTSTAMP:20260421T123535
CREATED:20250218T162518Z
LAST-MODIFIED:20250218T175454Z
UID:10012654-1746783000-1746799200@www.brooklyn.edu
SUMMARY:Science Research Day
DESCRIPTION:Students and faculty are invited to take part in Brooklyn College’s 34th annual Science Research Day. Students working with faculty present judged posters on their research. Poster presentation and viewing will be followed by an award ceremony.
URL:https://www.brooklyn.edu/event/science-research-day/
LOCATION:Student Center
CATEGORIES:Anthropology,Biology,Center for Achievement in Science Education,Chemistry and Biochemistry,Computer and Information Science,Earth and Environmental Sciences,Faculty,Graduate,Health and Nutrition Sciences,Mathematics,Physics,Psychology,School of Natural and Behavioral Sciences,Undergraduate
ORGANIZER;CN="Center for Achievement in Science Education":MAILTO:case@brooklyn.cuny.edu
GEO:40.63265;-73.95045
END:VEVENT
BEGIN:VEVENT
DTSTART;TZID=America/New_York:20250508T121500
DTEND;TZID=America/New_York:20250508T140000
DTSTAMP:20260421T123535
CREATED:20250505T141019Z
LAST-MODIFIED:20250505T141157Z
UID:10012854-1746706500-1746712800@www.brooklyn.edu
SUMMARY:39th H. Martin Friedman Lecture: Virus vs. Host-Targeted Therapeutics—Redesigning Acid Reflux Medications as Anti-Viral Therapeutics
DESCRIPTION:The Department of Chemistry and Biochemistry will host SUNY Distinguished Professor Carol A. Carter\, Department of Microbiology and Immunology\, Renaissance School of Medicine at Stony Brook University. \nAlthough there is still no vaccine or curative therapy for HIV/AIDS\, we do have an outstanding arsenal of highly effective anti-viral drugs. Carter will discuss her novel discovery that has framed HIV research for the past three decades and continues to this day.
URL:https://www.brooklyn.edu/event/39th-h-martin-friedman-lecture-virus-vs-host-targeted-therapeutics-redesigning-acid-reflux-medications-as-anti-viral-therapeutics/
LOCATION:Library\, Room 150\, Woody Tanger Auditorium
CATEGORIES:School of Natural and Behavioral Sciences
ORGANIZER;CN="School of Natural and Behavioral Sciences":MAILTO:deanofnbs@brooklyn.cuny.edu
GEO:40.63109;-73.94981
END:VEVENT
BEGIN:VEVENT
DTSTART;TZID=America/New_York:20250403T122500
DTEND;TZID=America/New_York:20250403T131500
DTSTAMP:20260421T123535
CREATED:20250203T182832Z
LAST-MODIFIED:20250327T131621Z
UID:10012635-1743683100-1743686100@www.brooklyn.edu
SUMMARY:Engineering the Nanoscale via Modification of the Local Energy Environment
DESCRIPTION:Neno Fuller\, Department of Physics & Astronomy\, University of Kansas \nJoin us on Zoom\, April 3\, 12:25-1:15 p.m. \nAbstract: Van der Waals (vdW) 2D heterostructures are a promising platform for harnessing interlayer excitons (IXs).Typically\, moiré superlattices in twisted 2D/2D heterostructures create a periodic energy landscape for IXs. This study presents an alternative method for creating a superlattice potential using a periodic array of “up” and “down” molecular dipoles. Our approach involves growing a few layers of titanyl phthalocyanine (TiOPc) molecules on a monolayer of molybdenum disulfide (MoS2) through vdW epitaxy. Angle-resolved photoemission (ARPES) measurements indicate band narrowing in MoS2 after molecule deposition. Moreover\, time-resolved two-photon photoemission spectroscopy (TR-TPPE) reveals two long-lived IX states with an energy difference of approximately 0.1 eV\, attributed to IX’s localization at “up” and “down” dipole sites. Density functional theory calculations indicate that this energy difference is consistent with the electrostatic potential modulation induced by the TiOPc bilayer. Because the symmetry and the period of this potential superlattice can be changed readily by using molecules of different shapes and sizes\, molecule/2D heterostructures can be promising platforms for designing artificial exciton and electron lattices\, which can be useful for hosting many-body phases such as the Bose-Einstein condensate. \nRegister here.
URL:https://www.brooklyn.edu/event/physics-colloquium-with-neno-fuller/
LOCATION:Zoom
CATEGORIES:Physics,School of Natural and Behavioral Sciences
END:VEVENT
BEGIN:VEVENT
DTSTART;TZID=America/New_York:20250304T123000
DTEND;TZID=America/New_York:20250304T133000
DTSTAMP:20260421T123536
CREATED:20250205T203251Z
LAST-MODIFIED:20250205T203251Z
UID:10012639-1741091400-1741095000@www.brooklyn.edu
SUMMARY:Graduate Open House – School of Natural and Behavioral Sciences (For Alumni and Staff)
DESCRIPTION:Graduate Admissions will be hosting the School of Natural and Behavioral Sciences Graduate Open House only for Brooklyn College seniors\, staff\, and alumni on March 4\, 2025\, starting at 12:30 p.m. in the Student Center Occidental Room 5th Floor. \nGraduating seniors\, alumni\, and staff can bring their unofficial transcripts to receive an admission decision for most programs in as few as 3 days. Most programs also be waiving the application fee and letters of recommendations. \nMeet with faculty and program directors who teach the courses and learn more about the graduate programs within the School of Natural and Behavioral Sciences. \nLunch will be provided. \nRSVP Now
URL:https://www.brooklyn.edu/event/graduate-open-house-school-of-natural-and-behavioral-sciences-alumni-and-staff/
LOCATION:Student Center\, Room 518\, Occidental Room
CATEGORIES:Admissions, Graduate,Alumni,Graduate,School of Natural and Behavioral Sciences,Staff
ORGANIZER;CN="Admissions%2C Graduate":MAILTO:grads@brooklyn.cuny.edu
GEO:40.63265;-73.95045
END:VEVENT
END:VCALENDAR