BEGIN:VCALENDAR
VERSION:2.0
PRODID:-//Brooklyn College - ECPv6.15.12.2//NONSGML v1.0//EN
CALSCALE:GREGORIAN
METHOD:PUBLISH
X-ORIGINAL-URL:https://www.brooklyn.edu
X-WR-CALDESC:Events for Brooklyn College
REFRESH-INTERVAL;VALUE=DURATION:PT1H
X-Robots-Tag:noindex
X-PUBLISHED-TTL:PT1H
BEGIN:VTIMEZONE
TZID:America/New_York
BEGIN:DAYLIGHT
TZOFFSETFROM:-0500
TZOFFSETTO:-0400
TZNAME:EDT
DTSTART:20240310T070000
END:DAYLIGHT
BEGIN:STANDARD
TZOFFSETFROM:-0400
TZOFFSETTO:-0500
TZNAME:EST
DTSTART:20241103T060000
END:STANDARD
BEGIN:DAYLIGHT
TZOFFSETFROM:-0500
TZOFFSETTO:-0400
TZNAME:EDT
DTSTART:20250309T070000
END:DAYLIGHT
BEGIN:STANDARD
TZOFFSETFROM:-0400
TZOFFSETTO:-0500
TZNAME:EST
DTSTART:20251102T060000
END:STANDARD
BEGIN:DAYLIGHT
TZOFFSETFROM:-0500
TZOFFSETTO:-0400
TZNAME:EDT
DTSTART:20260308T070000
END:DAYLIGHT
BEGIN:STANDARD
TZOFFSETFROM:-0400
TZOFFSETTO:-0500
TZNAME:EST
DTSTART:20261101T060000
END:STANDARD
BEGIN:DAYLIGHT
TZOFFSETFROM:-0500
TZOFFSETTO:-0400
TZNAME:EDT
DTSTART:20270314T070000
END:DAYLIGHT
BEGIN:STANDARD
TZOFFSETFROM:-0400
TZOFFSETTO:-0500
TZNAME:EST
DTSTART:20271107T060000
END:STANDARD
END:VTIMEZONE
BEGIN:VEVENT
DTSTART;TZID=America/New_York:20260327T100000
DTEND;TZID=America/New_York:20260327T110000
DTSTAMP:20260421T045630
CREATED:20260311T152724Z
LAST-MODIFIED:20260311T152724Z
UID:10014278-1774605600-1774609200@www.brooklyn.edu
SUMMARY:Teaching With NYC Open Data: Publishing Student Civic Research Through Reproducible Workflows
DESCRIPTION:This NYC Open Data Week event showcases the Brooklyn College Open Data Student Gallery\, a publicly available resource featuring original civic research projects conducted by graduate students at Brooklyn College. Developed as part of a reproducible research curriculum\, students used real NYC Open Data datasets to investigate questions that mattered to them—from public safety and housing trends to environmental and social issues affecting New Yorkers. Using R\, Quarto\, and the open-source nycOpenData package\, each student produced a fully reproducible research chapter that is now published as part of an open educational resource. \nThe session will begin with a brief overview of how NYC Open Data was integrated into the classroom and how students moved from research question to public-facing publication\, followed by short lightning talks from participating students\, each presenting his or her project\, dataset\, analysis approach\, and key findings. Attendees will gain insight into how real civic datasets can be used in higher education to build technical skills\, critical thinking\, and meaningful public scholarship. \nThis session is ideal for educators\, civic technologists\, students\, and anyone interested in public data\, reproducible research\, or innovative teaching approaches. Participants will leave with concrete ideas for incorporating NYC Open Data into their own classrooms or projects—and examples of how student work can move beyond traditional assignments to become lasting\, shareable contributions to the civic data ecosystem.
URL:https://www.brooklyn.edu/event/teaching-with-nyc-open-data-publishing-student-civic-research-through-reproducible-workflows/
LOCATION:Online
CATEGORIES:Graduate,Psychology,School of Natural and Behavioral Sciences
END:VEVENT
BEGIN:VEVENT
DTSTART;TZID=America/New_York:20260202T170000
DTEND;TZID=America/New_York:20260202T180000
DTSTAMP:20260421T045630
CREATED:20250129T215104Z
LAST-MODIFIED:20260113T160537Z
UID:10012629-1770051600-1770055200@www.brooklyn.edu
SUMMARY:Mental Health Counseling Information Session
DESCRIPTION:Learn more about the Mental Health Counseling\, M.A. program at Brooklyn College. \nThe 60-credit master’s degree in Mental Health Counseling (MHC) prepares students to work as mental health counselors within medical\, community\, and private practice settings. Through rigorous academic coursework and clinical internship training\, students learn to apply mental health approaches to contemporary practice\, assessment\, and treatment. \nIn this in-person session\, you will learn about  admission requirements\, the application process\, and have the opportunity to meet with our faculty. \nRegister Now
URL:https://www.brooklyn.edu/event/mental-health-counseling-information-session/
LOCATION:James Hall\, Room 5117
CATEGORIES:Admissions,Admissions, Graduate,Psychology,School of Natural and Behavioral Sciences
ORGANIZER;CN="Admissions%2C Graduate":MAILTO:grads@brooklyn.cuny.edu
GEO:40.63169;-73.95307
END:VEVENT
BEGIN:VEVENT
DTSTART;TZID=America/New_York:20260122T160000
DTEND;TZID=America/New_York:20260122T170000
DTSTAMP:20260421T045631
CREATED:20260120T155032Z
LAST-MODIFIED:20260120T155032Z
UID:10014113-1769097600-1769101200@www.brooklyn.edu
SUMMARY:Mental Health Counseling Open House
DESCRIPTION:Learn more about the Mental Health Counseling\, M.A. program at Brooklyn College at this virtual open house. \nThe 60-credit master’s degree in Mental Health Counseling (MHC) prepares students to work as mental health counselors within medical\, community\, and private practice settings. Through rigorous academic coursework and clinical internship training\, students learn to apply mental health approaches to contemporary practice\, assessment\, and treatment. \nIn this virtual session\, you will learn about  admission requirements\, the application process\, and have the opportunity to talk with our faculty. \nRegister Now
URL:https://www.brooklyn.edu/event/mental-health-counseling-open-house/
LOCATION:Online
CATEGORIES:Admissions,Admissions, Graduate,Psychology,School of Natural and Behavioral Sciences
ORGANIZER;CN="Admissions%2C Graduate":MAILTO:grads@brooklyn.cuny.edu
END:VEVENT
BEGIN:VEVENT
DTSTART;TZID=America/New_York:20251113T123000
DTEND;TZID=America/New_York:20251113T140000
DTSTAMP:20260421T045631
CREATED:20251017T152645Z
LAST-MODIFIED:20251017T152645Z
UID:10013954-1763037000-1763042400@www.brooklyn.edu
SUMMARY:Career Paths for Psychology Majors: A Virtual Alumni Panel
DESCRIPTION:Thinking about a career with your psychology major/degree but not sure where to start? Join us for an inspiring virtual panel featuring successful alumni who have turned their psychology degrees into diverse and exciting careers! Hear firsthand how they’ve applied their skills in fields like legal services\, health and human services\, education\, and consulting and psychotherapy. This is your chance to get a sneak peek into the jobs you never knew existed and ask your burning questions. \nJoin the Zoom meeting
URL:https://www.brooklyn.edu/event/career-paths-for-psychology-majors-a-virtual-alumni-panel/
LOCATION:Online
CATEGORIES:Magner Career Center,Psychology
ORGANIZER;CN="Magner Career Center":MAILTO:careernews@brooklyn.cuny.edu
END:VEVENT
BEGIN:VEVENT
DTSTART;TZID=America/New_York:20251112T170000
DTEND;TZID=America/New_York:20251112T180000
DTSTAMP:20260421T045631
CREATED:20240710T185421Z
LAST-MODIFIED:20251029T132815Z
UID:10009765-1762966800-1762970400@www.brooklyn.edu
SUMMARY:Graduate Open House – School of Natural and Behavioral Sciences\, Mental Health Counseling\, M.A.
DESCRIPTION:Ready to expand your career in psychology? Meet with faculty and admissions representatives to discuss the Mental Health Counseling\, M.A. and learn more about career possibilities\, admission requirements\, and the application process. \nThe 60-credit master’s degree in Mental Health Counseling (MHC) prepares students to work as mental health counselors within medical\, community\, and private practice settings. Through rigorous academic coursework and clinical internship training\, students learn to apply mental health approaches to contemporary practice\, assessment\, and treatment. \nLearn about career resources\, internship opportunities\, and funding options\, and get to know our current students\, faculty\, and staff. \nThis event takes place in person\, in James Hall\, Room 5117\, on the Brooklyn College campus. \nRSVP Now
URL:https://www.brooklyn.edu/event/graduate-open-house-2025-school-of-natural-and-behavioral-sciences-mental-health-counseling-m-a-2/
LOCATION:James Hall\, Room 5117
CATEGORIES:Admissions,Admissions, Graduate,Graduate,Psychology,School of Natural and Behavioral Sciences
ORGANIZER;CN="Admissions%2C Graduate":MAILTO:grads@brooklyn.cuny.edu
GEO:40.63169;-73.95307
END:VEVENT
BEGIN:VEVENT
DTSTART;TZID=America/New_York:20251030T180000
DTEND;TZID=America/New_York:20251030T190000
DTSTAMP:20260421T045631
CREATED:20250721T180536Z
LAST-MODIFIED:20250904T173326Z
UID:10012982-1761847200-1761850800@www.brooklyn.edu
SUMMARY:Graduate Open House – School of Natural and Behavioral Sciences\, Industrial and Organizational Psychology Programs
DESCRIPTION:Meet with faculty and admissions representatives to discuss the Industrial and Organizational—Group Processes and Organizational Behavior\, M.A. and the Industrial and Organizational—Personnel and Human Resources\, M.A. programs\, admission requirements\, and the application process. \nLearn about career resources\, internship opportunities\, and funding options\, and get to know our current students\, faculty\, and staff. \nRegister Now
URL:https://www.brooklyn.edu/event/graduate-open-house-2025-school-of-natural-and-behavioral-sciences-industrial-and-organizational-psychology-programs/
LOCATION:Online
CATEGORIES:Admissions,Admissions, Graduate,Graduate,Psychology,School of Natural and Behavioral Sciences
ORGANIZER;CN="Admissions%2C Graduate":MAILTO:grads@brooklyn.cuny.edu
END:VEVENT
BEGIN:VEVENT
DTSTART;TZID=America/New_York:20251028T180000
DTEND;TZID=America/New_York:20251028T190000
DTSTAMP:20260421T045631
CREATED:20250623T164231Z
LAST-MODIFIED:20250826T200811Z
UID:10012955-1761674400-1761678000@www.brooklyn.edu
SUMMARY:Graduate Open House – School of Natural and Behavioral Sciences\, Mental Health Counseling\, M.A.
DESCRIPTION:Ready to expand your career in psychology? Meet with faculty and admissions representatives to discuss the Mental Health Counseling\, M.A. and learn more about career possibilities\, admission requirements\, and the application process. \nLearn about career resources\, internship opportunities\, and funding options\, and get to know our current students\, faculty\, and staff. \nRegister for zoom
URL:https://www.brooklyn.edu/event/graduate-open-house-2025-school-of-natural-and-behavioral-sciences-mental-health-counseling-m-a/
LOCATION:Online
CATEGORIES:Admissions,Admissions, Graduate,Graduate,Psychology,School of Natural and Behavioral Sciences
ORGANIZER;CN="Admissions%2C Graduate":MAILTO:grads@brooklyn.cuny.edu
END:VEVENT
BEGIN:VEVENT
DTSTART;TZID=America/New_York:20251027T190000
DTEND;TZID=America/New_York:20251027T200000
DTSTAMP:20260421T045631
CREATED:20250623T162755Z
LAST-MODIFIED:20250902T161658Z
UID:10012953-1761591600-1761595200@www.brooklyn.edu
SUMMARY:Graduate Open House – School of Natural and Behavioral Sciences\, Psychological Research\, M.S.
DESCRIPTION:Meet with faculty and admissions representatives to discuss the Psychological Research\, M.S. program\, admission requirements\, and the application process. \nLearn about career resources\, internship opportunities\, and funding options\, and get to know our current students\, faculty\, and staff. \nRegister for Zoom
URL:https://www.brooklyn.edu/event/graduate-open-house-2025-school-of-natural-and-behavioral-sciences-psychological-research-m-s/
LOCATION:Online
CATEGORIES:Admissions,Admissions, Graduate,Graduate,Psychology,School of Natural and Behavioral Sciences
ORGANIZER;CN="Admissions%2C Graduate":MAILTO:grads@brooklyn.cuny.edu
END:VEVENT
BEGIN:VEVENT
DTSTART;TZID=America/New_York:20251023T170000
DTEND;TZID=America/New_York:20251023T180000
DTSTAMP:20260421T045631
CREATED:20250721T181331Z
LAST-MODIFIED:20250825T165332Z
UID:10012983-1761238800-1761242400@www.brooklyn.edu
SUMMARY:Graduate Open House – School of Education\, Mental Health Counseling\, Advanced Certificate
DESCRIPTION:Ready to expand your career in mental health counseling? Meet with faculty and admissions representatives to discuss the Mental Health Counseling\, Advanced Certificate program and learn more about career possibilities\, admission requirements\, and the application process. \nLearn about career resources\, internship opportunities\, and funding options\, and get to know our current students\, faculty\, and staff. \nREGISTER NOW
URL:https://www.brooklyn.edu/event/graduate-open-house-2025-school-of-education-mental-health-counseling-advanced-certificate/
LOCATION:Online
CATEGORIES:Admissions,Admissions, Graduate,Graduate,Psychology,School of Education,School Psychology, Counseling, and Leadership
ORGANIZER;CN="Admissions%2C Graduate":MAILTO:grads@brooklyn.cuny.edu
END:VEVENT
BEGIN:VEVENT
DTSTART;TZID=America/New_York:20250509T093000
DTEND;TZID=America/New_York:20250509T140000
DTSTAMP:20260421T045631
CREATED:20250218T162518Z
LAST-MODIFIED:20250218T175454Z
UID:10012654-1746783000-1746799200@www.brooklyn.edu
SUMMARY:Science Research Day
DESCRIPTION:Students and faculty are invited to take part in Brooklyn College’s 34th annual Science Research Day. Students working with faculty present judged posters on their research. Poster presentation and viewing will be followed by an award ceremony.
URL:https://www.brooklyn.edu/event/science-research-day/
LOCATION:Student Center
CATEGORIES:Anthropology,Biology,Center for Achievement in Science Education,Chemistry and Biochemistry,Computer and Information Science,Earth and Environmental Sciences,Faculty,Graduate,Health and Nutrition Sciences,Mathematics,Physics,Psychology,School of Natural and Behavioral Sciences,Undergraduate
ORGANIZER;CN="Center for Achievement in Science Education":MAILTO:case@brooklyn.cuny.edu
GEO:40.63265;-73.95045
END:VEVENT
END:VCALENDAR