BEGIN:VCALENDAR
VERSION:2.0
PRODID:-//Brooklyn College - ECPv6.15.12.2//NONSGML v1.0//EN
CALSCALE:GREGORIAN
METHOD:PUBLISH
X-ORIGINAL-URL:https://www.brooklyn.edu
X-WR-CALDESC:Events for Brooklyn College
REFRESH-INTERVAL;VALUE=DURATION:PT1H
X-Robots-Tag:noindex
X-PUBLISHED-TTL:PT1H
BEGIN:VTIMEZONE
TZID:America/New_York
BEGIN:DAYLIGHT
TZOFFSETFROM:-0500
TZOFFSETTO:-0400
TZNAME:EDT
DTSTART:20240310T070000
END:DAYLIGHT
BEGIN:STANDARD
TZOFFSETFROM:-0400
TZOFFSETTO:-0500
TZNAME:EST
DTSTART:20241103T060000
END:STANDARD
BEGIN:DAYLIGHT
TZOFFSETFROM:-0500
TZOFFSETTO:-0400
TZNAME:EDT
DTSTART:20250309T070000
END:DAYLIGHT
BEGIN:STANDARD
TZOFFSETFROM:-0400
TZOFFSETTO:-0500
TZNAME:EST
DTSTART:20251102T060000
END:STANDARD
BEGIN:DAYLIGHT
TZOFFSETFROM:-0500
TZOFFSETTO:-0400
TZNAME:EDT
DTSTART:20260308T070000
END:DAYLIGHT
BEGIN:STANDARD
TZOFFSETFROM:-0400
TZOFFSETTO:-0500
TZNAME:EST
DTSTART:20261101T060000
END:STANDARD
END:VTIMEZONE
BEGIN:VEVENT
DTSTART;TZID=America/New_York:20251112T160000
DTEND;TZID=America/New_York:20251112T170000
DTSTAMP:20260422T012900
CREATED:20250129T214222Z
LAST-MODIFIED:20251105T184440Z
UID:10012628-1762963200-1762966800@www.brooklyn.edu
SUMMARY:School Counseling and School Psychologist Information Session
DESCRIPTION:Meet with faculty and admissions representatives to discuss the School Counseling\, M.S.Ed.\, and School Psychologist\, M.S.Ed. programs\, admission requirements\, and the application process. RSVP for Zoom link. \nREGISTER NOW
URL:https://www.brooklyn.edu/event/school-counseling-and-school-psychologist-information-session-6/
LOCATION:Online
CATEGORIES:Admissions,Admissions, Graduate,School of Education,School Psychology, Counseling, and Leadership
ORGANIZER;CN="Admissions%2C Graduate":MAILTO:grads@brooklyn.cuny.edu
END:VEVENT
BEGIN:VEVENT
DTSTART;TZID=America/New_York:20251023T170000
DTEND;TZID=America/New_York:20251023T180000
DTSTAMP:20260422T012900
CREATED:20250721T181331Z
LAST-MODIFIED:20250825T165332Z
UID:10012983-1761238800-1761242400@www.brooklyn.edu
SUMMARY:Graduate Open House – School of Education\, Mental Health Counseling\, Advanced Certificate
DESCRIPTION:Ready to expand your career in mental health counseling? Meet with faculty and admissions representatives to discuss the Mental Health Counseling\, Advanced Certificate program and learn more about career possibilities\, admission requirements\, and the application process. \nLearn about career resources\, internship opportunities\, and funding options\, and get to know our current students\, faculty\, and staff. \nREGISTER NOW
URL:https://www.brooklyn.edu/event/graduate-open-house-2025-school-of-education-mental-health-counseling-advanced-certificate/
LOCATION:Online
CATEGORIES:Admissions,Admissions, Graduate,Graduate,Psychology,School of Education,School Psychology, Counseling, and Leadership
ORGANIZER;CN="Admissions%2C Graduate":MAILTO:grads@brooklyn.cuny.edu
END:VEVENT
BEGIN:VEVENT
DTSTART;TZID=America/New_York:20251021T200000
DTEND;TZID=America/New_York:20251021T210000
DTSTAMP:20260422T012900
CREATED:20250623T173705Z
LAST-MODIFIED:20250825T153040Z
UID:10012958-1761076800-1761080400@www.brooklyn.edu
SUMMARY:Graduate Open House – School of Education\, Education Leadership\, M.S.Ed.
DESCRIPTION:Meet with faculty and admissions representatives to discuss the Education Leadership\, M.S.Ed.\, admission requirements\, and the application process. \nLearn about career resources\, internships\, and funding options\, and get to know our students\, faculty\, and staff. \nREgister for ZOom
URL:https://www.brooklyn.edu/event/graduate-open-house-2025-school-of-education-education-leadership-m-s-ed/
LOCATION:Online
CATEGORIES:Admissions,Admissions, Graduate,Graduate,School of Education,School Psychology, Counseling, and Leadership
ORGANIZER;CN="Admissions%2C Graduate":MAILTO:grads@brooklyn.cuny.edu
END:VEVENT
BEGIN:VEVENT
DTSTART;TZID=America/New_York:20251020T200000
DTEND;TZID=America/New_York:20251020T210000
DTSTAMP:20260422T012900
CREATED:20250623T171731Z
LAST-MODIFIED:20250825T153710Z
UID:10012966-1760990400-1760994000@www.brooklyn.edu
SUMMARY:Graduate Open House – School of Education\, Play Therapy\, Advanced Certificate
DESCRIPTION:Meet with faculty and admissions representatives to discuss the  Play Therapy\, Advanced Certificate\, admission requirements\, and the application process. \nLearn about career resources\, internships\, and funding options\, and get to know our students\, faculty\, and staff. \nRegister for Zoom
URL:https://www.brooklyn.edu/event/graduate-open-house-2025-school-of-education-play-therapy-advanced-certificate/
LOCATION:Online
CATEGORIES:Admissions,Admissions, Graduate,Graduate,School of Education,School Psychology, Counseling, and Leadership
ORGANIZER;CN="Admissions%2C Graduate":MAILTO:grads@brooklyn.cuny.edu
END:VEVENT
BEGIN:VEVENT
DTSTART;TZID=America/New_York:20251020T170000
DTEND;TZID=America/New_York:20251020T180000
DTSTAMP:20260422T012900
CREATED:20250623T171516Z
LAST-MODIFIED:20250825T165247Z
UID:10012967-1760979600-1760983200@www.brooklyn.edu
SUMMARY:Graduate Open House – School of Education\, School Counseling and School Psychologist Programs
DESCRIPTION:Meet with faculty and admissions representatives to discuss the School Counseling\, M.S.Ed. and School Psychologist programs (M.S.Ed.\, Advanced Certificate\, and Bilingual Extension Advanced Certificate)\, admission requirements\, and the application process. \nLearn about career resources\, internships\, and funding options\, and get to know our students\, faculty\, and staff. \nRegister for Zoom
URL:https://www.brooklyn.edu/event/graduate-open-house-2025-school-of-education-school-counseling-and-school-psychologist-programs/
LOCATION:Online
CATEGORIES:Admissions,Admissions, Graduate,Graduate,School of Education,School Psychology, Counseling, and Leadership
ORGANIZER;CN="Admissions%2C Graduate":MAILTO:grads@brooklyn.cuny.edu
END:VEVENT
END:VCALENDAR