BEGIN:VCALENDAR
VERSION:2.0
PRODID:-//Brooklyn College - ECPv6.15.12.2//NONSGML v1.0//EN
CALSCALE:GREGORIAN
METHOD:PUBLISH
X-ORIGINAL-URL:https://www.brooklyn.edu
X-WR-CALDESC:Events for Brooklyn College
REFRESH-INTERVAL;VALUE=DURATION:PT1H
X-Robots-Tag:noindex
X-PUBLISHED-TTL:PT1H
BEGIN:VTIMEZONE
TZID:America/New_York
BEGIN:DAYLIGHT
TZOFFSETFROM:-0500
TZOFFSETTO:-0400
TZNAME:EDT
DTSTART:20240310T070000
END:DAYLIGHT
BEGIN:STANDARD
TZOFFSETFROM:-0400
TZOFFSETTO:-0500
TZNAME:EST
DTSTART:20241103T060000
END:STANDARD
BEGIN:DAYLIGHT
TZOFFSETFROM:-0500
TZOFFSETTO:-0400
TZNAME:EDT
DTSTART:20250309T070000
END:DAYLIGHT
BEGIN:STANDARD
TZOFFSETFROM:-0400
TZOFFSETTO:-0500
TZNAME:EST
DTSTART:20251102T060000
END:STANDARD
BEGIN:DAYLIGHT
TZOFFSETFROM:-0500
TZOFFSETTO:-0400
TZNAME:EDT
DTSTART:20260308T070000
END:DAYLIGHT
BEGIN:STANDARD
TZOFFSETFROM:-0400
TZOFFSETTO:-0500
TZNAME:EST
DTSTART:20261101T060000
END:STANDARD
END:VTIMEZONE
BEGIN:VEVENT
DTSTART;TZID=America/New_York:20251023T190000
DTEND;TZID=America/New_York:20251023T200000
DTSTAMP:20260422T052610
CREATED:20250623T172216Z
LAST-MODIFIED:20250825T153421Z
UID:10012963-1761246000-1761249600@www.brooklyn.edu
SUMMARY:Graduate Open House – School of Education\, English Teacher\, M.A.
DESCRIPTION:Meet with faculty and admissions representatives to discuss the English Teacher\, M.A.\, admission requirements\, and the application process. \nLearn about career resources\, internships\, and funding options\, and get to know our students\, faculty\, and staff. \nRegister for Zoom
URL:https://www.brooklyn.edu/event/graduate-open-house-2025-school-of-education-english-teacher-m-a/
LOCATION:Online
CATEGORIES:Admissions,Admissions, Graduate,Graduate,School of Education,Secondary Education
ORGANIZER;CN="Admissions%2C Graduate":MAILTO:grads@brooklyn.cuny.edu
END:VEVENT
BEGIN:VEVENT
DTSTART;TZID=America/New_York:20251022T180000
DTEND;TZID=America/New_York:20251022T190000
DTSTAMP:20260422T052610
CREATED:20250623T172038Z
LAST-MODIFIED:20250825T153458Z
UID:10012964-1761156000-1761159600@www.brooklyn.edu
SUMMARY:Graduate Open House – School of Education\, French Teacher\, M.A. and Spanish Teacher\, M.A.
DESCRIPTION:Meet with faculty and admissions representatives to discuss the French Teacher\, M.A. and Spanish Teacher\, M.A.\, admission requirements\, and the application process. \nLearn about career resources\, internship opportunities\, and funding options\, and get to know our current students\, faculty\, and staff. \nRegister for zoom
URL:https://www.brooklyn.edu/event/graduate-open-house-2025-school-of-education-french-teacher-m-a-and-spanish-teacher-m-a/
LOCATION:Online
CATEGORIES:Admissions,Admissions, Graduate,Graduate,School of Education,Secondary Education
ORGANIZER;CN="Admissions%2C Graduate":MAILTO:grads@brooklyn.cuny.edu
END:VEVENT
BEGIN:VEVENT
DTSTART;TZID=America/New_York:20251022T180000
DTEND;TZID=America/New_York:20251022T190000
DTSTAMP:20260422T052610
CREATED:20240626T143600Z
LAST-MODIFIED:20250826T201831Z
UID:10009679-1761156000-1761159600@www.brooklyn.edu
SUMMARY:Graduate Open House – School of Education\, Social Studies Teacher\, M.A.
DESCRIPTION:Meet with faculty and admissions representatives to discuss the Social Studies Teacher\, M.A.\, admission requirements\, and the application process. \nLearn about career resources\, internships\, and funding options\, and get to know our students\, faculty\, and staff. \nRegister
URL:https://www.brooklyn.edu/event/graduate-open-house-2025-school-of-education-social-studies-teacher-m-a/
LOCATION:Online
CATEGORIES:Admissions,Admissions, Graduate,Graduate,School of Education,Secondary Education
ORGANIZER;CN="Admissions%2C Graduate":MAILTO:grads@brooklyn.cuny.edu
END:VEVENT
BEGIN:VEVENT
DTSTART;TZID=America/New_York:20251021T180000
DTEND;TZID=America/New_York:20251021T190000
DTSTAMP:20260422T052610
CREATED:20240626T144647Z
LAST-MODIFIED:20250826T201313Z
UID:10009680-1761069600-1761073200@www.brooklyn.edu
SUMMARY:Graduate Open House – School of Education\, Physical Education Teacher\, M.S.Ed. and Health Teacher\, M.S.Ed. Programs
DESCRIPTION:Meet with faculty and admissions representatives to discuss the Physical Education Teacher\, M.S.Ed.\, and Health Teacher\, M.S.Ed.\, admission requirements\, and the application process. \nLearn about career resources\, internships\, and funding options\, and get to know our students\, faculty\, and staff. \nRegister
URL:https://www.brooklyn.edu/event/graduate-open-house-2025-school-of-education-physical-education-teacher-m-s-ed-health-teacher-m-s-ed/
LOCATION:Online
CATEGORIES:Admissions,Admissions, Graduate,Graduate,School of Education,Secondary Education
ORGANIZER;CN="Admissions%2C Graduate":MAILTO:grads@brooklyn.cuny.edu
END:VEVENT
END:VCALENDAR