BEGIN:VCALENDAR
VERSION:2.0
PRODID:-//Brooklyn College - ECPv6.15.12.2//NONSGML v1.0//EN
CALSCALE:GREGORIAN
METHOD:PUBLISH
X-WR-CALNAME:Brooklyn College
X-ORIGINAL-URL:https://www.brooklyn.edu
X-WR-CALDESC:Events for Brooklyn College
REFRESH-INTERVAL;VALUE=DURATION:PT1H
X-Robots-Tag:noindex
X-PUBLISHED-TTL:PT1H
BEGIN:VTIMEZONE
TZID:America/New_York
BEGIN:DAYLIGHT
TZOFFSETFROM:-0500
TZOFFSETTO:-0400
TZNAME:EDT
DTSTART:20240310T070000
END:DAYLIGHT
BEGIN:STANDARD
TZOFFSETFROM:-0400
TZOFFSETTO:-0500
TZNAME:EST
DTSTART:20241103T060000
END:STANDARD
BEGIN:DAYLIGHT
TZOFFSETFROM:-0500
TZOFFSETTO:-0400
TZNAME:EDT
DTSTART:20250309T070000
END:DAYLIGHT
BEGIN:STANDARD
TZOFFSETFROM:-0400
TZOFFSETTO:-0500
TZNAME:EST
DTSTART:20251102T060000
END:STANDARD
BEGIN:DAYLIGHT
TZOFFSETFROM:-0500
TZOFFSETTO:-0400
TZNAME:EDT
DTSTART:20260308T070000
END:DAYLIGHT
BEGIN:STANDARD
TZOFFSETFROM:-0400
TZOFFSETTO:-0500
TZNAME:EST
DTSTART:20261101T060000
END:STANDARD
BEGIN:DAYLIGHT
TZOFFSETFROM:-0500
TZOFFSETTO:-0400
TZNAME:EDT
DTSTART:20270314T070000
END:DAYLIGHT
BEGIN:STANDARD
TZOFFSETFROM:-0400
TZOFFSETTO:-0500
TZNAME:EST
DTSTART:20271107T060000
END:STANDARD
END:VTIMEZONE
BEGIN:VEVENT
DTSTART;TZID=America/New_York:20260223T180000
DTEND;TZID=America/New_York:20260223T190000
DTSTAMP:20260422T043925
CREATED:20260116T171649Z
LAST-MODIFIED:20260116T171739Z
UID:10014112-1771869600-1771873200@www.brooklyn.edu
SUMMARY:Media Studies\, M.S. Information Session
DESCRIPTION:Meet with faculty and admissions representatives to discuss the Media Studies\, M.S.\, admission requirements\, and the application process. \nLearn about career resources\, internship opportunities\, and funding options\, and get to know our current students\, faculty\, and staff. \nRegister
URL:https://www.brooklyn.edu/event/media-studies-m-s-nformation-session/
LOCATION:Online
CATEGORIES:Admissions,Admissions, Graduate,Graduate,School of Visual, Media and Performing Arts,Television, Radio & Emerging Media
ORGANIZER;CN="Admissions%2C Graduate":MAILTO:grads@brooklyn.cuny.edu
END:VEVENT
BEGIN:VEVENT
DTSTART;TZID=America/New_York:20251110T180000
DTEND;TZID=America/New_York:20251110T190000
DTSTAMP:20260422T043925
CREATED:20250623T165953Z
LAST-MODIFIED:20250825T155213Z
UID:10012957-1762797600-1762801200@www.brooklyn.edu
SUMMARY:Graduate Open House – School of Visual\, Media\, and Performing Arts\, Media Studies\, M.S.
DESCRIPTION:Meet with faculty and admissions representatives to discuss the Media Studies\, M.S.\, admission requirements\, and the application process. \nLearn about career resources\, internship opportunities\, and funding options\, and get to know our current students\, faculty\, and staff. \nRegister for ZOom
URL:https://www.brooklyn.edu/event/graduate-open-house-2025-school-of-visual-media-and-performing-arts-media-studies-m-s/
LOCATION:Online
CATEGORIES:Admissions,Admissions, Graduate,Graduate,School of Visual, Media and Performing Arts,Television, Radio & Emerging Media
ORGANIZER;CN="Admissions%2C Graduate":MAILTO:grads@brooklyn.cuny.edu
END:VEVENT
BEGIN:VEVENT
DTSTART;TZID=America/New_York:20250403T141500
DTEND;TZID=America/New_York:20250403T153000
DTSTAMP:20260422T043925
CREATED:20250210T195328Z
LAST-MODIFIED:20250210T195328Z
UID:10012645-1743689700-1743694200@www.brooklyn.edu
SUMMARY:Podcasting in the Changing Media/Political Landscape
DESCRIPTION:This conversation takes its inspiration from “A Podcast of One’s Own” by Strict Scrutiny podcast co-hosts Leah Litman\, Melissa Murray\, and Kate Shaw\, published in the Michigan Journal of Gender & Law in 2021 (Vol. 28.1). \nSpeakers will include: Melissa Murray\, Frederick I. and Grace Stokes Professor of Law\, NYU School of Law\, MSNBC legal analyst\, and Robert L. Hess Scholar-in Residence 2025; Maria Hinojosa\, Pulitzer Prize–winning journalist\, founder of Futuro Media\, Distinguished Journalist in Residence at Barnard College\, and host of In the Thick podcast; Leah Litman\, professor of law\, University of Michigan Law School; Eric Marcus\, founder and host of the Making Gay History podcast; and Kate Shaw\, professor of law at the University of Pennsylvania Law School and Supreme Court contributor for ABC News. \nModerated by: Adjunct Professor of Television\, Radio\, and Emerging Media Rachel Strauss\, host of Latinos Out Loud podcast.
URL:https://www.brooklyn.edu/event/podcasting-in-the-changing-media-political-landscape/
LOCATION:Student Center\, Room 400\, Jefferson-Williams Room
CATEGORIES:Ethyle R. Wolfe Institute for the Humanities,School of Visual, Media and Performing Arts,Television, Radio & Emerging Media
ATTACH;FMTTYPE=image/jpeg:https://www.brooklyn.edu/wp-content/uploads/Melissa-Murray.jpeg
ORGANIZER;CN="Ethyle R. Wolfe Institute for the Humanities":MAILTO:wolfe@brooklyn.cuny.edu
GEO:40.63262;-73.95068
END:VEVENT
END:VCALENDAR