BEGIN:VCALENDAR
VERSION:2.0
PRODID:-//Brooklyn College - ECPv6.15.12.2//NONSGML v1.0//EN
CALSCALE:GREGORIAN
METHOD:PUBLISH
X-WR-CALNAME:Brooklyn College
X-ORIGINAL-URL:https://www.brooklyn.edu
X-WR-CALDESC:Events for Brooklyn College
REFRESH-INTERVAL;VALUE=DURATION:PT1H
X-Robots-Tag:noindex
X-PUBLISHED-TTL:PT1H
BEGIN:VTIMEZONE
TZID:America/New_York
BEGIN:DAYLIGHT
TZOFFSETFROM:-0500
TZOFFSETTO:-0400
TZNAME:EDT
DTSTART:20240310T070000
END:DAYLIGHT
BEGIN:STANDARD
TZOFFSETFROM:-0400
TZOFFSETTO:-0500
TZNAME:EST
DTSTART:20241103T060000
END:STANDARD
BEGIN:DAYLIGHT
TZOFFSETFROM:-0500
TZOFFSETTO:-0400
TZNAME:EDT
DTSTART:20250309T070000
END:DAYLIGHT
BEGIN:STANDARD
TZOFFSETFROM:-0400
TZOFFSETTO:-0500
TZNAME:EST
DTSTART:20251102T060000
END:STANDARD
BEGIN:DAYLIGHT
TZOFFSETFROM:-0500
TZOFFSETTO:-0400
TZNAME:EDT
DTSTART:20260308T070000
END:DAYLIGHT
BEGIN:STANDARD
TZOFFSETFROM:-0400
TZOFFSETTO:-0500
TZNAME:EST
DTSTART:20261101T060000
END:STANDARD
BEGIN:DAYLIGHT
TZOFFSETFROM:-0500
TZOFFSETTO:-0400
TZNAME:EDT
DTSTART:20270314T070000
END:DAYLIGHT
BEGIN:STANDARD
TZOFFSETFROM:-0400
TZOFFSETTO:-0500
TZNAME:EST
DTSTART:20271107T060000
END:STANDARD
END:VTIMEZONE
BEGIN:VEVENT
DTSTART;TZID=America/New_York:20260421T121500
DTEND;TZID=America/New_York:20260421T141500
DTSTAMP:20260422T150745
CREATED:20260415T183541Z
LAST-MODIFIED:20260415T183542Z
UID:10014351-1776773700-1776780900@www.brooklyn.edu
SUMMARY:Sustainability Fair
DESCRIPTION:Explore practical ways to live and work more sustainably. Learn about energy conservation\, composting\, renewable energy\, local and sustainable food choices\, and habitat restoration from a variety of organizations and businesses. Enjoy interactive activities\, free giveaways\, music\, raffles\, food\, and the return of the smoothie bike!
URL:https://www.brooklyn.edu/event/sustainability-fair-2/
LOCATION:West Quad
CATEGORIES:Campus Sustainability,Urban Sustainability,USG/GSO/Provost
GEO:40.63113837;-73.95336753
END:VEVENT
BEGIN:VEVENT
DTSTART;TZID=America/New_York:20260421T110000
DTEND;TZID=America/New_York:20260421T121500
DTSTAMP:20260422T150745
CREATED:20260325T194410Z
LAST-MODIFIED:20260325T194410Z
UID:10014321-1776769200-1776773700@www.brooklyn.edu
SUMMARY:Who Decides Who Belongs—And Who Gets Erased? A Discussion on Housing and Belonging With Filmmaker Derrick Benton and Sociologist Jerome Krase
DESCRIPTION:Filmmaker Derrick Benton explores the politics of belonging through the lens of his documentary The House That Love Built. Beginning with his family’s story in 1980s Brooklyn\, Benton traces how housing policy\, administrative systems\, and everyday bureaucracy shape not only where people live\, but whether they are recognized as fully human within civic life and how narratives are constructed\, who controls them\, and what it means to reclaim authorship over one’s own history. \nDerrick Benton is a Brooklyn-born filmmaker and writer whose work spans documentary and narrative film. He is the founder of F.R.E.E. Studios (Filming Real Emotional Experiences)\, a production studio dedicated to community-rooted storytelling and cultural critique. His films explore memory\, identity\, and the ways institutions shape lived experience. Alongside his film work\, Derrick publishes essays on power\, belonging\, and media through The Stooop. \nJerome Krase\, Emeritus Professor of Sociology and the Murray Koppelman Professor at Brooklyn College\, is an activist-scholar who works with public and private agencies regarding urban community issues. His self- and co-authored books include Self and Community in the City (1982)\, Ethnicity and Machine Politics (1992)\, Italian Americans in a Multicultural Society (1994)\, Race and Ethnicity in New York City (2005) Ethnic Landscapes in an Urban World (2006)\, Seeing Cities Change: Local Culture and Class (2012)\, Race\, Class\, and Gentrification in Brooklyn (2016)\, COVID-19 in Brooklyn (2022)\, and forthcoming Local and Global Impacts of the War in Ukraine. He co-edits Urbanities and serves on the editorial boards of Visual Studies and the Journal of Video Ethnography. Krase has twice served a Fulbright Specialist\, is an officer of ProBonoDesign Inc\, and active in many American\, European\, and international sociological associations\, the Commission on Urban Anthropology\, American Italian Historical Association\, International Urban Symposium\, H-NET Humanities on Line\, International Visual Sociology Association\, Polish American Historical Association\, Polish Institute of Arts and Sciences in America\, and the European Academy of Sciences of Ukraine\, where he currently serves as president. \nSponsored by the departments of Sociology\, Political Science\, and Puerto Rican and Latinx Studies; the Program in Urban Sustainability; and the Ethyle R. Wolfe Institute for the Humanities at Brooklyn College.
URL:https://www.brooklyn.edu/event/who-decides-who-belongs-and-who-gets-erased-a-discussion-on-housing-and-belonging-with-filmmaker-derrick-benton-and-sociologist-jerome-krase/
LOCATION:Library\, Room 150\, Woody Tanger Auditorium
CATEGORIES:Ethyle R. Wolfe Institute for the Humanities,Political Science,Puerto Rican and Latino Studies,Sociology,Urban Sustainability
ORGANIZER;CN="Ethyle R. Wolfe Institute for the Humanities":MAILTO:wolfe@brooklyn.cuny.edu
GEO:40.63109;-73.94981
END:VEVENT
BEGIN:VEVENT
DTSTART;TZID=America/New_York:20260324T173000
DTEND;TZID=America/New_York:20260324T183000
DTSTAMP:20260422T150745
CREATED:20260313T141407Z
LAST-MODIFIED:20260318T171448Z
UID:10014286-1774373400-1774377000@www.brooklyn.edu
SUMMARY:Information Session: Accelerated Master’s Degree in City Planning (SUST+MSCP)
DESCRIPTION:This information session about the accelerated Master’s Degree in City Planning (SUST+MSCP) is a unique opportunity for undergraduate students in the Urban Sustainability (SUST) program at Brooklyn College to begin earning graduate credits at Baruch College’s Marxe School of Public and International Affairs’ M.S. in City Planning (MSCP). \nLearn how the program can help you fast-track your path to a professional career in planning and sustainability. At this session\, you’ll learn about: \n\nBaruch’s M.S. in City Planning program\,\nhow the accelerated SUST+MSCP program works\,\neligibility and application requirements\, and\nhow faculty and advisers can help you on your path.\n\nFaculty and program advisers will be available to answer questions and help you explore whether the accelerated master’s pathway is right for you.
URL:https://www.brooklyn.edu/event/information-session-accelerated-masters-degree-in-city-planning-sustmscp/
LOCATION:Online
CATEGORIES:Admissions,Admissions, Graduate,Admissions, Undergraduate,School of Humanities and Social Sciences,Undergraduate,Urban Sustainability
END:VEVENT
BEGIN:VEVENT
DTSTART;TZID=America/New_York:20251004T120000
DTEND;TZID=America/New_York:20251004T150000
DTSTAMP:20260422T150745
CREATED:20250912T165735Z
LAST-MODIFIED:20250912T165735Z
UID:10013071-1759579200-1759590000@www.brooklyn.edu
SUMMARY:Brooklyn College Tree Inventory: Connecting Data\, Ecology\, and Community
DESCRIPTION:Students\, staff\, faculty\, and the general public are invited to join us for City of Forest Day at Brooklyn College. This interactive event combines science\, sustainability\, and community. During this hands-on experience in urban ecology\, you’ll help map and identify trees on campus as part of our ongoing tree inventory project. Then you’ll harvest fresh produce from the BC Eats Garden to share with the community. \nNo prior experience is needed.
URL:https://www.brooklyn.edu/event/brooklyn-college-tree-inventory-connecting-data-ecology-and-community/
LOCATION:East Quad
CATEGORIES:Brooklyn College Garden,Environmental Health and Safety,Urban Sustainability
GEO:40.63133352;-73.95161278
END:VEVENT
END:VCALENDAR