BEGIN:VCALENDAR
VERSION:2.0
PRODID:-//Brooklyn College - ECPv6.15.12.2//NONSGML v1.0//EN
CALSCALE:GREGORIAN
METHOD:PUBLISH
X-WR-CALNAME:Brooklyn College
X-ORIGINAL-URL:https://www.brooklyn.edu
X-WR-CALDESC:Events for Brooklyn College
REFRESH-INTERVAL;VALUE=DURATION:PT1H
X-Robots-Tag:noindex
X-PUBLISHED-TTL:PT1H
BEGIN:VTIMEZONE
TZID:America/New_York
BEGIN:DAYLIGHT
TZOFFSETFROM:-0500
TZOFFSETTO:-0400
TZNAME:EDT
DTSTART:20250309T070000
END:DAYLIGHT
BEGIN:STANDARD
TZOFFSETFROM:-0400
TZOFFSETTO:-0500
TZNAME:EST
DTSTART:20251102T060000
END:STANDARD
BEGIN:DAYLIGHT
TZOFFSETFROM:-0500
TZOFFSETTO:-0400
TZNAME:EDT
DTSTART:20260308T070000
END:DAYLIGHT
BEGIN:STANDARD
TZOFFSETFROM:-0400
TZOFFSETTO:-0500
TZNAME:EST
DTSTART:20261101T060000
END:STANDARD
BEGIN:DAYLIGHT
TZOFFSETFROM:-0500
TZOFFSETTO:-0400
TZNAME:EDT
DTSTART:20270314T070000
END:DAYLIGHT
BEGIN:STANDARD
TZOFFSETFROM:-0400
TZOFFSETTO:-0500
TZNAME:EST
DTSTART:20271107T060000
END:STANDARD
END:VTIMEZONE
BEGIN:VEVENT
DTSTART;TZID=America/New_York:20260414T100000
DTEND;TZID=America/New_York:20260414T180000
DTSTAMP:20260421T155719
CREATED:20260129T201115Z
LAST-MODIFIED:20260129T202543Z
UID:10014149-1776160800-1776189600@www.brooklyn.edu
SUMMARY:Free Tax Preparation Services
DESCRIPTION:Through the Volunteer Income Tax Assistance (VITA) program\, free in-person tax preparation services will be available every Tuesday through April 14. More information is available here.
URL:https://www.brooklyn.edu/event/free-tax-preparation-services/2026-04-14/
LOCATION:Library\, Room 384\, MAC Multimedia Classroom
CATEGORIES:Accounting,Volunteer Income Tax Assistance Center
GEO:40.63109;-73.94981
X-APPLE-STRUCTURED-LOCATION;VALUE=URI;X-ADDRESS=Library Room 384 MAC Multimedia Classroom;X-APPLE-RADIUS=500;X-TITLE=MAC Multimedia Classroom:geo:-73.94981,40.63109
END:VEVENT
BEGIN:VEVENT
DTSTART;TZID=America/New_York:20260407T100000
DTEND;TZID=America/New_York:20260407T180000
DTSTAMP:20260421T155719
CREATED:20260129T201115Z
LAST-MODIFIED:20260129T202543Z
UID:10014148-1775556000-1775584800@www.brooklyn.edu
SUMMARY:Free Tax Preparation Services
DESCRIPTION:Through the Volunteer Income Tax Assistance (VITA) program\, free in-person tax preparation services will be available every Tuesday through April 14. More information is available here.
URL:https://www.brooklyn.edu/event/free-tax-preparation-services/2026-04-07/
LOCATION:Library\, Room 384\, MAC Multimedia Classroom
CATEGORIES:Accounting,Volunteer Income Tax Assistance Center
GEO:40.63109;-73.94981
X-APPLE-STRUCTURED-LOCATION;VALUE=URI;X-ADDRESS=Library Room 384 MAC Multimedia Classroom;X-APPLE-RADIUS=500;X-TITLE=MAC Multimedia Classroom:geo:-73.94981,40.63109
END:VEVENT
BEGIN:VEVENT
DTSTART;TZID=America/New_York:20260331T100000
DTEND;TZID=America/New_York:20260331T180000
DTSTAMP:20260421T155719
CREATED:20260129T201115Z
LAST-MODIFIED:20260129T202543Z
UID:10014147-1774951200-1774980000@www.brooklyn.edu
SUMMARY:Free Tax Preparation Services
DESCRIPTION:Through the Volunteer Income Tax Assistance (VITA) program\, free in-person tax preparation services will be available every Tuesday through April 14. More information is available here.
URL:https://www.brooklyn.edu/event/free-tax-preparation-services/2026-03-31/
LOCATION:Library\, Room 384\, MAC Multimedia Classroom
CATEGORIES:Accounting,Volunteer Income Tax Assistance Center
GEO:40.63109;-73.94981
X-APPLE-STRUCTURED-LOCATION;VALUE=URI;X-ADDRESS=Library Room 384 MAC Multimedia Classroom;X-APPLE-RADIUS=500;X-TITLE=MAC Multimedia Classroom:geo:-73.94981,40.63109
END:VEVENT
BEGIN:VEVENT
DTSTART;TZID=America/New_York:20260324T100000
DTEND;TZID=America/New_York:20260324T180000
DTSTAMP:20260421T155719
CREATED:20260129T201115Z
LAST-MODIFIED:20260129T202543Z
UID:10014146-1774346400-1774375200@www.brooklyn.edu
SUMMARY:Free Tax Preparation Services
DESCRIPTION:Through the Volunteer Income Tax Assistance (VITA) program\, free in-person tax preparation services will be available every Tuesday through April 14. More information is available here.
URL:https://www.brooklyn.edu/event/free-tax-preparation-services/2026-03-24/
LOCATION:Library\, Room 384\, MAC Multimedia Classroom
CATEGORIES:Accounting,Volunteer Income Tax Assistance Center
GEO:40.63109;-73.94981
X-APPLE-STRUCTURED-LOCATION;VALUE=URI;X-ADDRESS=Library Room 384 MAC Multimedia Classroom;X-APPLE-RADIUS=500;X-TITLE=MAC Multimedia Classroom:geo:-73.94981,40.63109
END:VEVENT
BEGIN:VEVENT
DTSTART;TZID=America/New_York:20260317T100000
DTEND;TZID=America/New_York:20260317T180000
DTSTAMP:20260421T155719
CREATED:20260129T201115Z
LAST-MODIFIED:20260129T202543Z
UID:10014145-1773741600-1773770400@www.brooklyn.edu
SUMMARY:Free Tax Preparation Services
DESCRIPTION:Through the Volunteer Income Tax Assistance (VITA) program\, free in-person tax preparation services will be available every Tuesday through April 14. More information is available here.
URL:https://www.brooklyn.edu/event/free-tax-preparation-services/2026-03-17/
LOCATION:Library\, Room 384\, MAC Multimedia Classroom
CATEGORIES:Accounting,Volunteer Income Tax Assistance Center
GEO:40.63109;-73.94981
X-APPLE-STRUCTURED-LOCATION;VALUE=URI;X-ADDRESS=Library Room 384 MAC Multimedia Classroom;X-APPLE-RADIUS=500;X-TITLE=MAC Multimedia Classroom:geo:-73.94981,40.63109
END:VEVENT
BEGIN:VEVENT
DTSTART;TZID=America/New_York:20260310T100000
DTEND;TZID=America/New_York:20260310T180000
DTSTAMP:20260421T155719
CREATED:20260129T201115Z
LAST-MODIFIED:20260129T202543Z
UID:10014144-1773136800-1773165600@www.brooklyn.edu
SUMMARY:Free Tax Preparation Services
DESCRIPTION:Through the Volunteer Income Tax Assistance (VITA) program\, free in-person tax preparation services will be available every Tuesday through April 14. More information is available here.
URL:https://www.brooklyn.edu/event/free-tax-preparation-services/2026-03-10/
LOCATION:Library\, Room 384\, MAC Multimedia Classroom
CATEGORIES:Accounting,Volunteer Income Tax Assistance Center
GEO:40.63109;-73.94981
X-APPLE-STRUCTURED-LOCATION;VALUE=URI;X-ADDRESS=Library Room 384 MAC Multimedia Classroom;X-APPLE-RADIUS=500;X-TITLE=MAC Multimedia Classroom:geo:-73.94981,40.63109
END:VEVENT
BEGIN:VEVENT
DTSTART;TZID=America/New_York:20260303T100000
DTEND;TZID=America/New_York:20260303T180000
DTSTAMP:20260421T155719
CREATED:20260129T201115Z
LAST-MODIFIED:20260129T202543Z
UID:10014143-1772532000-1772560800@www.brooklyn.edu
SUMMARY:Free Tax Preparation Services
DESCRIPTION:Through the Volunteer Income Tax Assistance (VITA) program\, free in-person tax preparation services will be available every Tuesday through April 14. More information is available here.
URL:https://www.brooklyn.edu/event/free-tax-preparation-services/2026-03-03/
LOCATION:Library\, Room 384\, MAC Multimedia Classroom
CATEGORIES:Accounting,Volunteer Income Tax Assistance Center
GEO:40.63109;-73.94981
X-APPLE-STRUCTURED-LOCATION;VALUE=URI;X-ADDRESS=Library Room 384 MAC Multimedia Classroom;X-APPLE-RADIUS=500;X-TITLE=MAC Multimedia Classroom:geo:-73.94981,40.63109
END:VEVENT
BEGIN:VEVENT
DTSTART;TZID=America/New_York:20260224T100000
DTEND;TZID=America/New_York:20260224T180000
DTSTAMP:20260421T155719
CREATED:20260129T201115Z
LAST-MODIFIED:20260129T202543Z
UID:10014142-1771927200-1771956000@www.brooklyn.edu
SUMMARY:Free Tax Preparation Services
DESCRIPTION:Through the Volunteer Income Tax Assistance (VITA) program\, free in-person tax preparation services will be available every Tuesday through April 14. More information is available here.
URL:https://www.brooklyn.edu/event/free-tax-preparation-services/2026-02-24/
LOCATION:Library\, Room 384\, MAC Multimedia Classroom
CATEGORIES:Accounting,Volunteer Income Tax Assistance Center
GEO:40.63109;-73.94981
X-APPLE-STRUCTURED-LOCATION;VALUE=URI;X-ADDRESS=Library Room 384 MAC Multimedia Classroom;X-APPLE-RADIUS=500;X-TITLE=MAC Multimedia Classroom:geo:-73.94981,40.63109
END:VEVENT
BEGIN:VEVENT
DTSTART;TZID=America/New_York:20260217T100000
DTEND;TZID=America/New_York:20260217T180000
DTSTAMP:20260421T155719
CREATED:20260129T201115Z
LAST-MODIFIED:20260129T202543Z
UID:10014141-1771322400-1771351200@www.brooklyn.edu
SUMMARY:Free Tax Preparation Services
DESCRIPTION:Through the Volunteer Income Tax Assistance (VITA) program\, free in-person tax preparation services will be available every Tuesday through April 14. More information is available here.
URL:https://www.brooklyn.edu/event/free-tax-preparation-services/2026-02-17/
LOCATION:Library\, Room 384\, MAC Multimedia Classroom
CATEGORIES:Accounting,Volunteer Income Tax Assistance Center
GEO:40.63109;-73.94981
X-APPLE-STRUCTURED-LOCATION;VALUE=URI;X-ADDRESS=Library Room 384 MAC Multimedia Classroom;X-APPLE-RADIUS=500;X-TITLE=MAC Multimedia Classroom:geo:-73.94981,40.63109
END:VEVENT
BEGIN:VEVENT
DTSTART;TZID=America/New_York:20260210T100000
DTEND;TZID=America/New_York:20260210T180000
DTSTAMP:20260421T155719
CREATED:20260129T201115Z
LAST-MODIFIED:20260129T202543Z
UID:10014140-1770717600-1770746400@www.brooklyn.edu
SUMMARY:Free Tax Preparation Services
DESCRIPTION:Through the Volunteer Income Tax Assistance (VITA) program\, free in-person tax preparation services will be available every Tuesday through April 14. More information is available here.
URL:https://www.brooklyn.edu/event/free-tax-preparation-services/2026-02-10/
LOCATION:Library\, Room 384\, MAC Multimedia Classroom
CATEGORIES:Accounting,Volunteer Income Tax Assistance Center
GEO:40.63109;-73.94981
X-APPLE-STRUCTURED-LOCATION;VALUE=URI;X-ADDRESS=Library Room 384 MAC Multimedia Classroom;X-APPLE-RADIUS=500;X-TITLE=MAC Multimedia Classroom:geo:-73.94981,40.63109
END:VEVENT
BEGIN:VEVENT
DTSTART;TZID=America/New_York:20260203T100000
DTEND;TZID=America/New_York:20260203T180000
DTSTAMP:20260421T155719
CREATED:20260129T201115Z
LAST-MODIFIED:20260129T202543Z
UID:10014139-1770112800-1770141600@www.brooklyn.edu
SUMMARY:Free Tax Preparation Services
DESCRIPTION:Through the Volunteer Income Tax Assistance (VITA) program\, free in-person tax preparation services will be available every Tuesday through April 14. More information is available here.
URL:https://www.brooklyn.edu/event/free-tax-preparation-services/2026-02-03/
LOCATION:Library\, Room 384\, MAC Multimedia Classroom
CATEGORIES:Accounting,Volunteer Income Tax Assistance Center
GEO:40.63109;-73.94981
X-APPLE-STRUCTURED-LOCATION;VALUE=URI;X-ADDRESS=Library Room 384 MAC Multimedia Classroom;X-APPLE-RADIUS=500;X-TITLE=MAC Multimedia Classroom:geo:-73.94981,40.63109
END:VEVENT
END:VCALENDAR