BEGIN:VCALENDAR
VERSION:2.0
PRODID:-//Brooklyn College - ECPv6.15.12.2//NONSGML v1.0//EN
CALSCALE:GREGORIAN
METHOD:PUBLISH
X-WR-CALNAME:Brooklyn College
X-ORIGINAL-URL:https://www.brooklyn.edu
X-WR-CALDESC:Events for Brooklyn College
REFRESH-INTERVAL;VALUE=DURATION:PT1H
X-Robots-Tag:noindex
X-PUBLISHED-TTL:PT1H
BEGIN:VTIMEZONE
TZID:America/New_York
BEGIN:DAYLIGHT
TZOFFSETFROM:-0500
TZOFFSETTO:-0400
TZNAME:EDT
DTSTART:20250309T070000
END:DAYLIGHT
BEGIN:STANDARD
TZOFFSETFROM:-0400
TZOFFSETTO:-0500
TZNAME:EST
DTSTART:20251102T060000
END:STANDARD
BEGIN:DAYLIGHT
TZOFFSETFROM:-0500
TZOFFSETTO:-0400
TZNAME:EDT
DTSTART:20260308T070000
END:DAYLIGHT
BEGIN:STANDARD
TZOFFSETFROM:-0400
TZOFFSETTO:-0500
TZNAME:EST
DTSTART:20261101T060000
END:STANDARD
BEGIN:DAYLIGHT
TZOFFSETFROM:-0500
TZOFFSETTO:-0400
TZNAME:EDT
DTSTART:20270314T070000
END:DAYLIGHT
BEGIN:STANDARD
TZOFFSETFROM:-0400
TZOFFSETTO:-0500
TZNAME:EST
DTSTART:20271107T060000
END:STANDARD
END:VTIMEZONE
BEGIN:VEVENT
DTSTART;TZID=America/New_York:20260422T180000
DTEND;TZID=America/New_York:20260422T190000
DTSTAMP:20260419T102150
CREATED:20260108T193557Z
LAST-MODIFIED:20260108T193557Z
UID:10014092-1776880800-1776884400@www.brooklyn.edu
SUMMARY:Incoming Graduate Student Information Session
DESCRIPTION:This session is only for admitted graduate students. \nMeet with a Graduate Admissions Counselor virtually to discuss the acceptance process and to answer any questions you may have. \nRegister Now \n 
URL:https://www.brooklyn.edu/event/incoming-graduate-student-information-session-3/
LOCATION:Online
CATEGORIES:Admissions,Admissions, Graduate,Admissions, International
ORGANIZER;CN="Admissions%2C Graduate":MAILTO:grads@brooklyn.cuny.edu
END:VEVENT
BEGIN:VEVENT
DTSTART;TZID=America/New_York:20260520T180000
DTEND;TZID=America/New_York:20260520T190000
DTSTAMP:20260419T102150
CREATED:20260108T193625Z
LAST-MODIFIED:20260108T193915Z
UID:10014093-1779300000-1779303600@www.brooklyn.edu
SUMMARY:Incoming Graduate Student Information Session
DESCRIPTION:This session is only for admitted graduate students. \nMeet with a Graduate Admissions Counselor virtually to discuss the acceptance process and to answer any questions you may have. \nRegister Now \n 
URL:https://www.brooklyn.edu/event/incoming-graduate-student-information-session-4/
LOCATION:Online
CATEGORIES:Admissions,Admissions, Graduate,Admissions, International
ORGANIZER;CN="Admissions%2C Graduate":MAILTO:grads@brooklyn.cuny.edu
END:VEVENT
BEGIN:VEVENT
DTSTART;TZID=America/New_York:20260617T180000
DTEND;TZID=America/New_York:20260617T190000
DTSTAMP:20260419T102150
CREATED:20260108T193655Z
LAST-MODIFIED:20260108T193655Z
UID:10014094-1781719200-1781722800@www.brooklyn.edu
SUMMARY:Incoming Graduate Student Information Session
DESCRIPTION:This session is only for admitted graduate students. \nMeet with a Graduate Admissions Counselor virtually to discuss the acceptance process and to answer any questions you may have. \nRegister Now \n 
URL:https://www.brooklyn.edu/event/incoming-graduate-student-information-session-5/
LOCATION:Online
CATEGORIES:Admissions,Admissions, Graduate,Admissions, International
ORGANIZER;CN="Admissions%2C Graduate":MAILTO:grads@brooklyn.cuny.edu
END:VEVENT
BEGIN:VEVENT
DTSTART;TZID=America/New_York:20260715T180000
DTEND;TZID=America/New_York:20260715T190000
DTSTAMP:20260419T102150
CREATED:20260108T193723Z
LAST-MODIFIED:20260108T193723Z
UID:10014095-1784138400-1784142000@www.brooklyn.edu
SUMMARY:Incoming Graduate Student Information Session
DESCRIPTION:This session is only for admitted graduate students. \nMeet with a Graduate Admissions Counselor virtually to discuss the acceptance process and to answer any questions you may have. \nRegister Now \n 
URL:https://www.brooklyn.edu/event/incoming-graduate-student-information-session-6/
LOCATION:Online
CATEGORIES:Admissions,Admissions, Graduate,Admissions, International
ORGANIZER;CN="Admissions%2C Graduate":MAILTO:grads@brooklyn.cuny.edu
END:VEVENT
BEGIN:VEVENT
DTSTART;TZID=America/New_York:20260819T180000
DTEND;TZID=America/New_York:20260819T190000
DTSTAMP:20260419T102150
CREATED:20260108T193745Z
LAST-MODIFIED:20260108T193745Z
UID:10014096-1787162400-1787166000@www.brooklyn.edu
SUMMARY:Incoming Graduate Student Information Session
DESCRIPTION:This session is only for admitted graduate students. \nMeet with a Graduate Admissions Counselor virtually to discuss the acceptance process and to answer any questions you may have. \nRegister Now \n 
URL:https://www.brooklyn.edu/event/incoming-graduate-student-information-session-7/
LOCATION:Online
CATEGORIES:Admissions,Admissions, Graduate,Admissions, International
ORGANIZER;CN="Admissions%2C Graduate":MAILTO:grads@brooklyn.cuny.edu
END:VEVENT
END:VCALENDAR