BEGIN:VCALENDAR
VERSION:2.0
PRODID:-//Brooklyn College - ECPv6.15.12.2//NONSGML v1.0//EN
CALSCALE:GREGORIAN
METHOD:PUBLISH
X-WR-CALNAME:Brooklyn College
X-ORIGINAL-URL:https://www.brooklyn.edu
X-WR-CALDESC:Events for Brooklyn College
REFRESH-INTERVAL;VALUE=DURATION:PT1H
X-Robots-Tag:noindex
X-PUBLISHED-TTL:PT1H
BEGIN:VTIMEZONE
TZID:America/New_York
BEGIN:DAYLIGHT
TZOFFSETFROM:-0500
TZOFFSETTO:-0400
TZNAME:EDT
DTSTART:20250309T070000
END:DAYLIGHT
BEGIN:STANDARD
TZOFFSETFROM:-0400
TZOFFSETTO:-0500
TZNAME:EST
DTSTART:20251102T060000
END:STANDARD
BEGIN:DAYLIGHT
TZOFFSETFROM:-0500
TZOFFSETTO:-0400
TZNAME:EDT
DTSTART:20260308T070000
END:DAYLIGHT
BEGIN:STANDARD
TZOFFSETFROM:-0400
TZOFFSETTO:-0500
TZNAME:EST
DTSTART:20261101T060000
END:STANDARD
BEGIN:DAYLIGHT
TZOFFSETFROM:-0500
TZOFFSETTO:-0400
TZNAME:EDT
DTSTART:20270314T070000
END:DAYLIGHT
BEGIN:STANDARD
TZOFFSETFROM:-0400
TZOFFSETTO:-0500
TZNAME:EST
DTSTART:20271107T060000
END:STANDARD
END:VTIMEZONE
BEGIN:VEVENT
DTSTART;TZID=America/New_York:20260527T110000
DTEND;TZID=America/New_York:20260527T140000
DTSTAMP:20260421T152515
CREATED:20260219T170934Z
LAST-MODIFIED:20260219T172355Z
UID:10014236-1779879600-1779890400@www.brooklyn.edu
SUMMARY:Class of 1976—Day 1: 50th Reunion Luncheon
DESCRIPTION:Brooklyn College warmly invites the Class of 1976 to an unforgettable two-day celebration of 50 years of memories and friendships. \nDay 1 features a full day of on-campus activities designed for reconnecting\, reminiscing\, and celebrating the bonds that have lasted five decades.
URL:https://www.brooklyn.edu/event/class-of-1976-day-1-50th-reunion-luncheon/
LOCATION:Student Center\, Room 618\, Gold Room
CATEGORIES:Alumni,Alumni Engagement
ORGANIZER;CN="Alumni Engagement":MAILTO:alumni@brooklyn.cuny.edu
GEO:40.63265;-73.95045
END:VEVENT
BEGIN:VEVENT
DTSTART;TZID=America/New_York:20260528T080000
DTEND;TZID=America/New_York:20260528T130000
DTSTAMP:20260421T152515
CREATED:20260219T171613Z
LAST-MODIFIED:20260219T172218Z
UID:10014237-1779955200-1779973200@www.brooklyn.edu
SUMMARY:Class of 1976—Day 2: Commencement
DESCRIPTION:Brooklyn College warmly invites the Class of 1976 to an unforgettable two-day celebration of 50 years of memories and friendships. \nOn Day 2\, join your fellow classmates at Barclays Center to celebrate Commencement alongside the graduates of the Class of 2026! Mark 50 years since your own graduation\, dressed in a stunning gold cap and gown\, and enjoy front-row seats as you relive the excitement and magic of your special day—an unforgettable celebration you won’t want to miss.
URL:https://www.brooklyn.edu/event/class-of-1976-day-2-commencement/
LOCATION:Barclays Center\, 620 Atlantic Ave\, Brooklyn\, NY\, 11217
CATEGORIES:Alumni,Alumni Engagement
ORGANIZER;CN="Alumni Engagement":MAILTO:alumni@brooklyn.cuny.edu
GEO:40.6826465;-73.9754156
X-APPLE-STRUCTURED-LOCATION;VALUE=URI;X-ADDRESS=Barclays Center 620 Atlantic Ave Brooklyn NY 11217;X-APPLE-RADIUS=500;X-TITLE=620 Atlantic Ave:geo:-73.9754156,40.6826465
END:VEVENT
END:VCALENDAR