BEGIN:VCALENDAR
VERSION:2.0
PRODID:-//Brooklyn College - ECPv6.15.12.2//NONSGML v1.0//EN
CALSCALE:GREGORIAN
METHOD:PUBLISH
X-ORIGINAL-URL:https://www.brooklyn.edu
X-WR-CALDESC:Events for Brooklyn College
REFRESH-INTERVAL;VALUE=DURATION:PT1H
X-Robots-Tag:noindex
X-PUBLISHED-TTL:PT1H
BEGIN:VTIMEZONE
TZID:America/New_York
BEGIN:DAYLIGHT
TZOFFSETFROM:-0500
TZOFFSETTO:-0400
TZNAME:EDT
DTSTART:20250309T070000
END:DAYLIGHT
BEGIN:STANDARD
TZOFFSETFROM:-0400
TZOFFSETTO:-0500
TZNAME:EST
DTSTART:20251102T060000
END:STANDARD
BEGIN:DAYLIGHT
TZOFFSETFROM:-0500
TZOFFSETTO:-0400
TZNAME:EDT
DTSTART:20260308T070000
END:DAYLIGHT
BEGIN:STANDARD
TZOFFSETFROM:-0400
TZOFFSETTO:-0500
TZNAME:EST
DTSTART:20261101T060000
END:STANDARD
BEGIN:DAYLIGHT
TZOFFSETFROM:-0500
TZOFFSETTO:-0400
TZNAME:EDT
DTSTART:20270314T070000
END:DAYLIGHT
BEGIN:STANDARD
TZOFFSETFROM:-0400
TZOFFSETTO:-0500
TZNAME:EST
DTSTART:20271107T060000
END:STANDARD
END:VTIMEZONE
BEGIN:VEVENT
DTSTART;TZID=America/New_York:20260501T120000
DTEND;TZID=America/New_York:20260501T140000
DTSTAMP:20260422T122649
CREATED:20260409T141053Z
LAST-MODIFIED:20260409T141053Z
UID:10014338-1777636800-1777644000@www.brooklyn.edu
SUMMARY:Donning of the Kente Graduation Ceremony
DESCRIPTION:The Donning of the Kente ceremony is an annual graduation celebration that honors the achievements of Black graduates and recognizes their academic journeys. This meaningful tradition brings together students\, staff\, faculty\, alumni\, and families to celebrate community\, culture\, and accomplishment. Rooted in heritage and pride\, the ceremony symbolizes both reflection on the past and a transition into the next chapter. \nHosted by the Black Faculty and Staff at Brooklyn College and co-sponsored by the BLMI and the BC Black Student Union\, the ceremony will feature special remarks\, the ceremonial donning of Kente stoles\, and moments of recognition that highlight the resilience and success of graduating students. \nMore than a celebration\, the Donning of the Kente fosters a strong sense of unity and belonging\, reflecting Brooklyn College’s ongoing commitment to supporting and uplifting Black students. Attendees can expect an inspiring and culturally affirming experience that honors both individual achievement and collective progress.
URL:https://www.brooklyn.edu/event/donning-of-the-kente-graduation-ceremony/
LOCATION:Leonard & Claire Tow Center for the Performing Arts
GEO:40.63184;-73.94892
END:VEVENT
END:VCALENDAR