BEGIN:VCALENDAR
VERSION:2.0
PRODID:-//Brooklyn College - ECPv6.15.12.2//NONSGML v1.0//EN
CALSCALE:GREGORIAN
METHOD:PUBLISH
X-WR-CALNAME:Brooklyn College
X-ORIGINAL-URL:https://www.brooklyn.edu
X-WR-CALDESC:Events for Brooklyn College
REFRESH-INTERVAL;VALUE=DURATION:PT1H
X-Robots-Tag:noindex
X-PUBLISHED-TTL:PT1H
BEGIN:VTIMEZONE
TZID:America/New_York
BEGIN:DAYLIGHT
TZOFFSETFROM:-0500
TZOFFSETTO:-0400
TZNAME:EDT
DTSTART:20250309T070000
END:DAYLIGHT
BEGIN:STANDARD
TZOFFSETFROM:-0400
TZOFFSETTO:-0500
TZNAME:EST
DTSTART:20251102T060000
END:STANDARD
BEGIN:DAYLIGHT
TZOFFSETFROM:-0500
TZOFFSETTO:-0400
TZNAME:EDT
DTSTART:20260308T070000
END:DAYLIGHT
BEGIN:STANDARD
TZOFFSETFROM:-0400
TZOFFSETTO:-0500
TZNAME:EST
DTSTART:20261101T060000
END:STANDARD
BEGIN:DAYLIGHT
TZOFFSETFROM:-0500
TZOFFSETTO:-0400
TZNAME:EDT
DTSTART:20270314T070000
END:DAYLIGHT
BEGIN:STANDARD
TZOFFSETFROM:-0400
TZOFFSETTO:-0500
TZNAME:EST
DTSTART:20271107T060000
END:STANDARD
END:VTIMEZONE
BEGIN:VEVENT
DTSTART;TZID=America/New_York:20260425T130000
DTEND;TZID=America/New_York:20260425T140000
DTSTAMP:20260419T120022
CREATED:20260324T162436Z
LAST-MODIFIED:20260324T162436Z
UID:10014310-1777122000-1777125600@www.brooklyn.edu
SUMMARY:Advanced Diploma Recital: Nadine Lee\, soprano
DESCRIPTION:Soprano presents recital with works by TBA
URL:https://www.brooklyn.edu/event/advanced-diploma-recital-nadine-lee-soprano/
LOCATION:Leonard & Claire Tow Center for the Performing Arts\, Topfer Rehearsal Studio
CATEGORIES:Academics,Alumni,Conservatory of Music,Leonard & Claire Tow Center for the Performing Arts,School of Visual, Media and Performing Arts
ORGANIZER;CN="Conservatory of Music":MAILTO:bstrasberg@brooklyn.cuny.edu
GEO:40.63159;-73.94897
END:VEVENT
BEGIN:VEVENT
DTSTART;TZID=America/New_York:20260428T200000
DTEND;TZID=America/New_York:20260428T213000
DTSTAMP:20260419T120022
CREATED:20240924T141243Z
LAST-MODIFIED:20250922T152353Z
UID:10010234-1777406400-1777411800@www.brooklyn.edu
SUMMARY:Conservatory Guitar Ensemble
DESCRIPTION:8-9:30 p.m. performance\nTopfer Rehearsal Studio\nFree to all \nMusic by Mendelssohn\, J.S. Bach\, Brouwer\, and others. \nLars Frandsen\, Director.
URL:https://www.brooklyn.edu/event/conservatory-guitar-ensemble-5/
LOCATION:Leonard & Claire Tow Center for the Performing Arts\, Topfer Rehearsal Studio
CATEGORIES:Academics,Alumni,Conservatory of Music,Leonard & Claire Tow Center for the Performing Arts,School of Visual, Media and Performing Arts
ATTACH;FMTTYPE=image/jpeg:https://www.brooklyn.edu/wp-content/uploads/DQklsw00-scaled.jpeg
ORGANIZER;CN="Conservatory of Music":MAILTO:bstrasberg@brooklyn.cuny.edu
GEO:40.63159;-73.94897
END:VEVENT
BEGIN:VEVENT
DTSTART;TZID=America/New_York:20260507T130000
DTEND;TZID=America/New_York:20260507T140000
DTSTAMP:20260419T120022
CREATED:20250923T161239Z
LAST-MODIFIED:20250923T161521Z
UID:10013126-1778158800-1778162400@www.brooklyn.edu
SUMMARY:Afternoon Chamber Music II
DESCRIPTION:Conservatory of Music students present chamber works. Marianne Gythfeldt\, Coordinator. \nTopfer Rehearsal Studio \nFree to all
URL:https://www.brooklyn.edu/event/afternoon-chamber-music-ii-4-2/2026-05-07/
LOCATION:Leonard & Claire Tow Center for the Performing Arts\, Topfer Rehearsal Studio
CATEGORIES:Academics,Alumni,Conservatory of Music,Leonard & Claire Tow Center for the Performing Arts,School of Visual, Media and Performing Arts
ATTACH;FMTTYPE=image/jpeg:https://www.brooklyn.edu/wp-content/uploads/TOW-Event-Chamber-Music-231019-4.jpg
ORGANIZER;CN="Conservatory of Music":MAILTO:bstrasberg@brooklyn.cuny.edu
GEO:40.63159;-73.94897
END:VEVENT
BEGIN:VEVENT
DTSTART;TZID=America/New_York:20260508T190000
DTEND;TZID=America/New_York:20260508T203000
DTSTAMP:20260419T120022
CREATED:20240930T155549Z
LAST-MODIFIED:20251126T161611Z
UID:10010346-1778266800-1778272200@www.brooklyn.edu
SUMMARY:Sonic Arts M.F.A. Concert
DESCRIPTION:New experimental and electronic works from students in the Sonic Arts M.F.A. program.\nDouglas Geers\, Director. \n 
URL:https://www.brooklyn.edu/event/sonic-arts-thesis-concert-2026/
LOCATION:Leonard & Claire Tow Center for the Performing Arts\, Topfer Rehearsal Studio
CATEGORIES:Academics,Alumni,Barry R. Feirstein Graduate School of Cinema,Conservatory of Music,Leonard & Claire Tow Center for the Performing Arts,School of Visual, Media and Performing Arts
ATTACH;FMTTYPE=image/jpeg:https://www.brooklyn.edu/wp-content/uploads/TOW-Event-Sonic-Arts-231208-4.jpg
ORGANIZER;CN="Conservatory of Music":MAILTO:bstrasberg@brooklyn.cuny.edu
GEO:40.63159;-73.94897
END:VEVENT
BEGIN:VEVENT
DTSTART;TZID=America/New_York:20260513T130000
DTEND;TZID=America/New_York:20260513T140000
DTSTAMP:20260419T120022
CREATED:20260210T205652Z
LAST-MODIFIED:20260210T205758Z
UID:10013128-1778677200-1778680800@www.brooklyn.edu
SUMMARY:Brooklyn College Percussion Ensemble
DESCRIPTION:1-2 p.m. performance\nTopfer Rehearsal Studio\nFree to all \nThe Percussion Ensemble performs dynamic international works from the 20th- and 21st-century canon along with jazz-influenced pieces.
URL:https://www.brooklyn.edu/event/brooklyn-college-percussion-ensemble-2026-05-13/
LOCATION:Leonard & Claire Tow Center for the Performing Arts\, Topfer Rehearsal Studio
CATEGORIES:Academics,Alumni,Conservatory of Music,Leonard & Claire Tow Center for the Performing Arts,School of Visual, Media and Performing Arts
ATTACH;FMTTYPE=image/jpeg:https://www.brooklyn.edu/wp-content/uploads/TOW-Event-Percussion-Ensemble-231201-4.jpg
ORGANIZER;CN="Conservatory of Music":MAILTO:bstrasberg@brooklyn.cuny.edu
GEO:40.63159;-73.94897
END:VEVENT
BEGIN:VEVENT
DTSTART;TZID=America/New_York:20260521T190000
DTEND;TZID=America/New_York:20260521T203000
DTSTAMP:20260419T120022
CREATED:20250108T200937Z
LAST-MODIFIED:20251028T200105Z
UID:10013140-1779390000-1779395400@www.brooklyn.edu
SUMMARY:Computer Music Showcase
DESCRIPTION:7-8:30 p.m. performance\nTopfer Rehearsal Studio\nFree to all \nStudents of Electroacoustic Music present new original acousmatic and interactive electronic works.\nSol Leon\, Director
URL:https://www.brooklyn.edu/event/computer-music-showcase-2025-26/2026-05-21/
LOCATION:Leonard & Claire Tow Center for the Performing Arts\, Topfer Rehearsal Studio
CATEGORIES:Academics,Alumni,Conservatory of Music,Leonard & Claire Tow Center for the Performing Arts,School of Visual, Media and Performing Arts
ATTACH;FMTTYPE=image/jpeg:https://www.brooklyn.edu/wp-content/uploads/TOW-Event-Computer-Music-Showcase-231214-4.jpg
ORGANIZER;CN="Conservatory of Music":MAILTO:bstrasberg@brooklyn.cuny.edu
GEO:40.63159;-73.94897
END:VEVENT
END:VCALENDAR