BEGIN:VCALENDAR
VERSION:2.0
PRODID:-//Brooklyn College - ECPv6.15.12.2//NONSGML v1.0//EN
CALSCALE:GREGORIAN
METHOD:PUBLISH
X-ORIGINAL-URL:https://www.brooklyn.edu
X-WR-CALDESC:Events for Brooklyn College
REFRESH-INTERVAL;VALUE=DURATION:PT1H
X-Robots-Tag:noindex
X-PUBLISHED-TTL:PT1H
BEGIN:VTIMEZONE
TZID:America/New_York
BEGIN:DAYLIGHT
TZOFFSETFROM:-0500
TZOFFSETTO:-0400
TZNAME:EDT
DTSTART:20240310T070000
END:DAYLIGHT
BEGIN:STANDARD
TZOFFSETFROM:-0400
TZOFFSETTO:-0500
TZNAME:EST
DTSTART:20241103T060000
END:STANDARD
BEGIN:DAYLIGHT
TZOFFSETFROM:-0500
TZOFFSETTO:-0400
TZNAME:EDT
DTSTART:20250309T070000
END:DAYLIGHT
BEGIN:STANDARD
TZOFFSETFROM:-0400
TZOFFSETTO:-0500
TZNAME:EST
DTSTART:20251102T060000
END:STANDARD
BEGIN:DAYLIGHT
TZOFFSETFROM:-0500
TZOFFSETTO:-0400
TZNAME:EDT
DTSTART:20260308T070000
END:DAYLIGHT
BEGIN:STANDARD
TZOFFSETFROM:-0400
TZOFFSETTO:-0500
TZNAME:EST
DTSTART:20261101T060000
END:STANDARD
END:VTIMEZONE
BEGIN:VEVENT
DTSTART;TZID=America/New_York:20250508T180000
DTEND;TZID=America/New_York:20250508T210000
DTSTAMP:20260421T204341
CREATED:20241028T182659Z
LAST-MODIFIED:20241227T171156Z
UID:10012251-1746727200-1746738000@www.brooklyn.edu
SUMMARY:Brooklyn College Student\, Alumni\, and Employer Networking Night
DESCRIPTION:One hundred to 150 Brooklyn College alumni and students will mix and mingle to discuss career interests. We will have about 50 alumni representing a wide range of careers across the five Brooklyn College schools. Students can explore various careers or learn more about a career they are already interested in. Priority is for students who graduated in 2024 or are graduating in 2025. \nThis is a networking event and not a recruiting event. More information will be provided once you RSVP. \nRSVP Today
URL:https://www.brooklyn.edu/event/brooklyn-college-student-and-alumni-networking-night/
LOCATION:Student Center
CATEGORIES:Alumni,Alumni Engagement,Graduate,Undergraduate
ORGANIZER;CN="Alumni Engagement":MAILTO:alumni@brooklyn.cuny.edu
GEO:40.63265;-73.95045
END:VEVENT
BEGIN:VEVENT
DTSTART;TZID=America/New_York:20250427T133000
DTEND;TZID=America/New_York:20250427T143000
DTSTAMP:20260421T204341
CREATED:20240918T192124Z
LAST-MODIFIED:20250403T142729Z
UID:10010192-1745760600-1745764200@www.brooklyn.edu
SUMMARY:LinkedIn and Networking Tips for Alumni and Seniors
DESCRIPTION:A strong network can give you insight into a career field and industry\, and sometimes it can help you get your foot in the door. Get tips on how to build your network using LinkedIn and through other strategies.\nJoin the Zoom meeting
URL:https://www.brooklyn.edu/event/alumni-career-coaching-5/
LOCATION:Online
CATEGORIES:Alumni,Alumni Engagement
ORGANIZER;CN="Alumni Engagement":MAILTO:alumni@brooklyn.cuny.edu
END:VEVENT
BEGIN:VEVENT
DTSTART;TZID=America/New_York:20250424T180000
DTEND;TZID=America/New_York:20250424T220000
DTSTAMP:20260421T204341
CREATED:20250131T160910Z
LAST-MODIFIED:20250320T135601Z
UID:10012631-1745517600-1745532000@www.brooklyn.edu
SUMMARY:Brooklyn College Alumni Association Honors
DESCRIPTION:The annual presentation of awards by the Brooklyn College Alumni Association to the Alumni of the Year and other distinguished alumni. \nRSVP Now
URL:https://www.brooklyn.edu/event/brooklyn-college-alumni-association-honors/
LOCATION:Leonard & Claire Tow Center for the Performing Arts\, Lobby
CATEGORIES:Alumni,Alumni Engagement,BCAA
ORGANIZER;CN="Alumni Engagement":MAILTO:alumni@brooklyn.cuny.edu
GEO:40.63184;-73.94892
END:VEVENT
BEGIN:VEVENT
DTSTART;TZID=America/New_York:20250423T114500
DTEND;TZID=America/New_York:20250423T140000
DTSTAMP:20260421T204341
CREATED:20250317T203237Z
LAST-MODIFIED:20250317T204025Z
UID:10012776-1745408700-1745416800@www.brooklyn.edu
SUMMARY:Palm Beach County Chapter's Second Luncheon of the Season
DESCRIPTION:The Brooklyn College Alumni Association/Palm Beach County Chapter (PBCC) board of directors invites all PBCC members and their guests to our chapter’s second luncheon of the season. Guest speaker Joyce Saltman\, Ed.D.\, professor emeritus at Southern Connecticut State University\, will discuss the topics of humor and laughter. \nThe luncheon will be held at City Market\, 7940 Glades Road\, Boca Raton\, FL. \nRSVP by April 10
URL:https://www.brooklyn.edu/event/palm-beach-county-chapters-second-luncheon-of-the-season/
CATEGORIES:Alumni,Alumni Engagement
ORGANIZER;CN="Alumni Engagement":MAILTO:alumni@brooklyn.cuny.edu
END:VEVENT
END:VCALENDAR