BEGIN:VCALENDAR
VERSION:2.0
PRODID:-//Brooklyn College - ECPv6.15.12.2//NONSGML v1.0//EN
CALSCALE:GREGORIAN
METHOD:PUBLISH
X-ORIGINAL-URL:https://www.brooklyn.edu
X-WR-CALDESC:Events for Brooklyn College
REFRESH-INTERVAL;VALUE=DURATION:PT1H
X-Robots-Tag:noindex
X-PUBLISHED-TTL:PT1H
BEGIN:VTIMEZONE
TZID:America/New_York
BEGIN:DAYLIGHT
TZOFFSETFROM:-0500
TZOFFSETTO:-0400
TZNAME:EDT
DTSTART:20240310T070000
END:DAYLIGHT
BEGIN:STANDARD
TZOFFSETFROM:-0400
TZOFFSETTO:-0500
TZNAME:EST
DTSTART:20241103T060000
END:STANDARD
BEGIN:DAYLIGHT
TZOFFSETFROM:-0500
TZOFFSETTO:-0400
TZNAME:EDT
DTSTART:20250309T070000
END:DAYLIGHT
BEGIN:STANDARD
TZOFFSETFROM:-0400
TZOFFSETTO:-0500
TZNAME:EST
DTSTART:20251102T060000
END:STANDARD
BEGIN:DAYLIGHT
TZOFFSETFROM:-0500
TZOFFSETTO:-0400
TZNAME:EDT
DTSTART:20260308T070000
END:DAYLIGHT
BEGIN:STANDARD
TZOFFSETFROM:-0400
TZOFFSETTO:-0500
TZNAME:EST
DTSTART:20261101T060000
END:STANDARD
END:VTIMEZONE
BEGIN:VEVENT
DTSTART;TZID=America/New_York:20250925T123000
DTEND;TZID=America/New_York:20250925T133000
DTSTAMP:20260422T122848
CREATED:20250917T201648Z
LAST-MODIFIED:20250917T201648Z
UID:10013103-1758803400-1758807000@www.brooklyn.edu
SUMMARY:Schreibman Lecture in Integrative Biology
DESCRIPTION:At the Department of Biology’s annual Schreibman Lecture in Integrative Biology\, Jim Kaufman (Enders Professor of Immunobiology\, Yale University) will present “Generalists and Specialists: A Concept From Ecology That Describes MHC Alleles and Other Diversified Immune Molecules.” \nProfessor Kaufman and his group combine research on genetics and genomics\, biochemistry and cell biology\, cellular immunology and infection studies to understand the structure\, function\, and evolution of the adaptive immune system. \nThe Schreibman Lecture honors the contributions of Distinguished Professor Emeritus Martin Schreibman ’56 to teaching\, research\, and service over a career spanning more than 50 years at Brooklyn College. \nThe lecture will be followed by a small reception.
URL:https://www.brooklyn.edu/event/schreibman-lecture-in-integrative-biology/
LOCATION:Library\, Room 150\, Woody Tanger Auditorium
CATEGORIES:Biology
GEO:40.63109;-73.94981
END:VEVENT
END:VCALENDAR