BEGIN:VCALENDAR
VERSION:2.0
PRODID:-//Brooklyn College - ECPv6.15.12.2//NONSGML v1.0//EN
CALSCALE:GREGORIAN
METHOD:PUBLISH
X-ORIGINAL-URL:https://www.brooklyn.edu
X-WR-CALDESC:Events for Brooklyn College
REFRESH-INTERVAL;VALUE=DURATION:PT1H
X-Robots-Tag:noindex
X-PUBLISHED-TTL:PT1H
BEGIN:VTIMEZONE
TZID:America/New_York
BEGIN:DAYLIGHT
TZOFFSETFROM:-0500
TZOFFSETTO:-0400
TZNAME:EDT
DTSTART:20250309T070000
END:DAYLIGHT
BEGIN:STANDARD
TZOFFSETFROM:-0400
TZOFFSETTO:-0500
TZNAME:EST
DTSTART:20251102T060000
END:STANDARD
BEGIN:DAYLIGHT
TZOFFSETFROM:-0500
TZOFFSETTO:-0400
TZNAME:EDT
DTSTART:20260308T070000
END:DAYLIGHT
BEGIN:STANDARD
TZOFFSETFROM:-0400
TZOFFSETTO:-0500
TZNAME:EST
DTSTART:20261101T060000
END:STANDARD
BEGIN:DAYLIGHT
TZOFFSETFROM:-0500
TZOFFSETTO:-0400
TZNAME:EDT
DTSTART:20270314T070000
END:DAYLIGHT
BEGIN:STANDARD
TZOFFSETFROM:-0400
TZOFFSETTO:-0500
TZNAME:EST
DTSTART:20271107T060000
END:STANDARD
END:VTIMEZONE
BEGIN:VEVENT
DTSTART;TZID=America/New_York:20260430T103000
DTEND;TZID=America/New_York:20260430T140000
DTSTAMP:20260419T190226
CREATED:20260414T181832Z
LAST-MODIFIED:20260414T181832Z
UID:10014347-1777545000-1777557600@www.brooklyn.edu
SUMMARY:People\, Performance\, Growth\, and VC in the AI Era
DESCRIPTION:Join us for an inspiring and practical luncheon in the CUNY x NYU AI Literacy and Professional Readiness Series\, led by Associate Professor Ngoc Cindy Pham. \nThis event will explore how artificial intelligence is transforming talent management\, organizational performance\, professional growth\, and venture capital strategies. Attendees will gain actionable insights on leveraging AI to enhance people strategies\, drive performance\, and navigate growth opportunities in today’s rapidly evolving AI landscape. \nKeynote Speaker Pete Kim\, Wharton M.B.A.\, founder of Dolabra Digital\, and Harvard Publication contributor\, will share his expertise on the intersection of AI\, business growth\, and venture capital. A panel discussion will feature Harshit Malik\, president of the Graduate Student Council at Brooklyn College\, and Siddhant Gautam\, president of TechSHRM. \nWhether you’re a student\, professional\, entrepreneur\, or leader interested in AI’s impact on people and business\, this event offers valuable perspectives\, networking opportunities\, and forward-thinking strategies to help you thrive in the AI era. \nThe session will be held in person at NYU Tandon (370 Jay Street\, Room 233\, Brooklyn) and will also be available via Zoom for remote participants.
URL:https://www.brooklyn.edu/event/people-performance-growth-and-vc-in-the-ai-era/
LOCATION:Off Campus\, 370 Jay Street\, Brooklyn\, NY
CATEGORIES:Business Management,Murray Koppelman School of Business
END:VEVENT
END:VCALENDAR