BEGIN:VCALENDAR
VERSION:2.0
PRODID:-//Brooklyn College - ECPv6.15.12.2//NONSGML v1.0//EN
CALSCALE:GREGORIAN
METHOD:PUBLISH
X-ORIGINAL-URL:https://www.brooklyn.edu
X-WR-CALDESC:Events for Brooklyn College
REFRESH-INTERVAL;VALUE=DURATION:PT1H
X-Robots-Tag:noindex
X-PUBLISHED-TTL:PT1H
BEGIN:VTIMEZONE
TZID:America/New_York
BEGIN:DAYLIGHT
TZOFFSETFROM:-0500
TZOFFSETTO:-0400
TZNAME:EDT
DTSTART:20250309T070000
END:DAYLIGHT
BEGIN:STANDARD
TZOFFSETFROM:-0400
TZOFFSETTO:-0500
TZNAME:EST
DTSTART:20251102T060000
END:STANDARD
BEGIN:DAYLIGHT
TZOFFSETFROM:-0500
TZOFFSETTO:-0400
TZNAME:EDT
DTSTART:20260308T070000
END:DAYLIGHT
BEGIN:STANDARD
TZOFFSETFROM:-0400
TZOFFSETTO:-0500
TZNAME:EST
DTSTART:20261101T060000
END:STANDARD
BEGIN:DAYLIGHT
TZOFFSETFROM:-0500
TZOFFSETTO:-0400
TZNAME:EDT
DTSTART:20270314T070000
END:DAYLIGHT
BEGIN:STANDARD
TZOFFSETFROM:-0400
TZOFFSETTO:-0500
TZNAME:EST
DTSTART:20271107T060000
END:STANDARD
END:VTIMEZONE
BEGIN:VEVENT
DTSTART;TZID=America/New_York:20260602T093000
DTEND;TZID=America/New_York:20260602T160000
DTSTAMP:20260421T092831
CREATED:20260417T170843Z
LAST-MODIFIED:20260417T170843Z
UID:10014355-1780392600-1780416000@www.brooklyn.edu
SUMMARY:Leveraging AI to Accelerate Your Career Conference
DESCRIPTION:Want to stand out to employers in an AI‑driven job market? During this exclusive conference\, you will: \n\nBoost your AI literacy and gain practice in such AI skills as advanced prompting\, building agents\, vibe coding\, and more.\nApply AI to your career development and job/internship search.\nGain insights from AI experts on staying competitive in the new workforce.\nEnjoy a catered lunch and snacks\, plus giveaways and raffles for prizes.\n\nThis conference will be offered only once\, and we have only 100 slots available. We are inviting more than 14\,000 students and alumni—slots will fill fast\, so register today!
URL:https://www.brooklyn.edu/event/leveraging-ai-to-accelerate-your-career-conference/
LOCATION:Student Center\, Room 618\, Gold Room
CATEGORIES:Alumni,Graduate,Magner Career Center,Undergraduate
ORGANIZER;CN="Magner Career Center":MAILTO:careernews@brooklyn.cuny.edu
GEO:40.63265;-73.95045
END:VEVENT
END:VCALENDAR