BEGIN:VCALENDAR
VERSION:2.0
PRODID:-//Brooklyn College - ECPv6.15.12.2//NONSGML v1.0//EN
CALSCALE:GREGORIAN
METHOD:PUBLISH
X-ORIGINAL-URL:https://www.brooklyn.edu
X-WR-CALDESC:Events for Brooklyn College
REFRESH-INTERVAL;VALUE=DURATION:PT1H
X-Robots-Tag:noindex
X-PUBLISHED-TTL:PT1H
BEGIN:VTIMEZONE
TZID:America/New_York
BEGIN:DAYLIGHT
TZOFFSETFROM:-0500
TZOFFSETTO:-0400
TZNAME:EDT
DTSTART:20240310T070000
END:DAYLIGHT
BEGIN:STANDARD
TZOFFSETFROM:-0400
TZOFFSETTO:-0500
TZNAME:EST
DTSTART:20241103T060000
END:STANDARD
BEGIN:DAYLIGHT
TZOFFSETFROM:-0500
TZOFFSETTO:-0400
TZNAME:EDT
DTSTART:20250309T070000
END:DAYLIGHT
BEGIN:STANDARD
TZOFFSETFROM:-0400
TZOFFSETTO:-0500
TZNAME:EST
DTSTART:20251102T060000
END:STANDARD
BEGIN:DAYLIGHT
TZOFFSETFROM:-0500
TZOFFSETTO:-0400
TZNAME:EDT
DTSTART:20260308T070000
END:DAYLIGHT
BEGIN:STANDARD
TZOFFSETFROM:-0400
TZOFFSETTO:-0500
TZNAME:EST
DTSTART:20261101T060000
END:STANDARD
END:VTIMEZONE
BEGIN:VEVENT
DTSTART;TZID=America/New_York:20250529T093000
DTEND;TZID=America/New_York:20250529T163000
DTSTAMP:20260421T160121
CREATED:20250415T183006Z
LAST-MODIFIED:20250415T183141Z
UID:10012828-1748511000-1748536200@www.brooklyn.edu
SUMMARY:Survival of the Fittest: Postgrad Career Bootcamp
DESCRIPTION:This is a must-attend event for Brooklyn College graduates from 2024 and 2025 who need to enhance their job-hunting skills for the competitive job market. Guests will learn how to go from good to great on résumé and cover letter creation\, networking\, and interviewing\, following the formula to get more interviews from job postings and leads within their network. A mini job fair will end this day of prep. \nRegister Today
URL:https://www.brooklyn.edu/event/survival-of-the-fittest-postgrad-career-bootcamp/
LOCATION:Student Center\, 2nd Floor
CATEGORIES:Alumni,Magner Career Center
ORGANIZER;CN="Magner Career Center":MAILTO:careernews@brooklyn.cuny.edu
GEO:40.63265;-73.95045
END:VEVENT
BEGIN:VEVENT
DTSTART;TZID=America/New_York:20250529T093000
DTEND;TZID=America/New_York:20250529T160000
DTSTAMP:20260421T160121
CREATED:20250502T144544Z
LAST-MODIFIED:20250502T144544Z
UID:10012851-1748511000-1748534400@www.brooklyn.edu
SUMMARY:Postgraduation Bootcamp and Mini Job Fair
DESCRIPTION:Enhance your job-search skills\, including networking\, and then meet with employers. The event will be held in James Hall.
URL:https://www.brooklyn.edu/event/postgraduation-bootcamp-and-mini-job-fair/
CATEGORIES:Graduate,Magner Career Center,Undergraduate
ORGANIZER;CN="Magner Career Center":MAILTO:careernews@brooklyn.cuny.edu
END:VEVENT
BEGIN:VEVENT
DTSTART;TZID=America/New_York:20250506T123000
DTEND;TZID=America/New_York:20250506T140000
DTSTAMP:20260421T160121
CREATED:20250502T135739Z
LAST-MODIFIED:20250502T135739Z
UID:10012850-1746534600-1746540000@www.brooklyn.edu
SUMMARY:Spring 2025 Education Resource Fair
DESCRIPTION:This one-stop event is for students\, job seekers\, educators\, and community members looking to connect with valuable educational resources and career opportunities. Whether you’re exploring academic programs\, seeking professional development\, or on the hunt for your next job\, this event has something for everyone. You’ll meet representatives; discover job openings; access career coaching\, résumé help\, and job application tips; and network with professionals and community leaders. \nThis event is geared especially toward education/children and youth studies students\, job seekers and career changers\, educators and school counselors\, and anyone interested in lifelong learning and growth. \nJoin the Zoom meeting
URL:https://www.brooklyn.edu/event/spring-2025-education-resource-fair/
LOCATION:Zoom
CATEGORIES:Magner Career Center
ORGANIZER;CN="Magner Career Center":MAILTO:careernews@brooklyn.cuny.edu
END:VEVENT
BEGIN:VEVENT
DTSTART;TZID=America/New_York:20250423T173000
DTEND;TZID=America/New_York:20250423T203000
DTSTAMP:20260421T160121
CREATED:20250418T151657Z
LAST-MODIFIED:20250418T151657Z
UID:10012839-1745429400-1745440200@www.brooklyn.edu
SUMMARY:Uncommon Schools Career Lab With Brooklyn College
DESCRIPTION:Uncommon Schools will be hosting Uncommon Institute on campus. At this event\, you’ll experience professional development that prioritizes your growth\, learn how to do a demo lesson plan\, meet the hiring team\, and learn how to make a compelling résumé and how to interview with supportive school leaders. \nRegister Today
URL:https://www.brooklyn.edu/event/uncommon-schools-career-lab-with-brooklyn-college/
LOCATION:James Hall\, Room 1309
CATEGORIES:Magner Career Center
ORGANIZER;CN="Magner Career Center":MAILTO:careernews@brooklyn.cuny.edu
GEO:40.63193;-73.95352
END:VEVENT
END:VCALENDAR