BEGIN:VCALENDAR
VERSION:2.0
PRODID:-//Brooklyn College - ECPv6.15.12.2//NONSGML v1.0//EN
CALSCALE:GREGORIAN
METHOD:PUBLISH
X-WR-CALNAME:Brooklyn College
X-ORIGINAL-URL:https://www.brooklyn.edu
X-WR-CALDESC:Events for Brooklyn College
REFRESH-INTERVAL;VALUE=DURATION:PT1H
X-Robots-Tag:noindex
X-PUBLISHED-TTL:PT1H
BEGIN:VTIMEZONE
TZID:America/New_York
BEGIN:DAYLIGHT
TZOFFSETFROM:-0500
TZOFFSETTO:-0400
TZNAME:EDT
DTSTART:20240310T070000
END:DAYLIGHT
BEGIN:STANDARD
TZOFFSETFROM:-0400
TZOFFSETTO:-0500
TZNAME:EST
DTSTART:20241103T060000
END:STANDARD
BEGIN:DAYLIGHT
TZOFFSETFROM:-0500
TZOFFSETTO:-0400
TZNAME:EDT
DTSTART:20250309T070000
END:DAYLIGHT
BEGIN:STANDARD
TZOFFSETFROM:-0400
TZOFFSETTO:-0500
TZNAME:EST
DTSTART:20251102T060000
END:STANDARD
BEGIN:DAYLIGHT
TZOFFSETFROM:-0500
TZOFFSETTO:-0400
TZNAME:EDT
DTSTART:20260308T070000
END:DAYLIGHT
BEGIN:STANDARD
TZOFFSETFROM:-0400
TZOFFSETTO:-0500
TZNAME:EST
DTSTART:20261101T060000
END:STANDARD
END:VTIMEZONE
BEGIN:VEVENT
DTSTART;TZID=America/New_York:20251209T193000
DTEND;TZID=America/New_York:20251209T213000
DTSTAMP:20260421T123617
CREATED:20250923T163607Z
LAST-MODIFIED:20250925T163234Z
UID:10013138-1765308600-1765315800@www.brooklyn.edu
SUMMARY:Indecent by Paula Vogel
DESCRIPTION:Indecent\nby Paula Vogel \nDirected by Sam Plattus\nDecember 5–6\, 8–9 at 7:30 p.m. and December 6 at 2 p.m.\nNew Workshop Theater \nPurchase Tickets \nThe true story of a little Jewish play\, Indecent recounts the history of the groundbreaking 1923 Broadway play God of Vengeance which scandalized the Jewish community and the American public with its portrayal of love and desire between women. Set against the backdrop of rising fascism and the struggle for creative freedom\, Indecent uncovers the divide between art and censorship\, identity and persecution\, as well as cultural divides both then and now. A testament to the power of art-making as an act of resistance\, Indecent is a revolutionary story about finding the unflinching courage to speak truth through art.
URL:https://www.brooklyn.edu/event/indecent-by-paula-vogel/2025-12-09/
LOCATION:Leonard & Claire Tow Center for the Performing Arts\, New Workshop Theater
CATEGORIES:Academics,Alumni,Leonard & Claire Tow Center for the Performing Arts,School of Visual, Media and Performing Arts,Theater
ORGANIZER;CN="Theater":MAILTO:theater@brooklyn.cuny.edu
GEO:40.63119;-73.94899
END:VEVENT
BEGIN:VEVENT
DTSTART;TZID=America/New_York:20251208T193000
DTEND;TZID=America/New_York:20251208T213000
DTSTAMP:20260421T123617
CREATED:20250923T163607Z
LAST-MODIFIED:20250925T163234Z
UID:10013137-1765222200-1765229400@www.brooklyn.edu
SUMMARY:Indecent by Paula Vogel
DESCRIPTION:Indecent\nby Paula Vogel \nDirected by Sam Plattus\nDecember 5–6\, 8–9 at 7:30 p.m. and December 6 at 2 p.m.\nNew Workshop Theater \nPurchase Tickets \nThe true story of a little Jewish play\, Indecent recounts the history of the groundbreaking 1923 Broadway play God of Vengeance which scandalized the Jewish community and the American public with its portrayal of love and desire between women. Set against the backdrop of rising fascism and the struggle for creative freedom\, Indecent uncovers the divide between art and censorship\, identity and persecution\, as well as cultural divides both then and now. A testament to the power of art-making as an act of resistance\, Indecent is a revolutionary story about finding the unflinching courage to speak truth through art.
URL:https://www.brooklyn.edu/event/indecent-by-paula-vogel/2025-12-08/
LOCATION:Leonard & Claire Tow Center for the Performing Arts\, New Workshop Theater
CATEGORIES:Academics,Alumni,Leonard & Claire Tow Center for the Performing Arts,School of Visual, Media and Performing Arts,Theater
ORGANIZER;CN="Theater":MAILTO:theater@brooklyn.cuny.edu
GEO:40.63119;-73.94899
END:VEVENT
BEGIN:VEVENT
DTSTART;TZID=America/New_York:20251206T193000
DTEND;TZID=America/New_York:20251206T213000
DTSTAMP:20260421T123617
CREATED:20250923T163607Z
LAST-MODIFIED:20250925T163234Z
UID:10013136-1765049400-1765056600@www.brooklyn.edu
SUMMARY:Indecent by Paula Vogel
DESCRIPTION:Indecent\nby Paula Vogel \nDirected by Sam Plattus\nDecember 5–6\, 8–9 at 7:30 p.m. and December 6 at 2 p.m.\nNew Workshop Theater \nPurchase Tickets \nThe true story of a little Jewish play\, Indecent recounts the history of the groundbreaking 1923 Broadway play God of Vengeance which scandalized the Jewish community and the American public with its portrayal of love and desire between women. Set against the backdrop of rising fascism and the struggle for creative freedom\, Indecent uncovers the divide between art and censorship\, identity and persecution\, as well as cultural divides both then and now. A testament to the power of art-making as an act of resistance\, Indecent is a revolutionary story about finding the unflinching courage to speak truth through art.
URL:https://www.brooklyn.edu/event/indecent-by-paula-vogel/2025-12-06/2/
LOCATION:Leonard & Claire Tow Center for the Performing Arts\, New Workshop Theater
CATEGORIES:Academics,Alumni,Leonard & Claire Tow Center for the Performing Arts,School of Visual, Media and Performing Arts,Theater
ORGANIZER;CN="Theater":MAILTO:theater@brooklyn.cuny.edu
GEO:40.63119;-73.94899
END:VEVENT
BEGIN:VEVENT
DTSTART;TZID=America/New_York:20251206T140000
DTEND;TZID=America/New_York:20251206T161500
DTSTAMP:20260421T123617
CREATED:20250923T163607Z
LAST-MODIFIED:20250925T163234Z
UID:10013135-1765029600-1765037700@www.brooklyn.edu
SUMMARY:Indecent by Paula Vogel
DESCRIPTION:Indecent\nby Paula Vogel \nDirected by Sam Plattus\nDecember 5–6\, 8–9 at 7:30 p.m. and December 6 at 2 p.m.\nNew Workshop Theater \nPurchase Tickets \nThe true story of a little Jewish play\, Indecent recounts the history of the groundbreaking 1923 Broadway play God of Vengeance which scandalized the Jewish community and the American public with its portrayal of love and desire between women. Set against the backdrop of rising fascism and the struggle for creative freedom\, Indecent uncovers the divide between art and censorship\, identity and persecution\, as well as cultural divides both then and now. A testament to the power of art-making as an act of resistance\, Indecent is a revolutionary story about finding the unflinching courage to speak truth through art.
URL:https://www.brooklyn.edu/event/indecent-by-paula-vogel/2025-12-06/1/
LOCATION:Leonard & Claire Tow Center for the Performing Arts\, New Workshop Theater
CATEGORIES:Academics,Alumni,Leonard & Claire Tow Center for the Performing Arts,School of Visual, Media and Performing Arts,Theater
ORGANIZER;CN="Theater":MAILTO:theater@brooklyn.cuny.edu
GEO:40.63119;-73.94899
END:VEVENT
BEGIN:VEVENT
DTSTART;TZID=America/New_York:20251205T193000
DTEND;TZID=America/New_York:20251205T213000
DTSTAMP:20260421T123617
CREATED:20250923T163607Z
LAST-MODIFIED:20250925T163234Z
UID:10013134-1764963000-1764970200@www.brooklyn.edu
SUMMARY:Indecent by Paula Vogel
DESCRIPTION:Indecent\nby Paula Vogel \nDirected by Sam Plattus\nDecember 5–6\, 8–9 at 7:30 p.m. and December 6 at 2 p.m.\nNew Workshop Theater \nPurchase Tickets \nThe true story of a little Jewish play\, Indecent recounts the history of the groundbreaking 1923 Broadway play God of Vengeance which scandalized the Jewish community and the American public with its portrayal of love and desire between women. Set against the backdrop of rising fascism and the struggle for creative freedom\, Indecent uncovers the divide between art and censorship\, identity and persecution\, as well as cultural divides both then and now. A testament to the power of art-making as an act of resistance\, Indecent is a revolutionary story about finding the unflinching courage to speak truth through art.
URL:https://www.brooklyn.edu/event/indecent-by-paula-vogel/2025-12-05/
LOCATION:Leonard & Claire Tow Center for the Performing Arts\, New Workshop Theater
CATEGORIES:Academics,Alumni,Leonard & Claire Tow Center for the Performing Arts,School of Visual, Media and Performing Arts,Theater
ORGANIZER;CN="Theater":MAILTO:theater@brooklyn.cuny.edu
GEO:40.63119;-73.94899
END:VEVENT
BEGIN:VEVENT
DTSTART;TZID=America/New_York:20251119T193000
DTEND;TZID=America/New_York:20251119T213000
DTSTAMP:20260421T123617
CREATED:20240930T164414Z
LAST-MODIFIED:20251106T164813Z
UID:10013981-1763580600-1763587800@www.brooklyn.edu
SUMMARY:Devising ShortWorks Festival
DESCRIPTION:7:30-9:30 p.m. performance\nBeller Rehearsal Studio\, 093 \nA collection of work created and presented by students in the undergraduate devising class. RSVP will be distributed by the Theater Department a week prior to the show. \nFree admission. \n 
URL:https://www.brooklyn.edu/event/devising-shortworks-festival/2025-11-19/
LOCATION:Leonard & Claire Tow Center for the Performing Arts\, Beller Rehearsal Studio
CATEGORIES:Academics,Alumni,Leonard & Claire Tow Center for the Performing Arts,School of Visual, Media and Performing Arts,Theater
ORGANIZER;CN="Theater":MAILTO:theater@brooklyn.cuny.edu
END:VEVENT
BEGIN:VEVENT
DTSTART;TZID=America/New_York:20251118T193000
DTEND;TZID=America/New_York:20251118T213000
DTSTAMP:20260421T123617
CREATED:20240930T164414Z
LAST-MODIFIED:20251106T164813Z
UID:10013980-1763494200-1763501400@www.brooklyn.edu
SUMMARY:Devising ShortWorks Festival
DESCRIPTION:7:30-9:30 p.m. performance\nBeller Rehearsal Studio\, 093 \nA collection of work created and presented by students in the undergraduate devising class. RSVP will be distributed by the Theater Department a week prior to the show. \nFree admission. \n 
URL:https://www.brooklyn.edu/event/devising-shortworks-festival/2025-11-18/
LOCATION:Leonard & Claire Tow Center for the Performing Arts\, Beller Rehearsal Studio
CATEGORIES:Academics,Alumni,Leonard & Claire Tow Center for the Performing Arts,School of Visual, Media and Performing Arts,Theater
ORGANIZER;CN="Theater":MAILTO:theater@brooklyn.cuny.edu
END:VEVENT
BEGIN:VEVENT
DTSTART;TZID=America/New_York:20251117T193000
DTEND;TZID=America/New_York:20251117T213000
DTSTAMP:20260421T123617
CREATED:20240930T164414Z
LAST-MODIFIED:20251106T164813Z
UID:10013979-1763407800-1763415000@www.brooklyn.edu
SUMMARY:Devising ShortWorks Festival
DESCRIPTION:7:30-9:30 p.m. performance\nBeller Rehearsal Studio\, 093 \nA collection of work created and presented by students in the undergraduate devising class. RSVP will be distributed by the Theater Department a week prior to the show. \nFree admission. \n 
URL:https://www.brooklyn.edu/event/devising-shortworks-festival/2025-11-17/
LOCATION:Leonard & Claire Tow Center for the Performing Arts\, Beller Rehearsal Studio
CATEGORIES:Academics,Alumni,Leonard & Claire Tow Center for the Performing Arts,School of Visual, Media and Performing Arts,Theater
ORGANIZER;CN="Theater":MAILTO:theater@brooklyn.cuny.edu
END:VEVENT
BEGIN:VEVENT
DTSTART;TZID=America/New_York:20251104T193000
DTEND;TZID=America/New_York:20251104T214500
DTSTAMP:20260421T123617
CREATED:20250916T185705Z
LAST-MODIFIED:20250916T190126Z
UID:10013099-1762284600-1762292700@www.brooklyn.edu
SUMMARY:Marcus; or The Secret of Sweet by Tarell Alvin McCraney  
DESCRIPTION:Directed by Irvin Mason\, Jr.\nOctober 31\, November 1\, 3–4 at 7:30 p.m. and November 1 at 2 p.m.\nDon Buchwald Theater \nMarcus is sixteen. And “sweet.”\nThat’s what folks say — in whispers\, in warnings\, in the way they look but don’t speak.\nDays before Hurricane Katrina strikes\, Marcus begins searching —\nfor his father’s past\, his own truth\, and a name for the sweetness he carries.\nSet in the housing projects of San Pere\, Louisiana\,\nthis coming-of-age story blends grief\, queerness\, and Southern Black tradition\nwith the lyricism of Yoruba spirituality and community memory.\nMarcus; or the Secret of Sweet is the final story in Tarell Alvin McCraney’s Brother/Sister trilogy.\nIt’s fierce. Funny. Full of spirit.\nA baptism in rain\, rhythm\, and revelation.\nCome if you are ready to listen.\nTo witness.\nTo sit with the things that go unsaid\,\nthe truths that live in gesture\,\nglance\,\nand rain. \nPurchase Tickets \n  \n 
URL:https://www.brooklyn.edu/event/marcus-or-the-secret-of-sweet-by-tarell-alvin-mccraney/2025-11-04/
LOCATION:Leonard & Claire Tow Center for the Performing Arts\, Don Buchwald Theater
CATEGORIES:Academics,Alumni,Leonard & Claire Tow Center for the Performing Arts,School of Visual, Media and Performing Arts,Theater
ATTACH;FMTTYPE=image/jpeg:https://www.brooklyn.edu/wp-content/uploads/2025/09/TOW-Marcus.jpg
ORGANIZER;CN="Theater":MAILTO:theater@brooklyn.cuny.edu
GEO:40.63169;-73.94867
END:VEVENT
BEGIN:VEVENT
DTSTART;TZID=America/New_York:20251103T193000
DTEND;TZID=America/New_York:20251103T214500
DTSTAMP:20260421T123617
CREATED:20250916T185705Z
LAST-MODIFIED:20250916T190126Z
UID:10013098-1762198200-1762206300@www.brooklyn.edu
SUMMARY:Marcus; or The Secret of Sweet by Tarell Alvin McCraney  
DESCRIPTION:Directed by Irvin Mason\, Jr.\nOctober 31\, November 1\, 3–4 at 7:30 p.m. and November 1 at 2 p.m.\nDon Buchwald Theater \nMarcus is sixteen. And “sweet.”\nThat’s what folks say — in whispers\, in warnings\, in the way they look but don’t speak.\nDays before Hurricane Katrina strikes\, Marcus begins searching —\nfor his father’s past\, his own truth\, and a name for the sweetness he carries.\nSet in the housing projects of San Pere\, Louisiana\,\nthis coming-of-age story blends grief\, queerness\, and Southern Black tradition\nwith the lyricism of Yoruba spirituality and community memory.\nMarcus; or the Secret of Sweet is the final story in Tarell Alvin McCraney’s Brother/Sister trilogy.\nIt’s fierce. Funny. Full of spirit.\nA baptism in rain\, rhythm\, and revelation.\nCome if you are ready to listen.\nTo witness.\nTo sit with the things that go unsaid\,\nthe truths that live in gesture\,\nglance\,\nand rain. \nPurchase Tickets \n  \n 
URL:https://www.brooklyn.edu/event/marcus-or-the-secret-of-sweet-by-tarell-alvin-mccraney/2025-11-03/
LOCATION:Leonard & Claire Tow Center for the Performing Arts\, Don Buchwald Theater
CATEGORIES:Academics,Alumni,Leonard & Claire Tow Center for the Performing Arts,School of Visual, Media and Performing Arts,Theater
ATTACH;FMTTYPE=image/jpeg:https://www.brooklyn.edu/wp-content/uploads/2025/09/TOW-Marcus.jpg
ORGANIZER;CN="Theater":MAILTO:theater@brooklyn.cuny.edu
GEO:40.63169;-73.94867
END:VEVENT
BEGIN:VEVENT
DTSTART;TZID=America/New_York:20251101T190000
DTEND;TZID=America/New_York:20251101T214500
DTSTAMP:20260421T123617
CREATED:20250916T185705Z
LAST-MODIFIED:20250916T190126Z
UID:10013097-1762023600-1762033500@www.brooklyn.edu
SUMMARY:Marcus; or The Secret of Sweet by Tarell Alvin McCraney  
DESCRIPTION:Directed by Irvin Mason\, Jr.\nOctober 31\, November 1\, 3–4 at 7:30 p.m. and November 1 at 2 p.m.\nDon Buchwald Theater \nMarcus is sixteen. And “sweet.”\nThat’s what folks say — in whispers\, in warnings\, in the way they look but don’t speak.\nDays before Hurricane Katrina strikes\, Marcus begins searching —\nfor his father’s past\, his own truth\, and a name for the sweetness he carries.\nSet in the housing projects of San Pere\, Louisiana\,\nthis coming-of-age story blends grief\, queerness\, and Southern Black tradition\nwith the lyricism of Yoruba spirituality and community memory.\nMarcus; or the Secret of Sweet is the final story in Tarell Alvin McCraney’s Brother/Sister trilogy.\nIt’s fierce. Funny. Full of spirit.\nA baptism in rain\, rhythm\, and revelation.\nCome if you are ready to listen.\nTo witness.\nTo sit with the things that go unsaid\,\nthe truths that live in gesture\,\nglance\,\nand rain. \nPurchase Tickets \n  \n 
URL:https://www.brooklyn.edu/event/marcus-or-the-secret-of-sweet-by-tarell-alvin-mccraney/2025-11-01/2/
LOCATION:Leonard & Claire Tow Center for the Performing Arts\, Don Buchwald Theater
CATEGORIES:Academics,Alumni,Leonard & Claire Tow Center for the Performing Arts,School of Visual, Media and Performing Arts,Theater
ATTACH;FMTTYPE=image/jpeg:https://www.brooklyn.edu/wp-content/uploads/2025/09/TOW-Marcus.jpg
ORGANIZER;CN="Theater":MAILTO:theater@brooklyn.cuny.edu
GEO:40.63169;-73.94867
END:VEVENT
BEGIN:VEVENT
DTSTART;TZID=America/New_York:20251101T140000
DTEND;TZID=America/New_York:20251101T161500
DTSTAMP:20260421T123617
CREATED:20250916T185705Z
LAST-MODIFIED:20250916T190126Z
UID:10013096-1762005600-1762013700@www.brooklyn.edu
SUMMARY:Marcus; or The Secret of Sweet by Tarell Alvin McCraney  
DESCRIPTION:Directed by Irvin Mason\, Jr.\nOctober 31\, November 1\, 3–4 at 7:30 p.m. and November 1 at 2 p.m.\nDon Buchwald Theater \nMarcus is sixteen. And “sweet.”\nThat’s what folks say — in whispers\, in warnings\, in the way they look but don’t speak.\nDays before Hurricane Katrina strikes\, Marcus begins searching —\nfor his father’s past\, his own truth\, and a name for the sweetness he carries.\nSet in the housing projects of San Pere\, Louisiana\,\nthis coming-of-age story blends grief\, queerness\, and Southern Black tradition\nwith the lyricism of Yoruba spirituality and community memory.\nMarcus; or the Secret of Sweet is the final story in Tarell Alvin McCraney’s Brother/Sister trilogy.\nIt’s fierce. Funny. Full of spirit.\nA baptism in rain\, rhythm\, and revelation.\nCome if you are ready to listen.\nTo witness.\nTo sit with the things that go unsaid\,\nthe truths that live in gesture\,\nglance\,\nand rain. \nPurchase Tickets \n  \n 
URL:https://www.brooklyn.edu/event/marcus-or-the-secret-of-sweet-by-tarell-alvin-mccraney/2025-11-01/1/
LOCATION:Leonard & Claire Tow Center for the Performing Arts\, Don Buchwald Theater
CATEGORIES:Academics,Alumni,Leonard & Claire Tow Center for the Performing Arts,School of Visual, Media and Performing Arts,Theater
ATTACH;FMTTYPE=image/jpeg:https://www.brooklyn.edu/wp-content/uploads/2025/09/TOW-Marcus.jpg
ORGANIZER;CN="Theater":MAILTO:theater@brooklyn.cuny.edu
GEO:40.63169;-73.94867
END:VEVENT
BEGIN:VEVENT
DTSTART;TZID=America/New_York:20251031T193000
DTEND;TZID=America/New_York:20251031T214500
DTSTAMP:20260421T123617
CREATED:20250916T185705Z
LAST-MODIFIED:20250916T190126Z
UID:10013095-1761939000-1761947100@www.brooklyn.edu
SUMMARY:Marcus; or The Secret of Sweet by Tarell Alvin McCraney  
DESCRIPTION:Directed by Irvin Mason\, Jr.\nOctober 31\, November 1\, 3–4 at 7:30 p.m. and November 1 at 2 p.m.\nDon Buchwald Theater \nMarcus is sixteen. And “sweet.”\nThat’s what folks say — in whispers\, in warnings\, in the way they look but don’t speak.\nDays before Hurricane Katrina strikes\, Marcus begins searching —\nfor his father’s past\, his own truth\, and a name for the sweetness he carries.\nSet in the housing projects of San Pere\, Louisiana\,\nthis coming-of-age story blends grief\, queerness\, and Southern Black tradition\nwith the lyricism of Yoruba spirituality and community memory.\nMarcus; or the Secret of Sweet is the final story in Tarell Alvin McCraney’s Brother/Sister trilogy.\nIt’s fierce. Funny. Full of spirit.\nA baptism in rain\, rhythm\, and revelation.\nCome if you are ready to listen.\nTo witness.\nTo sit with the things that go unsaid\,\nthe truths that live in gesture\,\nglance\,\nand rain. \nPurchase Tickets \n  \n 
URL:https://www.brooklyn.edu/event/marcus-or-the-secret-of-sweet-by-tarell-alvin-mccraney/2025-10-31/
LOCATION:Leonard & Claire Tow Center for the Performing Arts\, Don Buchwald Theater
CATEGORIES:Academics,Alumni,Leonard & Claire Tow Center for the Performing Arts,School of Visual, Media and Performing Arts,Theater
ATTACH;FMTTYPE=image/jpeg:https://www.brooklyn.edu/wp-content/uploads/2025/09/TOW-Marcus.jpg
ORGANIZER;CN="Theater":MAILTO:theater@brooklyn.cuny.edu
GEO:40.63169;-73.94867
END:VEVENT
BEGIN:VEVENT
DTSTART;TZID=America/New_York:20251007T193000
DTEND;TZID=America/New_York:20251007T214500
DTSTAMP:20260421T123617
CREATED:20250916T182622Z
LAST-MODIFIED:20250916T182622Z
UID:10013088-1759865400-1759873500@www.brooklyn.edu
SUMMARY:The Revolutionists by Lauren Gunderson
DESCRIPTION:Directed by Colleen Morgen\nOctober 3–4\, 6–7  at 7:30 p.m. and October 4 at 2 p.m.\nNew Workshop Theater \nIn a time of revolution\, four women—one an activist playwright\, one an assassin\, one a queen\, and one a Haitian spy—face the chaos of the French Revolution. With wit\, bravery\, and a healthy dose of humor\, they question how to fight for freedom in a world that wants to silence them. The Revolutionists is a fierce\, feminist exploration of the power of sisterhood and the struggle to define one’s identity amidst societal upheaval. The play crosses divides of gender\, power\, and historical boundaries\, raising the question: how do we create revolution without losing ourselves in the process? \nPurchase Tickets \n  \n 
URL:https://www.brooklyn.edu/event/the-revolutionists-by-lauren-gunderson/2025-10-07/
LOCATION:Leonard & Claire Tow Center for the Performing Arts\, New Workshop Theater
CATEGORIES:Academics,Alumni,Leonard & Claire Tow Center for the Performing Arts,School of Visual, Media and Performing Arts,Theater
ORGANIZER;CN="Theater":MAILTO:theater@brooklyn.cuny.edu
GEO:40.63119;-73.94899
END:VEVENT
BEGIN:VEVENT
DTSTART;TZID=America/New_York:20251006T193000
DTEND;TZID=America/New_York:20251006T214500
DTSTAMP:20260421T123617
CREATED:20250916T182622Z
LAST-MODIFIED:20250916T182622Z
UID:10013087-1759779000-1759787100@www.brooklyn.edu
SUMMARY:The Revolutionists by Lauren Gunderson
DESCRIPTION:Directed by Colleen Morgen\nOctober 3–4\, 6–7  at 7:30 p.m. and October 4 at 2 p.m.\nNew Workshop Theater \nIn a time of revolution\, four women—one an activist playwright\, one an assassin\, one a queen\, and one a Haitian spy—face the chaos of the French Revolution. With wit\, bravery\, and a healthy dose of humor\, they question how to fight for freedom in a world that wants to silence them. The Revolutionists is a fierce\, feminist exploration of the power of sisterhood and the struggle to define one’s identity amidst societal upheaval. The play crosses divides of gender\, power\, and historical boundaries\, raising the question: how do we create revolution without losing ourselves in the process? \nPurchase Tickets \n  \n 
URL:https://www.brooklyn.edu/event/the-revolutionists-by-lauren-gunderson/2025-10-06/
LOCATION:Leonard & Claire Tow Center for the Performing Arts\, New Workshop Theater
CATEGORIES:Academics,Alumni,Leonard & Claire Tow Center for the Performing Arts,School of Visual, Media and Performing Arts,Theater
ORGANIZER;CN="Theater":MAILTO:theater@brooklyn.cuny.edu
GEO:40.63119;-73.94899
END:VEVENT
BEGIN:VEVENT
DTSTART;TZID=America/New_York:20251004T193000
DTEND;TZID=America/New_York:20251004T214500
DTSTAMP:20260421T123617
CREATED:20250916T182622Z
LAST-MODIFIED:20250916T182622Z
UID:10013086-1759606200-1759614300@www.brooklyn.edu
SUMMARY:The Revolutionists by Lauren Gunderson
DESCRIPTION:Directed by Colleen Morgen\nOctober 3–4\, 6–7  at 7:30 p.m. and October 4 at 2 p.m.\nNew Workshop Theater \nIn a time of revolution\, four women—one an activist playwright\, one an assassin\, one a queen\, and one a Haitian spy—face the chaos of the French Revolution. With wit\, bravery\, and a healthy dose of humor\, they question how to fight for freedom in a world that wants to silence them. The Revolutionists is a fierce\, feminist exploration of the power of sisterhood and the struggle to define one’s identity amidst societal upheaval. The play crosses divides of gender\, power\, and historical boundaries\, raising the question: how do we create revolution without losing ourselves in the process? \nPurchase Tickets \n  \n 
URL:https://www.brooklyn.edu/event/the-revolutionists-by-lauren-gunderson/2025-10-04/2/
LOCATION:Leonard & Claire Tow Center for the Performing Arts\, New Workshop Theater
CATEGORIES:Academics,Alumni,Leonard & Claire Tow Center for the Performing Arts,School of Visual, Media and Performing Arts,Theater
ORGANIZER;CN="Theater":MAILTO:theater@brooklyn.cuny.edu
GEO:40.63119;-73.94899
END:VEVENT
BEGIN:VEVENT
DTSTART;TZID=America/New_York:20251004T140000
DTEND;TZID=America/New_York:20251004T161500
DTSTAMP:20260421T123617
CREATED:20250916T182622Z
LAST-MODIFIED:20250916T182622Z
UID:10013085-1759586400-1759594500@www.brooklyn.edu
SUMMARY:The Revolutionists by Lauren Gunderson
DESCRIPTION:Directed by Colleen Morgen\nOctober 3–4\, 6–7  at 7:30 p.m. and October 4 at 2 p.m.\nNew Workshop Theater \nIn a time of revolution\, four women—one an activist playwright\, one an assassin\, one a queen\, and one a Haitian spy—face the chaos of the French Revolution. With wit\, bravery\, and a healthy dose of humor\, they question how to fight for freedom in a world that wants to silence them. The Revolutionists is a fierce\, feminist exploration of the power of sisterhood and the struggle to define one’s identity amidst societal upheaval. The play crosses divides of gender\, power\, and historical boundaries\, raising the question: how do we create revolution without losing ourselves in the process? \nPurchase Tickets \n  \n 
URL:https://www.brooklyn.edu/event/the-revolutionists-by-lauren-gunderson/2025-10-04/1/
LOCATION:Leonard & Claire Tow Center for the Performing Arts\, New Workshop Theater
CATEGORIES:Academics,Alumni,Leonard & Claire Tow Center for the Performing Arts,School of Visual, Media and Performing Arts,Theater
ORGANIZER;CN="Theater":MAILTO:theater@brooklyn.cuny.edu
GEO:40.63119;-73.94899
END:VEVENT
BEGIN:VEVENT
DTSTART;TZID=America/New_York:20251003T193000
DTEND;TZID=America/New_York:20251003T214500
DTSTAMP:20260421T123617
CREATED:20250916T182622Z
LAST-MODIFIED:20250916T182622Z
UID:10013084-1759519800-1759527900@www.brooklyn.edu
SUMMARY:The Revolutionists by Lauren Gunderson
DESCRIPTION:Directed by Colleen Morgen\nOctober 3–4\, 6–7  at 7:30 p.m. and October 4 at 2 p.m.\nNew Workshop Theater \nIn a time of revolution\, four women—one an activist playwright\, one an assassin\, one a queen\, and one a Haitian spy—face the chaos of the French Revolution. With wit\, bravery\, and a healthy dose of humor\, they question how to fight for freedom in a world that wants to silence them. The Revolutionists is a fierce\, feminist exploration of the power of sisterhood and the struggle to define one’s identity amidst societal upheaval. The play crosses divides of gender\, power\, and historical boundaries\, raising the question: how do we create revolution without losing ourselves in the process? \nPurchase Tickets \n  \n 
URL:https://www.brooklyn.edu/event/the-revolutionists-by-lauren-gunderson/2025-10-03/
LOCATION:Leonard & Claire Tow Center for the Performing Arts\, New Workshop Theater
CATEGORIES:Academics,Alumni,Leonard & Claire Tow Center for the Performing Arts,School of Visual, Media and Performing Arts,Theater
ORGANIZER;CN="Theater":MAILTO:theater@brooklyn.cuny.edu
GEO:40.63119;-73.94899
END:VEVENT
BEGIN:VEVENT
DTSTART;TZID=America/New_York:20250410T193000
DTEND;TZID=America/New_York:20250410T213000
DTSTAMP:20260421T123617
CREATED:20240930T164952Z
LAST-MODIFIED:20240930T164952Z
UID:10010350-1744313400-1744320600@www.brooklyn.edu
SUMMARY:Short Works Festival
DESCRIPTION:7 p.m. doors / 7:30-9:30 p.m. performance\nBeller Rehearsal Studio \nPurchase Tickets \nAn evening of 10-minute plays presented by the students in the undergraduate directing class.
URL:https://www.brooklyn.edu/event/short-works-festival-2/
LOCATION:Leonard & Claire Tow Center for the Performing Arts\, Beller Rehearsal Studio
CATEGORIES:Academics,Alumni,Leonard & Claire Tow Center for the Performing Arts,School of Visual, Media and Performing Arts,Theater
ATTACH;FMTTYPE=image/jpeg:https://www.brooklyn.edu/wp-content/uploads/1200x628-TOW-Shortworks-10-Minute-Play-Festival-250409.jpg
ORGANIZER;CN="Theater":MAILTO:theater@brooklyn.cuny.edu
END:VEVENT
END:VCALENDAR