BEGIN:VCALENDAR
VERSION:2.0
PRODID:-//Brooklyn College - ECPv6.15.12.2//NONSGML v1.0//EN
CALSCALE:GREGORIAN
METHOD:PUBLISH
X-WR-CALNAME:Brooklyn College
X-ORIGINAL-URL:https://www.brooklyn.edu
X-WR-CALDESC:Events for Brooklyn College
REFRESH-INTERVAL;VALUE=DURATION:PT1H
X-Robots-Tag:noindex
X-PUBLISHED-TTL:PT1H
BEGIN:VTIMEZONE
TZID:America/New_York
BEGIN:DAYLIGHT
TZOFFSETFROM:-0500
TZOFFSETTO:-0400
TZNAME:EDT
DTSTART:20240310T070000
END:DAYLIGHT
BEGIN:STANDARD
TZOFFSETFROM:-0400
TZOFFSETTO:-0500
TZNAME:EST
DTSTART:20241103T060000
END:STANDARD
BEGIN:DAYLIGHT
TZOFFSETFROM:-0500
TZOFFSETTO:-0400
TZNAME:EDT
DTSTART:20250309T070000
END:DAYLIGHT
BEGIN:STANDARD
TZOFFSETFROM:-0400
TZOFFSETTO:-0500
TZNAME:EST
DTSTART:20251102T060000
END:STANDARD
BEGIN:DAYLIGHT
TZOFFSETFROM:-0500
TZOFFSETTO:-0400
TZNAME:EDT
DTSTART:20260308T070000
END:DAYLIGHT
BEGIN:STANDARD
TZOFFSETFROM:-0400
TZOFFSETTO:-0500
TZNAME:EST
DTSTART:20261101T060000
END:STANDARD
END:VTIMEZONE
BEGIN:VEVENT
DTSTART;TZID=America/New_York:20251026T080000
DTEND;TZID=America/New_York:20251026T120000
DTSTAMP:20260421T184139
CREATED:20251003T171855Z
LAST-MODIFIED:20251003T174305Z
UID:10013398-1761465600-1761480000@www.brooklyn.edu
SUMMARY:Making Strides Against Breast Cancer Brooklyn Walk
DESCRIPTION:Who will you walk for? Join the Brooklyn College Cancer Center Team\, the American Cancer Society\, and others for this year’s Making Strides Against Breast Cancer Brooklyn Walk on the Coney Island Boardwalk (1904 Surf Ave.\, Brooklyn\, NY 11224). \nAlthough some of our friends and family are no longer with us\, they are all women who benefited from the cancer research that organizations like the American Cancer Society fund. That’s why we should continue to fight against breast cancer by raising funds and awareness to help women like them get the best and latest treatments possible! Joining the Brooklyn College Team is super easy! Just click here. \nIf you can’t join the team\, please consider supporting ACS with a donation here! \nIf you have any questions\, please email Ana Bartolomé at BCCC-CURE@brooklyn.cuny.edu. \n 
URL:https://www.brooklyn.edu/event/making-strides-against-breast-cancer-brooklyn-walk/
LOCATION:Coney Island Boardwalk
ORGANIZER;CN="Brooklyn College Cancer Center (BCCC)":MAILTO:bccc-cure@brooklyn.cuny.edu
END:VEVENT
END:VCALENDAR