BEGIN:VCALENDAR
VERSION:2.0
PRODID:-//Brooklyn College - ECPv6.15.12.2//NONSGML v1.0//EN
CALSCALE:GREGORIAN
METHOD:PUBLISH
X-ORIGINAL-URL:https://www.brooklyn.edu
X-WR-CALDESC:Events for Brooklyn College
REFRESH-INTERVAL;VALUE=DURATION:PT1H
X-Robots-Tag:noindex
X-PUBLISHED-TTL:PT1H
BEGIN:VTIMEZONE
TZID:America/New_York
BEGIN:DAYLIGHT
TZOFFSETFROM:-0500
TZOFFSETTO:-0400
TZNAME:EDT
DTSTART:20250309T070000
END:DAYLIGHT
BEGIN:STANDARD
TZOFFSETFROM:-0400
TZOFFSETTO:-0500
TZNAME:EST
DTSTART:20251102T060000
END:STANDARD
BEGIN:DAYLIGHT
TZOFFSETFROM:-0500
TZOFFSETTO:-0400
TZNAME:EDT
DTSTART:20260308T070000
END:DAYLIGHT
BEGIN:STANDARD
TZOFFSETFROM:-0400
TZOFFSETTO:-0500
TZNAME:EST
DTSTART:20261101T060000
END:STANDARD
BEGIN:DAYLIGHT
TZOFFSETFROM:-0500
TZOFFSETTO:-0400
TZNAME:EDT
DTSTART:20270314T070000
END:DAYLIGHT
BEGIN:STANDARD
TZOFFSETFROM:-0400
TZOFFSETTO:-0500
TZNAME:EST
DTSTART:20271107T060000
END:STANDARD
END:VTIMEZONE
BEGIN:VEVENT
DTSTART;TZID=America/New_York:20260421T183000
DTEND;TZID=America/New_York:20260421T193000
DTSTAMP:20260421T142144
CREATED:20260113T145755Z
LAST-MODIFIED:20260113T145755Z
UID:10014108-1776796200-1776799800@www.brooklyn.edu
SUMMARY:Feirstein Information Session
DESCRIPTION:Join Brooklyn College’s Feirstein Graduate School of Cinema for an information session and in-person tour of our state-of-the art facilities.  \nLearn about the admission process\, meet our award-winning faculty and mentors\, and explore our cutting edge programs in Live Action Filmmaking\, Digital Animation and Visual Effects\, Media Scoring\, and Sonic Arts. \nREGISTER NOW
URL:https://www.brooklyn.edu/event/feirstein-information-session-3/
LOCATION:Feirstein Graduate School of Cinema
CATEGORIES:Admissions, Graduate,Barry R. Feirstein Graduate School of Cinema,Graduate,School of Visual, Media and Performing Arts
GEO:40.69838;-73.96725
END:VEVENT
END:VCALENDAR