BEGIN:VCALENDAR
VERSION:2.0
PRODID:-//Brooklyn College - ECPv6.15.12.2//NONSGML v1.0//EN
CALSCALE:GREGORIAN
METHOD:PUBLISH
X-ORIGINAL-URL:https://www.brooklyn.edu
X-WR-CALDESC:Events for Brooklyn College
REFRESH-INTERVAL;VALUE=DURATION:PT1H
X-Robots-Tag:noindex
X-PUBLISHED-TTL:PT1H
BEGIN:VTIMEZONE
TZID:America/New_York
BEGIN:DAYLIGHT
TZOFFSETFROM:-0500
TZOFFSETTO:-0400
TZNAME:EDT
DTSTART:20250309T070000
END:DAYLIGHT
BEGIN:STANDARD
TZOFFSETFROM:-0400
TZOFFSETTO:-0500
TZNAME:EST
DTSTART:20251102T060000
END:STANDARD
BEGIN:DAYLIGHT
TZOFFSETFROM:-0500
TZOFFSETTO:-0400
TZNAME:EDT
DTSTART:20260308T070000
END:DAYLIGHT
BEGIN:STANDARD
TZOFFSETFROM:-0400
TZOFFSETTO:-0500
TZNAME:EST
DTSTART:20261101T060000
END:STANDARD
BEGIN:DAYLIGHT
TZOFFSETFROM:-0500
TZOFFSETTO:-0400
TZNAME:EDT
DTSTART:20270314T070000
END:DAYLIGHT
BEGIN:STANDARD
TZOFFSETFROM:-0400
TZOFFSETTO:-0500
TZNAME:EST
DTSTART:20271107T060000
END:STANDARD
END:VTIMEZONE
BEGIN:VEVENT
DTSTART;TZID=America/New_York:20260423T123000
DTEND;TZID=America/New_York:20260423T133000
DTSTAMP:20260421T045554
CREATED:20260129T170113Z
LAST-MODIFIED:20260129T170211Z
UID:10014136-1776947400-1776951000@www.brooklyn.edu
SUMMARY:From Lab Discovery to Business: An Introduction to Entrepreneurship for Researchers at Brooklyn College
DESCRIPTION:Professor Alexander Greer (Department of Chemistry and Biochemistry\, and director of the Brooklyn College Cancer Center) presents a seminar on BCCC-CURE cancer-related research\, internships\, and partner opportunities.
URL:https://www.brooklyn.edu/event/from-lab-discovery-to-business-an-introduction-to-entrepreneurship-for-researchers-at-brooklyn-college/
LOCATION:Ingersoll Hall\, Room 3143
CATEGORIES:Brooklyn College Cancer Center,Chemistry and Biochemistry,School of Natural and Behavioral Sciences
ORGANIZER;CN="Brooklyn College Cancer Center (BCCC)":MAILTO:bccc-cure@brooklyn.cuny.edu
GEO:40.63082;-73.95186
END:VEVENT
END:VCALENDAR