BEGIN:VCALENDAR
VERSION:2.0
PRODID:-//Brooklyn College - ECPv6.15.12.2//NONSGML v1.0//EN
CALSCALE:GREGORIAN
METHOD:PUBLISH
X-WR-CALNAME:Brooklyn College
X-ORIGINAL-URL:https://www.brooklyn.edu
X-WR-CALDESC:Events for Brooklyn College
REFRESH-INTERVAL;VALUE=DURATION:PT1H
X-Robots-Tag:noindex
X-PUBLISHED-TTL:PT1H
BEGIN:VTIMEZONE
TZID:America/New_York
BEGIN:DAYLIGHT
TZOFFSETFROM:-0500
TZOFFSETTO:-0400
TZNAME:EDT
DTSTART:20240310T070000
END:DAYLIGHT
BEGIN:STANDARD
TZOFFSETFROM:-0400
TZOFFSETTO:-0500
TZNAME:EST
DTSTART:20241103T060000
END:STANDARD
BEGIN:DAYLIGHT
TZOFFSETFROM:-0500
TZOFFSETTO:-0400
TZNAME:EDT
DTSTART:20250309T070000
END:DAYLIGHT
BEGIN:STANDARD
TZOFFSETFROM:-0400
TZOFFSETTO:-0500
TZNAME:EST
DTSTART:20251102T060000
END:STANDARD
BEGIN:DAYLIGHT
TZOFFSETFROM:-0500
TZOFFSETTO:-0400
TZNAME:EDT
DTSTART:20260308T070000
END:DAYLIGHT
BEGIN:STANDARD
TZOFFSETFROM:-0400
TZOFFSETTO:-0500
TZNAME:EST
DTSTART:20261101T060000
END:STANDARD
END:VTIMEZONE
BEGIN:VEVENT
DTSTART;TZID=America/New_York:20250408T121500
DTEND;TZID=America/New_York:20250408T141500
DTSTAMP:20260421T234533
CREATED:20250317T151933Z
LAST-MODIFIED:20250317T152003Z
UID:10012772-1744114500-1744121700@www.brooklyn.edu
SUMMARY:Meal Prep Workshop (Brooklyn College Community Fridge)
DESCRIPTION:Teach participants how to efficiently plan\, prepare\, and store meals for the week. Discussion on the benefits of meal prepping and setting personal goals.
URL:https://www.brooklyn.edu/event/meal-prep-workshop-brooklyn-college-community-fridge/
LOCATION:Ingersoll Hall\, Room 5129
CATEGORIES:Health and Nutrition Sciences
GEO:40.6309;-73.95122
END:VEVENT
END:VCALENDAR