BEGIN:VCALENDAR
VERSION:2.0
PRODID:-//Brooklyn College - ECPv6.15.12.2//NONSGML v1.0//EN
CALSCALE:GREGORIAN
METHOD:PUBLISH
X-WR-CALNAME:Brooklyn College
X-ORIGINAL-URL:https://www.brooklyn.edu
X-WR-CALDESC:Events for Brooklyn College
REFRESH-INTERVAL;VALUE=DURATION:PT1H
X-Robots-Tag:noindex
X-PUBLISHED-TTL:PT1H
BEGIN:VTIMEZONE
TZID:America/New_York
BEGIN:DAYLIGHT
TZOFFSETFROM:-0500
TZOFFSETTO:-0400
TZNAME:EDT
DTSTART:20240310T070000
END:DAYLIGHT
BEGIN:STANDARD
TZOFFSETFROM:-0400
TZOFFSETTO:-0500
TZNAME:EST
DTSTART:20241103T060000
END:STANDARD
BEGIN:DAYLIGHT
TZOFFSETFROM:-0500
TZOFFSETTO:-0400
TZNAME:EDT
DTSTART:20250309T070000
END:DAYLIGHT
BEGIN:STANDARD
TZOFFSETFROM:-0400
TZOFFSETTO:-0500
TZNAME:EST
DTSTART:20251102T060000
END:STANDARD
BEGIN:DAYLIGHT
TZOFFSETFROM:-0500
TZOFFSETTO:-0400
TZNAME:EDT
DTSTART:20260308T070000
END:DAYLIGHT
BEGIN:STANDARD
TZOFFSETFROM:-0400
TZOFFSETTO:-0500
TZNAME:EST
DTSTART:20261101T060000
END:STANDARD
END:VTIMEZONE
BEGIN:VEVENT
DTSTART;TZID=America/New_York:20251106T173000
DTEND;TZID=America/New_York:20251106T190000
DTSTAMP:20260421T080659
CREATED:20250922T140820Z
LAST-MODIFIED:20251028T201523Z
UID:10013108-1762450200-1762455600@www.brooklyn.edu
SUMMARY:Conservatory Orchestra II
DESCRIPTION:5:30-7 p.m. performance\nDon Buchwald Theater \nPurchase Tickets \nBeethoven\, Coriolan Overture; Grieg\, Peer Gynt Suite No. 2; Grieg\, In the Hall of the Mountain King; Debussy\, Clair de Lune; Chabrier\, Habanera \n 
URL:https://www.brooklyn.edu/event/conservatory-orchestra-ii/
LOCATION:Leonard & Claire Tow Center for the Performing Arts\, Don Buchwald Theater
CATEGORIES:Academics,Alumni,Conservatory of Music,Leonard & Claire Tow Center for the Performing Arts,School of Visual, Media and Performing Arts
ATTACH;FMTTYPE=image/jpeg:https://www.brooklyn.edu/wp-content/uploads/8p0aO_U8.jpeg
ORGANIZER;CN="Conservatory of Music":MAILTO:bstrasberg@brooklyn.cuny.edu
GEO:40.63169;-73.94867
END:VEVENT
BEGIN:VEVENT
DTSTART;TZID=America/New_York:20251104T193000
DTEND;TZID=America/New_York:20251104T214500
DTSTAMP:20260421T080659
CREATED:20250916T185705Z
LAST-MODIFIED:20250916T190126Z
UID:10013099-1762284600-1762292700@www.brooklyn.edu
SUMMARY:Marcus; or The Secret of Sweet by Tarell Alvin McCraney  
DESCRIPTION:Directed by Irvin Mason\, Jr.\nOctober 31\, November 1\, 3–4 at 7:30 p.m. and November 1 at 2 p.m.\nDon Buchwald Theater \nMarcus is sixteen. And “sweet.”\nThat’s what folks say — in whispers\, in warnings\, in the way they look but don’t speak.\nDays before Hurricane Katrina strikes\, Marcus begins searching —\nfor his father’s past\, his own truth\, and a name for the sweetness he carries.\nSet in the housing projects of San Pere\, Louisiana\,\nthis coming-of-age story blends grief\, queerness\, and Southern Black tradition\nwith the lyricism of Yoruba spirituality and community memory.\nMarcus; or the Secret of Sweet is the final story in Tarell Alvin McCraney’s Brother/Sister trilogy.\nIt’s fierce. Funny. Full of spirit.\nA baptism in rain\, rhythm\, and revelation.\nCome if you are ready to listen.\nTo witness.\nTo sit with the things that go unsaid\,\nthe truths that live in gesture\,\nglance\,\nand rain. \nPurchase Tickets \n  \n 
URL:https://www.brooklyn.edu/event/marcus-or-the-secret-of-sweet-by-tarell-alvin-mccraney/2025-11-04/
LOCATION:Leonard & Claire Tow Center for the Performing Arts\, Don Buchwald Theater
CATEGORIES:Academics,Alumni,Leonard & Claire Tow Center for the Performing Arts,School of Visual, Media and Performing Arts,Theater
ATTACH;FMTTYPE=image/jpeg:https://www.brooklyn.edu/wp-content/uploads/2025/09/TOW-Marcus.jpg
ORGANIZER;CN="Theater":MAILTO:theater@brooklyn.cuny.edu
GEO:40.63169;-73.94867
END:VEVENT
BEGIN:VEVENT
DTSTART;TZID=America/New_York:20251103T193000
DTEND;TZID=America/New_York:20251103T214500
DTSTAMP:20260421T080659
CREATED:20250916T185705Z
LAST-MODIFIED:20250916T190126Z
UID:10013098-1762198200-1762206300@www.brooklyn.edu
SUMMARY:Marcus; or The Secret of Sweet by Tarell Alvin McCraney  
DESCRIPTION:Directed by Irvin Mason\, Jr.\nOctober 31\, November 1\, 3–4 at 7:30 p.m. and November 1 at 2 p.m.\nDon Buchwald Theater \nMarcus is sixteen. And “sweet.”\nThat’s what folks say — in whispers\, in warnings\, in the way they look but don’t speak.\nDays before Hurricane Katrina strikes\, Marcus begins searching —\nfor his father’s past\, his own truth\, and a name for the sweetness he carries.\nSet in the housing projects of San Pere\, Louisiana\,\nthis coming-of-age story blends grief\, queerness\, and Southern Black tradition\nwith the lyricism of Yoruba spirituality and community memory.\nMarcus; or the Secret of Sweet is the final story in Tarell Alvin McCraney’s Brother/Sister trilogy.\nIt’s fierce. Funny. Full of spirit.\nA baptism in rain\, rhythm\, and revelation.\nCome if you are ready to listen.\nTo witness.\nTo sit with the things that go unsaid\,\nthe truths that live in gesture\,\nglance\,\nand rain. \nPurchase Tickets \n  \n 
URL:https://www.brooklyn.edu/event/marcus-or-the-secret-of-sweet-by-tarell-alvin-mccraney/2025-11-03/
LOCATION:Leonard & Claire Tow Center for the Performing Arts\, Don Buchwald Theater
CATEGORIES:Academics,Alumni,Leonard & Claire Tow Center for the Performing Arts,School of Visual, Media and Performing Arts,Theater
ATTACH;FMTTYPE=image/jpeg:https://www.brooklyn.edu/wp-content/uploads/2025/09/TOW-Marcus.jpg
ORGANIZER;CN="Theater":MAILTO:theater@brooklyn.cuny.edu
GEO:40.63169;-73.94867
END:VEVENT
BEGIN:VEVENT
DTSTART;TZID=America/New_York:20251101T190000
DTEND;TZID=America/New_York:20251101T214500
DTSTAMP:20260421T080659
CREATED:20250916T185705Z
LAST-MODIFIED:20250916T190126Z
UID:10013097-1762023600-1762033500@www.brooklyn.edu
SUMMARY:Marcus; or The Secret of Sweet by Tarell Alvin McCraney  
DESCRIPTION:Directed by Irvin Mason\, Jr.\nOctober 31\, November 1\, 3–4 at 7:30 p.m. and November 1 at 2 p.m.\nDon Buchwald Theater \nMarcus is sixteen. And “sweet.”\nThat’s what folks say — in whispers\, in warnings\, in the way they look but don’t speak.\nDays before Hurricane Katrina strikes\, Marcus begins searching —\nfor his father’s past\, his own truth\, and a name for the sweetness he carries.\nSet in the housing projects of San Pere\, Louisiana\,\nthis coming-of-age story blends grief\, queerness\, and Southern Black tradition\nwith the lyricism of Yoruba spirituality and community memory.\nMarcus; or the Secret of Sweet is the final story in Tarell Alvin McCraney’s Brother/Sister trilogy.\nIt’s fierce. Funny. Full of spirit.\nA baptism in rain\, rhythm\, and revelation.\nCome if you are ready to listen.\nTo witness.\nTo sit with the things that go unsaid\,\nthe truths that live in gesture\,\nglance\,\nand rain. \nPurchase Tickets \n  \n 
URL:https://www.brooklyn.edu/event/marcus-or-the-secret-of-sweet-by-tarell-alvin-mccraney/2025-11-01/2/
LOCATION:Leonard & Claire Tow Center for the Performing Arts\, Don Buchwald Theater
CATEGORIES:Academics,Alumni,Leonard & Claire Tow Center for the Performing Arts,School of Visual, Media and Performing Arts,Theater
ATTACH;FMTTYPE=image/jpeg:https://www.brooklyn.edu/wp-content/uploads/2025/09/TOW-Marcus.jpg
ORGANIZER;CN="Theater":MAILTO:theater@brooklyn.cuny.edu
GEO:40.63169;-73.94867
END:VEVENT
BEGIN:VEVENT
DTSTART;TZID=America/New_York:20251101T140000
DTEND;TZID=America/New_York:20251101T161500
DTSTAMP:20260421T080659
CREATED:20250916T185705Z
LAST-MODIFIED:20250916T190126Z
UID:10013096-1762005600-1762013700@www.brooklyn.edu
SUMMARY:Marcus; or The Secret of Sweet by Tarell Alvin McCraney  
DESCRIPTION:Directed by Irvin Mason\, Jr.\nOctober 31\, November 1\, 3–4 at 7:30 p.m. and November 1 at 2 p.m.\nDon Buchwald Theater \nMarcus is sixteen. And “sweet.”\nThat’s what folks say — in whispers\, in warnings\, in the way they look but don’t speak.\nDays before Hurricane Katrina strikes\, Marcus begins searching —\nfor his father’s past\, his own truth\, and a name for the sweetness he carries.\nSet in the housing projects of San Pere\, Louisiana\,\nthis coming-of-age story blends grief\, queerness\, and Southern Black tradition\nwith the lyricism of Yoruba spirituality and community memory.\nMarcus; or the Secret of Sweet is the final story in Tarell Alvin McCraney’s Brother/Sister trilogy.\nIt’s fierce. Funny. Full of spirit.\nA baptism in rain\, rhythm\, and revelation.\nCome if you are ready to listen.\nTo witness.\nTo sit with the things that go unsaid\,\nthe truths that live in gesture\,\nglance\,\nand rain. \nPurchase Tickets \n  \n 
URL:https://www.brooklyn.edu/event/marcus-or-the-secret-of-sweet-by-tarell-alvin-mccraney/2025-11-01/1/
LOCATION:Leonard & Claire Tow Center for the Performing Arts\, Don Buchwald Theater
CATEGORIES:Academics,Alumni,Leonard & Claire Tow Center for the Performing Arts,School of Visual, Media and Performing Arts,Theater
ATTACH;FMTTYPE=image/jpeg:https://www.brooklyn.edu/wp-content/uploads/2025/09/TOW-Marcus.jpg
ORGANIZER;CN="Theater":MAILTO:theater@brooklyn.cuny.edu
GEO:40.63169;-73.94867
END:VEVENT
BEGIN:VEVENT
DTSTART;TZID=America/New_York:20251031T193000
DTEND;TZID=America/New_York:20251031T214500
DTSTAMP:20260421T080659
CREATED:20250916T185705Z
LAST-MODIFIED:20250916T190126Z
UID:10013095-1761939000-1761947100@www.brooklyn.edu
SUMMARY:Marcus; or The Secret of Sweet by Tarell Alvin McCraney  
DESCRIPTION:Directed by Irvin Mason\, Jr.\nOctober 31\, November 1\, 3–4 at 7:30 p.m. and November 1 at 2 p.m.\nDon Buchwald Theater \nMarcus is sixteen. And “sweet.”\nThat’s what folks say — in whispers\, in warnings\, in the way they look but don’t speak.\nDays before Hurricane Katrina strikes\, Marcus begins searching —\nfor his father’s past\, his own truth\, and a name for the sweetness he carries.\nSet in the housing projects of San Pere\, Louisiana\,\nthis coming-of-age story blends grief\, queerness\, and Southern Black tradition\nwith the lyricism of Yoruba spirituality and community memory.\nMarcus; or the Secret of Sweet is the final story in Tarell Alvin McCraney’s Brother/Sister trilogy.\nIt’s fierce. Funny. Full of spirit.\nA baptism in rain\, rhythm\, and revelation.\nCome if you are ready to listen.\nTo witness.\nTo sit with the things that go unsaid\,\nthe truths that live in gesture\,\nglance\,\nand rain. \nPurchase Tickets \n  \n 
URL:https://www.brooklyn.edu/event/marcus-or-the-secret-of-sweet-by-tarell-alvin-mccraney/2025-10-31/
LOCATION:Leonard & Claire Tow Center for the Performing Arts\, Don Buchwald Theater
CATEGORIES:Academics,Alumni,Leonard & Claire Tow Center for the Performing Arts,School of Visual, Media and Performing Arts,Theater
ATTACH;FMTTYPE=image/jpeg:https://www.brooklyn.edu/wp-content/uploads/2025/09/TOW-Marcus.jpg
ORGANIZER;CN="Theater":MAILTO:theater@brooklyn.cuny.edu
GEO:40.63169;-73.94867
END:VEVENT
BEGIN:VEVENT
DTSTART;TZID=America/New_York:20250930T173000
DTEND;TZID=America/New_York:20250930T190000
DTSTAMP:20260421T080659
CREATED:20250916T181601Z
LAST-MODIFIED:20250916T181706Z
UID:10013083-1759253400-1759258800@www.brooklyn.edu
SUMMARY:Conservatory Orchestra I
DESCRIPTION:George Rothman\, Conductor\nProgram: Mozart\, Don Giovanni Overture; Bizet\, L’Arlésienne Suite No. 2; Piazzolla\, Fuga y Misterio and Oblivion \nTuesday\, September 30\, 5:30 p.m.\nDon Buchwald Theater; $5 general admission \nPurchase Tickets
URL:https://www.brooklyn.edu/event/conservatory-orchestra-i/
LOCATION:Leonard & Claire Tow Center for the Performing Arts\, Don Buchwald Theater
CATEGORIES:Academics,Alumni,Conservatory of Music,Leonard & Claire Tow Center for the Performing Arts,School of Visual, Media and Performing Arts
ATTACH;FMTTYPE=image/jpeg:https://www.brooklyn.edu/wp-content/uploads/gyNT6CUu.jpeg
ORGANIZER;CN="Conservatory of Music":MAILTO:bstrasberg@brooklyn.cuny.edu
GEO:40.63169;-73.94867
END:VEVENT
BEGIN:VEVENT
DTSTART;TZID=America/New_York:20250925T123000
DTEND;TZID=America/New_York:20250925T133000
DTSTAMP:20260421T080659
CREATED:20250916T181031Z
LAST-MODIFIED:20250916T181031Z
UID:10013080-1758803400-1758807000@www.brooklyn.edu
SUMMARY:Faculty Recital: Sidney Outlaw\, Baritone with Warren Jones\, Piano
DESCRIPTION:12:30-1:30 p.m. performance\nDon Buchwald Theater \nPurchase Tickets \nRemarkable baritone will give a concert featuring 26 Ways of Looking at a Black Man\, a groundbreaking piece by Dr. B.E. Boykin that is highlighted on Prof. Outlaw’s new CD\, along with Rossini art songs and Schumann’s Liederkreis\, op. 24.
URL:https://www.brooklyn.edu/event/faculty-recital-sidney-outlaw-baritone-with-warren-jones-piano/
LOCATION:Leonard & Claire Tow Center for the Performing Arts\, Don Buchwald Theater
CATEGORIES:Academics,Alumni,Conservatory of Music,Faculty,Leonard & Claire Tow Center for the Performing Arts,School of Visual, Media and Performing Arts
ORGANIZER;CN="Conservatory of Music":MAILTO:bstrasberg@brooklyn.cuny.edu
GEO:40.63169;-73.94867
END:VEVENT
BEGIN:VEVENT
DTSTART;TZID=America/New_York:20250911T130000
DTEND;TZID=America/New_York:20250911T143000
DTSTAMP:20260421T080659
CREATED:20250904T202418Z
LAST-MODIFIED:20250910T185355Z
UID:10013048-1757595600-1757601000@www.brooklyn.edu
SUMMARY:Guest Recital: Mark Kroll\, harpsichord
DESCRIPTION:A concert performance and seminar.
URL:https://www.brooklyn.edu/event/guest-recital-mark-kroll-harpsichord/
LOCATION:Leonard & Claire Tow Center for the Performing Arts\, Don Buchwald Theater
CATEGORIES:Conservatory of Music,School of Visual, Media and Performing Arts
ATTACH;FMTTYPE=image/jpeg:https://www.brooklyn.edu/wp-content/uploads/NEWS-250903-Harpsichord-Mark-Kroll-Featured-1200x960-1.jpg
GEO:40.63169;-73.94867
END:VEVENT
BEGIN:VEVENT
DTSTART;TZID=America/New_York:20250910T170000
DTEND;TZID=America/New_York:20250910T183000
DTSTAMP:20260421T080659
CREATED:20250904T202155Z
LAST-MODIFIED:20250910T185413Z
UID:10013047-1757523600-1757529000@www.brooklyn.edu
SUMMARY:Chamber Music Masterclass: Mark Kroll\, harpsichord
DESCRIPTION:Guest artist Mark Kroll will conduct a masterclass for Conservatory instrumentalists.
URL:https://www.brooklyn.edu/event/chamber-music-masterclass-mark-kroll-harpsichord/
LOCATION:Leonard & Claire Tow Center for the Performing Arts\, Don Buchwald Theater
CATEGORIES:Conservatory of Music,School of Visual, Media and Performing Arts
ATTACH;FMTTYPE=image/jpeg:https://www.brooklyn.edu/wp-content/uploads/NEWS-250903-Harpsichord-Mark-Kroll-Featured-1200x960-1.jpg
GEO:40.63169;-73.94867
END:VEVENT
BEGIN:VEVENT
DTSTART;TZID=America/New_York:20250530T100000
DTEND;TZID=America/New_York:20250530T190000
DTSTAMP:20260421T080659
CREATED:20250527T134954Z
LAST-MODIFIED:20250529T135838Z
UID:10012901-1748599200-1748631600@www.brooklyn.edu
SUMMARY:43rd Annual Undergraduate Film Festival
DESCRIPTION:Join us for the 43rd Annual Brooklyn College Undergraduate Film Festival in the Don Buchwald Theater in the Leonard & Claire Tow Center for the Performing Arts. \nScreenings are at 10 a.m.\, 1 p.m.\, 4 p.m.\, and 7 p.m. followed by an Awards Ceremony at 9 p.m. This is an annual event celebrating the talented\, hard-working\, and resilient film students in the undergraduate Film Department. This event is free and open to the public. \nReserve tickets here.
URL:https://www.brooklyn.edu/event/43rd-annual-undergraduate-film-festival/
LOCATION:Leonard & Claire Tow Center for the Performing Arts\, Don Buchwald Theater
ATTACH;FMTTYPE=image/jpeg:https://www.brooklyn.edu/wp-content/uploads/1200x960-FILM-230125-01-5-programOverview4-1.jpg
GEO:40.63169;-73.94867
END:VEVENT
BEGIN:VEVENT
DTSTART;TZID=America/New_York:20250517T160000
DTEND;TZID=America/New_York:20250517T173000
DTSTAMP:20260421T080659
CREATED:20250325T181042Z
LAST-MODIFIED:20250325T181548Z
UID:10012796-1747497600-1747503000@www.brooklyn.edu
SUMMARY:Undergraduate Recital: Nephreti Britt\, piano
DESCRIPTION:Doors open 30 minutes before performance\nDon Buchwald Theater\nFree to all
URL:https://www.brooklyn.edu/event/undergraduate-recital-nephreti-britt-piano/
LOCATION:Leonard & Claire Tow Center for the Performing Arts\, Don Buchwald Theater
CATEGORIES:Academics,Alumni,Conservatory of Music,Leonard & Claire Tow Center for the Performing Arts,School of Visual, Media and Performing Arts
ORGANIZER;CN="Conservatory of Music":MAILTO:bstrasberg@brooklyn.cuny.edu
GEO:40.63169;-73.94867
END:VEVENT
BEGIN:VEVENT
DTSTART;TZID=America/New_York:20250502T190000
DTEND;TZID=America/New_York:20250502T210000
DTSTAMP:20260421T080659
CREATED:20250114T205944Z
LAST-MODIFIED:20250428T191321Z
UID:10012459-1746212400-1746219600@www.brooklyn.edu
SUMMARY:Guest Recital With Celebrated Pianist Mikhail Voskresensky
DESCRIPTION:Experience the brilliance of Mikhail Voskresensky\, a celebrated Russian virtuoso\, esteemed educator\, and former head of the Moscow Conservatory\, whose artistry has captivated audiences around the world. \nAfter his courageous emigration to the U.S. in response to the invasion of Ukraine\, Voskresensky returns for an unforgettable recital\, showcasing timeless works from the classical and Romantic eras. Repertoire: Beethoven (Sonata No. 25 in G major\, op. 79); Chopin (Sonata No. 3 in B minor\, op. 58); Mozart (Fantasy in C minor\, K.396); Tchaikovsky (Autumnal Song -October\, In the Troika- November from The Seasons\, op. 37bis); Grieg (Sonata in E minor\, op. 7). The performance will be from 7-9 p.m. in the Leonard & Claire Tow Center for the Performing Arts\, Don Buchwald Theater. \nDon’t miss this rare opportunity to hear one of the finest pianists of our time perform live. Tickets are only $15\, and can be purchased here. Students can attend for free with a valid student ID. \nOn December 6\, 2024\, Voskresensky left an indelible mark at Brooklyn College Conservatory of Music\, where he conducted a captivating\, free master class for over two hours\, guiding talented students Alice Tung\, Nikita Tumanov\, and Jason Ruan. Watch the highlights from that inspiring session here and get a taste of the passion and expertise he brings to every performance and lesson.
URL:https://www.brooklyn.edu/event/guest-recital-with-celebrated-pianist-mikhail-voskresensky/
LOCATION:Leonard & Claire Tow Center for the Performing Arts\, Don Buchwald Theater
CATEGORIES:Alumni,Conservatory of Music,Leonard & Claire Tow Center for the Performing Arts
ATTACH;FMTTYPE=image/jpeg:https://www.brooklyn.edu/wp-content/uploads/NEWS-250317-Mikhail-Voskresensky-Featured-1200x960-1.jpg
GEO:40.63169;-73.94867
END:VEVENT
BEGIN:VEVENT
DTSTART;TZID=America/New_York:20250412T110000
DTEND;TZID=America/New_York:20250412T143000
DTSTAMP:20260421T080659
CREATED:20240925T141605Z
LAST-MODIFIED:20240925T141742Z
UID:10010281-1744455600-1744468200@www.brooklyn.edu
SUMMARY:Preparatory Center – Music
DESCRIPTION:10:45 a.m. doors / 11-2:30 p.m. performance\nDon Buchwald Theater\nFree to all \nSince 1978\, the Preparatory Center for the Performing Arts for the Performing Arts at Brooklyn College has provided a nurturing and fun setting where our talented\, professional artist-teachers develop children’s skills in music\, theater\, and dance to their fullest potential.
URL:https://www.brooklyn.edu/event/preparatory-center-music-6/
LOCATION:Leonard & Claire Tow Center for the Performing Arts\, Don Buchwald Theater
CATEGORIES:Academics,Alumni,Leonard & Claire Tow Center for the Performing Arts,Preparatory Center for the Performing Arts
ATTACH;FMTTYPE=image/jpeg:https://www.brooklyn.edu/wp-content/uploads/2023-06-10-Prep-Center-Recital-Ari-Espay-web-res-26-1.jpg
ORGANIZER;CN="Preparatory Center for the Performing Arts":MAILTO:bcpc@brooklyn.cuny.edu
GEO:40.63169;-73.94867
END:VEVENT
BEGIN:VEVENT
DTSTART;TZID=America/New_York:20250408T190000
DTEND;TZID=America/New_York:20250408T210000
DTSTAMP:20260421T080659
CREATED:20250329T022648Z
LAST-MODIFIED:20250329T025334Z
UID:10012805-1744138800-1744146000@www.brooklyn.edu
SUMMARY:Faculty Recital With Jeffrey Biegel
DESCRIPTION:Program \nBach:\nToccata in D minor \nBeethoven:\nSonata in F minor\, Opus 57 (Appassionata) \n(Intermission) \nChopin: \nBarcarolle in F-sharp Major\, Opus 60 \nBallade No. 1 in G minor\, Opus 23 \nAndante Spianato et Grande Polonaise \n\n\n 
URL:https://www.brooklyn.edu/event/faculty-recital-with-jeffrey-biegel/
LOCATION:Leonard & Claire Tow Center for the Performing Arts\, Don Buchwald Theater
CATEGORIES:Conservatory of Music
ATTACH;FMTTYPE=image/jpeg:https://www.brooklyn.edu/wp-content/uploads/NEWS-240216-Rhapsody-Jeffrey-Biegel-Featured.jpg
GEO:40.63169;-73.94867
END:VEVENT
END:VCALENDAR