BEGIN:VCALENDAR
VERSION:2.0
PRODID:-//Brooklyn College - ECPv6.15.12.2//NONSGML v1.0//EN
CALSCALE:GREGORIAN
METHOD:PUBLISH
X-ORIGINAL-URL:https://www.brooklyn.edu
X-WR-CALDESC:Events for Brooklyn College
REFRESH-INTERVAL;VALUE=DURATION:PT1H
X-Robots-Tag:noindex
X-PUBLISHED-TTL:PT1H
BEGIN:VTIMEZONE
TZID:America/New_York
BEGIN:DAYLIGHT
TZOFFSETFROM:-0500
TZOFFSETTO:-0400
TZNAME:EDT
DTSTART:20240310T070000
END:DAYLIGHT
BEGIN:STANDARD
TZOFFSETFROM:-0400
TZOFFSETTO:-0500
TZNAME:EST
DTSTART:20241103T060000
END:STANDARD
BEGIN:DAYLIGHT
TZOFFSETFROM:-0500
TZOFFSETTO:-0400
TZNAME:EDT
DTSTART:20250309T070000
END:DAYLIGHT
BEGIN:STANDARD
TZOFFSETFROM:-0400
TZOFFSETTO:-0500
TZNAME:EST
DTSTART:20251102T060000
END:STANDARD
BEGIN:DAYLIGHT
TZOFFSETFROM:-0500
TZOFFSETTO:-0400
TZNAME:EDT
DTSTART:20260308T070000
END:DAYLIGHT
BEGIN:STANDARD
TZOFFSETFROM:-0400
TZOFFSETTO:-0500
TZNAME:EST
DTSTART:20261101T060000
END:STANDARD
END:VTIMEZONE
BEGIN:VEVENT
DTSTART;TZID=America/New_York:20250530T100000
DTEND;TZID=America/New_York:20250530T190000
DTSTAMP:20260421T091906
CREATED:20250527T134954Z
LAST-MODIFIED:20250529T135838Z
UID:10012901-1748599200-1748631600@www.brooklyn.edu
SUMMARY:43rd Annual Undergraduate Film Festival
DESCRIPTION:Join us for the 43rd Annual Brooklyn College Undergraduate Film Festival in the Don Buchwald Theater in the Leonard & Claire Tow Center for the Performing Arts. \nScreenings are at 10 a.m.\, 1 p.m.\, 4 p.m.\, and 7 p.m. followed by an Awards Ceremony at 9 p.m. This is an annual event celebrating the talented\, hard-working\, and resilient film students in the undergraduate Film Department. This event is free and open to the public. \nReserve tickets here.
URL:https://www.brooklyn.edu/event/43rd-annual-undergraduate-film-festival/
LOCATION:Leonard & Claire Tow Center for the Performing Arts\, Don Buchwald Theater
ATTACH;FMTTYPE=image/jpeg:https://www.brooklyn.edu/wp-content/uploads/1200x960-FILM-230125-01-5-programOverview4-1.jpg
GEO:40.63169;-73.94867
END:VEVENT
BEGIN:VEVENT
DTSTART;TZID=America/New_York:20250517T160000
DTEND;TZID=America/New_York:20250517T173000
DTSTAMP:20260421T091906
CREATED:20250325T181042Z
LAST-MODIFIED:20250325T181548Z
UID:10012796-1747497600-1747503000@www.brooklyn.edu
SUMMARY:Undergraduate Recital: Nephreti Britt\, piano
DESCRIPTION:Doors open 30 minutes before performance\nDon Buchwald Theater\nFree to all
URL:https://www.brooklyn.edu/event/undergraduate-recital-nephreti-britt-piano/
LOCATION:Leonard & Claire Tow Center for the Performing Arts\, Don Buchwald Theater
CATEGORIES:Academics,Alumni,Conservatory of Music,Leonard & Claire Tow Center for the Performing Arts,School of Visual, Media and Performing Arts
ORGANIZER;CN="Conservatory of Music":MAILTO:bstrasberg@brooklyn.cuny.edu
GEO:40.63169;-73.94867
END:VEVENT
BEGIN:VEVENT
DTSTART;TZID=America/New_York:20250502T190000
DTEND;TZID=America/New_York:20250502T210000
DTSTAMP:20260421T091906
CREATED:20250114T205944Z
LAST-MODIFIED:20250428T191321Z
UID:10012459-1746212400-1746219600@www.brooklyn.edu
SUMMARY:Guest Recital With Celebrated Pianist Mikhail Voskresensky
DESCRIPTION:Experience the brilliance of Mikhail Voskresensky\, a celebrated Russian virtuoso\, esteemed educator\, and former head of the Moscow Conservatory\, whose artistry has captivated audiences around the world. \nAfter his courageous emigration to the U.S. in response to the invasion of Ukraine\, Voskresensky returns for an unforgettable recital\, showcasing timeless works from the classical and Romantic eras. Repertoire: Beethoven (Sonata No. 25 in G major\, op. 79); Chopin (Sonata No. 3 in B minor\, op. 58); Mozart (Fantasy in C minor\, K.396); Tchaikovsky (Autumnal Song -October\, In the Troika- November from The Seasons\, op. 37bis); Grieg (Sonata in E minor\, op. 7). The performance will be from 7-9 p.m. in the Leonard & Claire Tow Center for the Performing Arts\, Don Buchwald Theater. \nDon’t miss this rare opportunity to hear one of the finest pianists of our time perform live. Tickets are only $15\, and can be purchased here. Students can attend for free with a valid student ID. \nOn December 6\, 2024\, Voskresensky left an indelible mark at Brooklyn College Conservatory of Music\, where he conducted a captivating\, free master class for over two hours\, guiding talented students Alice Tung\, Nikita Tumanov\, and Jason Ruan. Watch the highlights from that inspiring session here and get a taste of the passion and expertise he brings to every performance and lesson.
URL:https://www.brooklyn.edu/event/guest-recital-with-celebrated-pianist-mikhail-voskresensky/
LOCATION:Leonard & Claire Tow Center for the Performing Arts\, Don Buchwald Theater
CATEGORIES:Alumni,Conservatory of Music,Leonard & Claire Tow Center for the Performing Arts
ATTACH;FMTTYPE=image/jpeg:https://www.brooklyn.edu/wp-content/uploads/NEWS-250317-Mikhail-Voskresensky-Featured-1200x960-1.jpg
GEO:40.63169;-73.94867
END:VEVENT
BEGIN:VEVENT
DTSTART;TZID=America/New_York:20250412T110000
DTEND;TZID=America/New_York:20250412T143000
DTSTAMP:20260421T091906
CREATED:20240925T141605Z
LAST-MODIFIED:20240925T141742Z
UID:10010281-1744455600-1744468200@www.brooklyn.edu
SUMMARY:Preparatory Center – Music
DESCRIPTION:10:45 a.m. doors / 11-2:30 p.m. performance\nDon Buchwald Theater\nFree to all \nSince 1978\, the Preparatory Center for the Performing Arts for the Performing Arts at Brooklyn College has provided a nurturing and fun setting where our talented\, professional artist-teachers develop children’s skills in music\, theater\, and dance to their fullest potential.
URL:https://www.brooklyn.edu/event/preparatory-center-music-6/
LOCATION:Leonard & Claire Tow Center for the Performing Arts\, Don Buchwald Theater
CATEGORIES:Academics,Alumni,Leonard & Claire Tow Center for the Performing Arts,Preparatory Center for the Performing Arts
ATTACH;FMTTYPE=image/jpeg:https://www.brooklyn.edu/wp-content/uploads/2023-06-10-Prep-Center-Recital-Ari-Espay-web-res-26-1.jpg
ORGANIZER;CN="Preparatory Center for the Performing Arts":MAILTO:bcpc@brooklyn.cuny.edu
GEO:40.63169;-73.94867
END:VEVENT
BEGIN:VEVENT
DTSTART;TZID=America/New_York:20250408T190000
DTEND;TZID=America/New_York:20250408T210000
DTSTAMP:20260421T091906
CREATED:20250329T022648Z
LAST-MODIFIED:20250329T025334Z
UID:10012805-1744138800-1744146000@www.brooklyn.edu
SUMMARY:Faculty Recital With Jeffrey Biegel
DESCRIPTION:Program \nBach:\nToccata in D minor \nBeethoven:\nSonata in F minor\, Opus 57 (Appassionata) \n(Intermission) \nChopin: \nBarcarolle in F-sharp Major\, Opus 60 \nBallade No. 1 in G minor\, Opus 23 \nAndante Spianato et Grande Polonaise \n\n\n 
URL:https://www.brooklyn.edu/event/faculty-recital-with-jeffrey-biegel/
LOCATION:Leonard & Claire Tow Center for the Performing Arts\, Don Buchwald Theater
CATEGORIES:Conservatory of Music
ATTACH;FMTTYPE=image/jpeg:https://www.brooklyn.edu/wp-content/uploads/NEWS-240216-Rhapsody-Jeffrey-Biegel-Featured.jpg
GEO:40.63169;-73.94867
END:VEVENT
END:VCALENDAR