BEGIN:VCALENDAR
VERSION:2.0
PRODID:-//Brooklyn College - ECPv6.15.12.2//NONSGML v1.0//EN
CALSCALE:GREGORIAN
METHOD:PUBLISH
X-WR-CALNAME:Brooklyn College
X-ORIGINAL-URL:https://www.brooklyn.edu
X-WR-CALDESC:Events for Brooklyn College
REFRESH-INTERVAL;VALUE=DURATION:PT1H
X-Robots-Tag:noindex
X-PUBLISHED-TTL:PT1H
BEGIN:VTIMEZONE
TZID:America/New_York
BEGIN:DAYLIGHT
TZOFFSETFROM:-0500
TZOFFSETTO:-0400
TZNAME:EDT
DTSTART:20240310T070000
END:DAYLIGHT
BEGIN:STANDARD
TZOFFSETFROM:-0400
TZOFFSETTO:-0500
TZNAME:EST
DTSTART:20241103T060000
END:STANDARD
BEGIN:DAYLIGHT
TZOFFSETFROM:-0500
TZOFFSETTO:-0400
TZNAME:EDT
DTSTART:20250309T070000
END:DAYLIGHT
BEGIN:STANDARD
TZOFFSETFROM:-0400
TZOFFSETTO:-0500
TZNAME:EST
DTSTART:20251102T060000
END:STANDARD
BEGIN:DAYLIGHT
TZOFFSETFROM:-0500
TZOFFSETTO:-0400
TZNAME:EDT
DTSTART:20260308T070000
END:DAYLIGHT
BEGIN:STANDARD
TZOFFSETFROM:-0400
TZOFFSETTO:-0500
TZNAME:EST
DTSTART:20261101T060000
END:STANDARD
END:VTIMEZONE
BEGIN:VEVENT
DTSTART;TZID=America/New_York:20251030T193000
DTEND;TZID=America/New_York:20251030T213000
DTSTAMP:20260419T170552
CREATED:20250922T133648Z
LAST-MODIFIED:20251020T130158Z
UID:10013104-1761852600-1761859800@www.brooklyn.edu
SUMMARY:Faculty Recital: Beatrice Long\, piano with violinist Kyung Sun Lee
DESCRIPTION:7:30-9:30 p.m. performance\nTopfer Recital Hall \nFrench Masterpieces for Violin and Piano: Debussy\, Sonata for Violin and Piano in G minor; Fauré\, Sonata for Violin and Piano in A major\, op. 13; Sarasate\, Zigeunerweisen (Gypsy Airs)\, op. 20 \nPurchase Tickets
URL:https://www.brooklyn.edu/event/faculty-recital-beatrice-long-piano-with-violinist-kyung-sun-lee/
LOCATION:Leonard & Claire Tow Center for the Performing Arts\, Topfer Rehearsal Studio
CATEGORIES:Academics,Alumni,Conservatory of Music,Faculty,Leonard & Claire Tow Center for the Performing Arts,School of Visual, Media and Performing Arts
ORGANIZER;CN="Conservatory of Music":MAILTO:bstrasberg@brooklyn.cuny.edu
GEO:40.63159;-73.94897
END:VEVENT
BEGIN:VEVENT
DTSTART;TZID=America/New_York:20251030T130000
DTEND;TZID=America/New_York:20251030T140000
DTSTAMP:20260419T170552
CREATED:20241002T134000Z
LAST-MODIFIED:20250916T184729Z
UID:10010226-1761829200-1761832800@www.brooklyn.edu
SUMMARY:Afternoons at the Piano I
DESCRIPTION:1-2 p.m. performance\nTopfer Rehearsal Studio\nFree to all \nConservatory of Music pianists perform solo works.
URL:https://www.brooklyn.edu/event/afternoons-at-the-piano-i/
LOCATION:Leonard & Claire Tow Center for the Performing Arts\, Topfer Rehearsal Studio
CATEGORIES:Academics,Alumni,Conservatory of Music,Leonard & Claire Tow Center for the Performing Arts,School of Visual, Media and Performing Arts
ATTACH;FMTTYPE=image/jpeg:https://www.brooklyn.edu/wp-content/uploads/TOW-Event-Piano-231102-4.jpg
ORGANIZER;CN="Conservatory of Music":MAILTO:bstrasberg@brooklyn.cuny.edu
GEO:40.63159;-73.94897
END:VEVENT
BEGIN:VEVENT
DTSTART;TZID=America/New_York:20251022T170000
DTEND;TZID=America/New_York:20251022T183000
DTSTAMP:20260419T170552
CREATED:20250916T184131Z
LAST-MODIFIED:20250916T184131Z
UID:10013089-1761152400-1761157800@www.brooklyn.edu
SUMMARY:Music from the Conservatory I
DESCRIPTION:5-6:30 p.m. performance\nTopfer Rehearsal Studio\nFree to all \nConservatory of Music students present performances of solo repertoire.
URL:https://www.brooklyn.edu/event/music-from-the-conservatory-i-3/
LOCATION:Leonard & Claire Tow Center for the Performing Arts\, Topfer Rehearsal Studio
CATEGORIES:Academics,Alumni,Conservatory of Music,Leonard & Claire Tow Center for the Performing Arts,School of Visual, Media and Performing Arts
ATTACH;FMTTYPE=image/jpeg:https://www.brooklyn.edu/wp-content/uploads/TOW-Music-from-the-Conservatory.jpg
ORGANIZER;CN="Conservatory of Music":MAILTO:bstrasberg@brooklyn.cuny.edu
GEO:40.63159;-73.94897
END:VEVENT
BEGIN:VEVENT
DTSTART;TZID=America/New_York:20251016T130000
DTEND;TZID=America/New_York:20251016T140000
DTSTAMP:20260419T170552
CREATED:20250916T183605Z
LAST-MODIFIED:20250923T160959Z
UID:10010248-1760619600-1760623200@www.brooklyn.edu
SUMMARY:Afternoon Chamber Music I
DESCRIPTION:Conservatory of Music students present chamber works. \nFree. \n1-2 p.m. performance\nTopfer Rehearsal Studio
URL:https://www.brooklyn.edu/event/afternoon-chamber-music-i/2025-10-16/
LOCATION:Leonard & Claire Tow Center for the Performing Arts\, Topfer Rehearsal Studio
CATEGORIES:Academics,Alumni,Conservatory of Music,Leonard & Claire Tow Center for the Performing Arts,School of Visual, Media and Performing Arts
ATTACH;FMTTYPE=image/jpeg:https://www.brooklyn.edu/wp-content/uploads/TOW–Afternoon-Chamber-Music.jpg
ORGANIZER;CN="Conservatory of Music":MAILTO:bstrasberg@brooklyn.cuny.edu
GEO:40.63159;-73.94897
END:VEVENT
END:VCALENDAR