BEGIN:VCALENDAR
VERSION:2.0
PRODID:-//Brooklyn College - ECPv6.15.12.2//NONSGML v1.0//EN
CALSCALE:GREGORIAN
METHOD:PUBLISH
X-WR-CALNAME:Brooklyn College
X-ORIGINAL-URL:https://www.brooklyn.edu
X-WR-CALDESC:Events for Brooklyn College
REFRESH-INTERVAL;VALUE=DURATION:PT1H
X-Robots-Tag:noindex
X-PUBLISHED-TTL:PT1H
BEGIN:VTIMEZONE
TZID:America/New_York
BEGIN:DAYLIGHT
TZOFFSETFROM:-0500
TZOFFSETTO:-0400
TZNAME:EDT
DTSTART:20240310T070000
END:DAYLIGHT
BEGIN:STANDARD
TZOFFSETFROM:-0400
TZOFFSETTO:-0500
TZNAME:EST
DTSTART:20241103T060000
END:STANDARD
BEGIN:DAYLIGHT
TZOFFSETFROM:-0500
TZOFFSETTO:-0400
TZNAME:EDT
DTSTART:20250309T070000
END:DAYLIGHT
BEGIN:STANDARD
TZOFFSETFROM:-0400
TZOFFSETTO:-0500
TZNAME:EST
DTSTART:20251102T060000
END:STANDARD
BEGIN:DAYLIGHT
TZOFFSETFROM:-0500
TZOFFSETTO:-0400
TZNAME:EDT
DTSTART:20260308T070000
END:DAYLIGHT
BEGIN:STANDARD
TZOFFSETFROM:-0400
TZOFFSETTO:-0500
TZNAME:EST
DTSTART:20261101T060000
END:STANDARD
END:VTIMEZONE
BEGIN:VEVENT
DTSTART;TZID=America/New_York:20251015T160000
DTEND;TZID=America/New_York:20251015T200000
DTSTAMP:20260422T092016
CREATED:20250825T185035Z
LAST-MODIFIED:20250825T185035Z
UID:10013036-1760544000-1760558400@www.brooklyn.edu
SUMMARY:BLMI 15th Anniversary Gala
DESCRIPTION:Formerly known as ERIS (Empowering\, Recruiting\, Investing\, and Supporting)\, the Black and Latino Male Initiative has cultivated several generations of scholars\, leaders\, mentors\, and professionals. Join us as we honor BLMI’s rich legacy of nearly two decades as an epicenter for community\, inspiration\, and perseverance at Brooklyn College.
URL:https://www.brooklyn.edu/event/blmi-15th-anniversary-gala/
LOCATION:Leonard & Claire Tow Center for the Performing Arts\, Lobby
CATEGORIES:Student Affairs
ORGANIZER;CN="BLMI":MAILTO:blmi@brooklyn.cuny.edu
GEO:40.63184;-73.94892
END:VEVENT
BEGIN:VEVENT
DTSTART;TZID=America/New_York:20250513T123000
DTEND;TZID=America/New_York:20250513T150000
DTSTAMP:20260422T092016
CREATED:20250307T205631Z
LAST-MODIFIED:20250324T181140Z
UID:10012750-1747139400-1747148400@www.brooklyn.edu
SUMMARY:Lavender Graduation
DESCRIPTION:Lavender Graduation is a celebration\, a declaration\, and a refusal to be erased. It honors LGBTQIA+ students who have navigated academic institutions that were not always built with them in mind—students who have excelled\, led\, and fought for their right to exist unapologetically. This ceremony is both a milestone and an acknowledgment of the barriers these students have overcome and the futures they are forging. The event will feature a keynote address\, entertainment\, and a reception\, bringing together students\, faculty\, families\, and community members in an atmosphere of joy\, solidarity\, and recognition. \nA Lavender graduate is anyone who is graduating from college and identifies as a member of the LGBTQIA+ community. If that applies to you\, you are encouraged to sign up to walk at Brooklyn College’s Lavender Graduation ceremony. \nGraduates Sign Up Here Audience Members RSVP
URL:https://www.brooklyn.edu/event/lavender-graduation-3/
LOCATION:Leonard & Claire Tow Center for the Performing Arts\, Lobby
CATEGORIES:Graduate,LGBTQ Resource Center,Undergraduate
ATTACH;FMTTYPE=image/jpeg:https://www.brooklyn.edu/wp-content/uploads/2025-Lavender-Graduation.jpg
ORGANIZER;CN="LGBTQ Resource Center":MAILTO:lgbtqcenter@brooklyn.cuny.edu
GEO:40.63184;-73.94892
END:VEVENT
BEGIN:VEVENT
DTSTART;TZID=America/New_York:20250501T123000
DTEND;TZID=America/New_York:20250501T143000
DTSTAMP:20260422T092016
CREATED:20250314T153123Z
LAST-MODIFIED:20250314T153123Z
UID:10012768-1746102600-1746109800@www.brooklyn.edu
SUMMARY:Asian and Pacific Islander Heritage Month Tea Ceremony
DESCRIPTION:Join us at Brooklyn College’s Annual Tea Ceremony and celebrate pan-Asian and Pacific Islander communities\, histories\, and cultures through performances and food! \nRSVP Today
URL:https://www.brooklyn.edu/event/asian-and-pacific-islander-heritage-month-tea-ceremony/
LOCATION:Leonard & Claire Tow Center for the Performing Arts\, Lobby
CATEGORIES:BCAP,Faculty,Graduate,Staff,Undergraduate
ATTACH;FMTTYPE=image/jpeg:https://www.brooklyn.edu/wp-content/uploads/2025-Tea-Ceremony.jpg
GEO:40.63184;-73.94892
END:VEVENT
BEGIN:VEVENT
DTSTART;TZID=America/New_York:20250424T180000
DTEND;TZID=America/New_York:20250424T220000
DTSTAMP:20260422T092016
CREATED:20250131T160910Z
LAST-MODIFIED:20250320T135601Z
UID:10012631-1745517600-1745532000@www.brooklyn.edu
SUMMARY:Brooklyn College Alumni Association Honors
DESCRIPTION:The annual presentation of awards by the Brooklyn College Alumni Association to the Alumni of the Year and other distinguished alumni. \nRSVP Now
URL:https://www.brooklyn.edu/event/brooklyn-college-alumni-association-honors/
LOCATION:Leonard & Claire Tow Center for the Performing Arts\, Lobby
CATEGORIES:Alumni,Alumni Engagement,BCAA
ORGANIZER;CN="Alumni Engagement":MAILTO:alumni@brooklyn.cuny.edu
GEO:40.63184;-73.94892
END:VEVENT
END:VCALENDAR