BEGIN:VCALENDAR
VERSION:2.0
PRODID:-//Brooklyn College - ECPv6.15.12.2//NONSGML v1.0//EN
CALSCALE:GREGORIAN
METHOD:PUBLISH
X-WR-CALNAME:Brooklyn College
X-ORIGINAL-URL:https://www.brooklyn.edu
X-WR-CALDESC:Events for Brooklyn College
REFRESH-INTERVAL;VALUE=DURATION:PT1H
X-Robots-Tag:noindex
X-PUBLISHED-TTL:PT1H
BEGIN:VTIMEZONE
TZID:America/New_York
BEGIN:DAYLIGHT
TZOFFSETFROM:-0500
TZOFFSETTO:-0400
TZNAME:EDT
DTSTART:20250309T070000
END:DAYLIGHT
BEGIN:STANDARD
TZOFFSETFROM:-0400
TZOFFSETTO:-0500
TZNAME:EST
DTSTART:20251102T060000
END:STANDARD
BEGIN:DAYLIGHT
TZOFFSETFROM:-0500
TZOFFSETTO:-0400
TZNAME:EDT
DTSTART:20260308T070000
END:DAYLIGHT
BEGIN:STANDARD
TZOFFSETFROM:-0400
TZOFFSETTO:-0500
TZNAME:EST
DTSTART:20261101T060000
END:STANDARD
BEGIN:DAYLIGHT
TZOFFSETFROM:-0500
TZOFFSETTO:-0400
TZNAME:EDT
DTSTART:20270314T070000
END:DAYLIGHT
BEGIN:STANDARD
TZOFFSETFROM:-0400
TZOFFSETTO:-0500
TZNAME:EST
DTSTART:20271107T060000
END:STANDARD
END:VTIMEZONE
BEGIN:VEVENT
DTSTART;TZID=America/New_York:20260430T150000
DTEND;TZID=America/New_York:20260430T200000
DTSTAMP:20260422T074516
CREATED:20260406T131453Z
LAST-MODIFIED:20260406T131453Z
UID:10014335-1777561200-1777579200@www.brooklyn.edu
SUMMARY:2nd Annual CUNY-Wide Vogue Ball: Tailoring Black Style
DESCRIPTION:The Brooklyn College LGBTA and the LGBTQ+ Resource Center will be hosting our 2nd Annual CUNY-Wide Vogue Ball. This year’s theme will be “Dandyism: Tailoring Black Style\,” inspired by the 2025 Met Gala and exhibit titled “Superfine: Tailoring Black Style.” \nThe Vogue Ball\, 5–8 p.m.\, will feature several categories for participants to dip\, twirl\, spin\, and show off your best face. Judges will determine who will take home the prizes! Food will be served. Beginner-friendly categories include Face\, Runway\, Performance\, Realness\, and Fashion. \nPrior to the ball\, from 3 to 5 p.m.\, there will be a resource fair with internal partners and external organizations. Come learn about different services provided by Brooklyn College and community organizations. \nThe “ballroom scene” is a vibrant subculture within the LGBTQ+ community\, born in the underground New York City scene. Historically\, these spaces served as safe havens for LGBTQ+ people of color. Through extravagant performances and fashion\, LGBTQ+ people challenged societal norms on gender and sexuality through fashion and gender expression. \nThe ball is for CUNY students\, staff\, and faculty only\, and a reservation is required\, as space is limited. RSVP does not guarantee entry after 6:30 p.m.
URL:https://www.brooklyn.edu/event/2nd-annual-cuny-wide-vogue-ball-tailoring-black-style/
LOCATION:Leonard & Claire Tow Center for the Performing Arts\, Lobby
CATEGORIES:LGBTA,LGBTQ Resource Center
ORGANIZER;CN="LGBTQ Resource Center":MAILTO:lgbtqcenter@brooklyn.cuny.edu
GEO:40.63184;-73.94892
END:VEVENT
BEGIN:VEVENT
DTSTART;TZID=America/New_York:20260505T123000
DTEND;TZID=America/New_York:20260505T143000
DTSTAMP:20260422T074516
CREATED:20260305T153555Z
LAST-MODIFIED:20260305T153555Z
UID:10014266-1777984200-1777991400@www.brooklyn.edu
SUMMARY:Asian and Pacific Islander Heritage Month Tea Ceremony
DESCRIPTION:Join the Brooklyn College AANAPISI Project (BCAP) during Asian and Pacific Islander Heritage Month at our annual Tea Ceremony and celebrate pan-Asian and Pacific Islander communities\, histories\, and cultures through performances and food.
URL:https://www.brooklyn.edu/event/asian-and-pacific-islander-heritage-month-tea-ceremony-2/
LOCATION:Leonard & Claire Tow Center for the Performing Arts\, Lobby
CATEGORIES:BCAP
GEO:40.63184;-73.94892
END:VEVENT
BEGIN:VEVENT
DTSTART;TZID=America/New_York:20260511T121500
DTEND;TZID=America/New_York:20260511T143000
DTSTAMP:20260422T074516
CREATED:20260120T202704Z
LAST-MODIFIED:20260120T202704Z
UID:10014122-1778501700-1778509800@www.brooklyn.edu
SUMMARY:SEEK Day: Celebrating 60 Years of Education\, Elevation\, and Knowledge
DESCRIPTION:Recognized by the Office of the Brooklyn Borough President\, SEEK Day signifies the longstanding influence of the Brooklyn College SEEK Program. This event will recognize the various members of the SEEK community who have contributed to the success of the program. Join us for an event filled with joy\, fun\, and celebration as we acknowledge our history\, celebrate the present\, and look to the future of a program that has been an agent for change in the lives of thousands of people.
URL:https://www.brooklyn.edu/event/seek-day-celebrating-60-years-of-education-elevation-and-knowledge/
LOCATION:Leonard & Claire Tow Center for the Performing Arts\, Lobby
CATEGORIES:Percy Ellis Sutton SEEK Program
ORGANIZER;CN="Percy Ellis Sutton SEEK Program":MAILTO:seek@brooklyn.cuny.edu
GEO:40.63184;-73.94892
END:VEVENT
END:VCALENDAR