BEGIN:VCALENDAR
VERSION:2.0
PRODID:-//Brooklyn College - ECPv6.15.12.2//NONSGML v1.0//EN
CALSCALE:GREGORIAN
METHOD:PUBLISH
X-ORIGINAL-URL:https://www.brooklyn.edu
X-WR-CALDESC:Events for Brooklyn College
REFRESH-INTERVAL;VALUE=DURATION:PT1H
X-Robots-Tag:noindex
X-PUBLISHED-TTL:PT1H
BEGIN:VTIMEZONE
TZID:America/New_York
BEGIN:DAYLIGHT
TZOFFSETFROM:-0500
TZOFFSETTO:-0400
TZNAME:EDT
DTSTART:20240310T070000
END:DAYLIGHT
BEGIN:STANDARD
TZOFFSETFROM:-0400
TZOFFSETTO:-0500
TZNAME:EST
DTSTART:20241103T060000
END:STANDARD
BEGIN:DAYLIGHT
TZOFFSETFROM:-0500
TZOFFSETTO:-0400
TZNAME:EDT
DTSTART:20250309T070000
END:DAYLIGHT
BEGIN:STANDARD
TZOFFSETFROM:-0400
TZOFFSETTO:-0500
TZNAME:EST
DTSTART:20251102T060000
END:STANDARD
BEGIN:DAYLIGHT
TZOFFSETFROM:-0500
TZOFFSETTO:-0400
TZNAME:EDT
DTSTART:20260308T070000
END:DAYLIGHT
BEGIN:STANDARD
TZOFFSETFROM:-0400
TZOFFSETTO:-0500
TZNAME:EST
DTSTART:20261101T060000
END:STANDARD
END:VTIMEZONE
BEGIN:VEVENT
DTSTART;TZID=America/New_York:20251118T123000
DTEND;TZID=America/New_York:20251118T134500
DTSTAMP:20260422T074227
CREATED:20250603T170012Z
LAST-MODIFIED:20250603T170012Z
UID:10012935-1763469000-1763473500@www.brooklyn.edu
SUMMARY:Optional Practical Training (OPT) Workshop
DESCRIPTION:Optional practical training (OPT) is temporary employment that is directly related to an F-1 student’s major area of study. \nThe Office of International Student and Scholar Services is hosting a workshop in person in the Library (Room 242) and concurrently on Zoom to answer your questions about OPT. \nRegister Now
URL:https://www.brooklyn.edu/event/optional-practical-training-opt-workshop-8/
LOCATION:Library\, Room 242\, Group Viewing Room
CATEGORIES:Admissions, International,International Student and Scholar Services
ORGANIZER;CN="International Student and Scholar Services":MAILTO:international@brooklyn.cuny.edu
GEO:40.63136;-73.94986
X-APPLE-STRUCTURED-LOCATION;VALUE=URI;X-ADDRESS=Library Room 242 Group Viewing Room;X-APPLE-RADIUS=500;X-TITLE=Group Viewing Room:geo:-73.94986,40.63136
END:VEVENT
BEGIN:VEVENT
DTSTART;TZID=America/New_York:20251028T123000
DTEND;TZID=America/New_York:20251028T134500
DTSTAMP:20260422T074227
CREATED:20250602T141909Z
LAST-MODIFIED:20250602T141909Z
UID:10012932-1761654600-1761659100@www.brooklyn.edu
SUMMARY:Optional Practical Training (OPT) Workshop
DESCRIPTION:Optional practical training (OPT) is temporary employment that is directly related to an F-1 student’s major area of study. \nThe Office of International Student and Scholar Services is hosting a workshop in person in the Library (Room 242) and concurrently on Zoom to answer your questions about OPT. \nRegister Now
URL:https://www.brooklyn.edu/event/optional-practical-training-opt-workshop-7/
LOCATION:Library\, Room 242\, Group Viewing Room
CATEGORIES:Admissions, International,International Student and Scholar Services
ORGANIZER;CN="International Student and Scholar Services":MAILTO:international@brooklyn.cuny.edu
GEO:40.63136;-73.94986
X-APPLE-STRUCTURED-LOCATION;VALUE=URI;X-ADDRESS=Library Room 242 Group Viewing Room;X-APPLE-RADIUS=500;X-TITLE=Group Viewing Room:geo:-73.94986,40.63136
END:VEVENT
BEGIN:VEVENT
DTSTART;TZID=America/New_York:20251007T123000
DTEND;TZID=America/New_York:20251007T134500
DTSTAMP:20260422T074227
CREATED:20250602T142620Z
LAST-MODIFIED:20250602T142620Z
UID:10012934-1759840200-1759844700@www.brooklyn.edu
SUMMARY:Curricular Practical Training (CPT) Workshop
DESCRIPTION:Curricular Practical Training (CPT) is a type of work permission that allows F-1 international students in the United States to gain relevant experience while studying. \nThe Office of International Student and Scholar Services is hosting a workshop in person in the Library (Room 242) and concurrently on Zoom to answer your questions about CPT. \nRegister Now
URL:https://www.brooklyn.edu/event/curricular-practical-training-cpt-workshop/
LOCATION:Library\, Room 242\, Group Viewing Room
CATEGORIES:Admissions, International,International Student and Scholar Services
ORGANIZER;CN="International Student and Scholar Services":MAILTO:international@brooklyn.cuny.edu
GEO:40.63136;-73.94986
X-APPLE-STRUCTURED-LOCATION;VALUE=URI;X-ADDRESS=Library Room 242 Group Viewing Room;X-APPLE-RADIUS=500;X-TITLE=Group Viewing Room:geo:-73.94986,40.63136
END:VEVENT
BEGIN:VEVENT
DTSTART;TZID=America/New_York:20250930T123000
DTEND;TZID=America/New_York:20250930T134500
DTSTAMP:20260422T074227
CREATED:20250602T141358Z
LAST-MODIFIED:20250602T141358Z
UID:10012931-1759235400-1759239900@www.brooklyn.edu
SUMMARY:Optional Practical Training (OPT) Workshop
DESCRIPTION:Optional practical training (OPT) is temporary employment that is directly related to an F-1 student’s major area of study. \nThe Office of International Student and Scholar Services is hosting a workshop in person in the Library (Room 242) and concurrently on Zoom to answer your questions about OPT. \nRegister Now
URL:https://www.brooklyn.edu/event/optional-practical-training-opt-workshop-6/
LOCATION:Library\, Room 242\, Group Viewing Room
CATEGORIES:Admissions, International,International Student and Scholar Services
ORGANIZER;CN="International Student and Scholar Services":MAILTO:international@brooklyn.cuny.edu
GEO:40.63136;-73.94986
X-APPLE-STRUCTURED-LOCATION;VALUE=URI;X-ADDRESS=Library Room 242 Group Viewing Room;X-APPLE-RADIUS=500;X-TITLE=Group Viewing Room:geo:-73.94986,40.63136
END:VEVENT
BEGIN:VEVENT
DTSTART;TZID=America/New_York:20250429T123000
DTEND;TZID=America/New_York:20250429T133000
DTSTAMP:20260422T074227
CREATED:20240708T181549Z
LAST-MODIFIED:20240708T181549Z
UID:10009759-1745929800-1745933400@www.brooklyn.edu
SUMMARY:Optional Practical Training (OPT) Workshop
DESCRIPTION:Optional practical training (OPT) is temporary employment that is directly related to an F-1 student’s major area of study. \nThe Office of International Student and Scholar Services is hosting a workshop in person in the Library (Room 242) and concurrently on Zoom to answer your questions about OPT. \nRegister Now
URL:https://www.brooklyn.edu/event/optional-practical-training-opt-workshop-5/
LOCATION:Library\, Room 242\, Group Viewing Room
CATEGORIES:Admissions, International,International Student and Scholar Services
ORGANIZER;CN="International Student and Scholar Services":MAILTO:international@brooklyn.cuny.edu
GEO:40.63136;-73.94986
X-APPLE-STRUCTURED-LOCATION;VALUE=URI;X-ADDRESS=Library Room 242 Group Viewing Room;X-APPLE-RADIUS=500;X-TITLE=Group Viewing Room:geo:-73.94986,40.63136
END:VEVENT
END:VCALENDAR