BEGIN:VCALENDAR
VERSION:2.0
PRODID:-//Brooklyn College - ECPv6.15.12.2//NONSGML v1.0//EN
CALSCALE:GREGORIAN
METHOD:PUBLISH
X-ORIGINAL-URL:https://www.brooklyn.edu
X-WR-CALDESC:Events for Brooklyn College
REFRESH-INTERVAL;VALUE=DURATION:PT1H
X-Robots-Tag:noindex
X-PUBLISHED-TTL:PT1H
BEGIN:VTIMEZONE
TZID:America/New_York
BEGIN:DAYLIGHT
TZOFFSETFROM:-0500
TZOFFSETTO:-0400
TZNAME:EDT
DTSTART:20250309T070000
END:DAYLIGHT
BEGIN:STANDARD
TZOFFSETFROM:-0400
TZOFFSETTO:-0500
TZNAME:EST
DTSTART:20251102T060000
END:STANDARD
BEGIN:DAYLIGHT
TZOFFSETFROM:-0500
TZOFFSETTO:-0400
TZNAME:EDT
DTSTART:20260308T070000
END:DAYLIGHT
BEGIN:STANDARD
TZOFFSETFROM:-0400
TZOFFSETTO:-0500
TZNAME:EST
DTSTART:20261101T060000
END:STANDARD
BEGIN:DAYLIGHT
TZOFFSETFROM:-0500
TZOFFSETTO:-0400
TZNAME:EDT
DTSTART:20270314T070000
END:DAYLIGHT
BEGIN:STANDARD
TZOFFSETFROM:-0400
TZOFFSETTO:-0500
TZNAME:EST
DTSTART:20271107T060000
END:STANDARD
END:VTIMEZONE
BEGIN:VEVENT
DTSTART;TZID=America/New_York:20260418T133500
DTEND;TZID=America/New_York:20260418T160000
DTSTAMP:20260421T090747
CREATED:20260302T193507Z
LAST-MODIFIED:20260414T194313Z
UID:10014257-1776519300-1776528000@www.brooklyn.edu
SUMMARY:Brooklyn College Alumni Day at Yankee Stadium
DESCRIPTION:Grab your Brooklyn College pride and your cheers—it’s time for Alumni Day at Yankee Stadium! Join your fellow alumni as the New York Yankees take on the Kansas City Royals. \nBring your family and friends for a day that everyone will enjoy. Come for the baseball; stay for the camaraderie. (We regret that the co-branded Yankees cap is no longer available.)
URL:https://www.brooklyn.edu/event/brooklyn-college-alumni-day-at-yankee-stadium-2/
LOCATION:Off Campus\, 370 Jay Street\, Brooklyn\, NY
CATEGORIES:Alumni,Alumni Engagement
ORGANIZER;CN="Alumni Engagement":MAILTO:alumni@brooklyn.cuny.edu
END:VEVENT
END:VCALENDAR