BEGIN:VCALENDAR
VERSION:2.0
PRODID:-//Brooklyn College - ECPv6.15.12.2//NONSGML v1.0//EN
CALSCALE:GREGORIAN
METHOD:PUBLISH
X-WR-CALNAME:Brooklyn College
X-ORIGINAL-URL:https://www.brooklyn.edu
X-WR-CALDESC:Events for Brooklyn College
REFRESH-INTERVAL;VALUE=DURATION:PT1H
X-Robots-Tag:noindex
X-PUBLISHED-TTL:PT1H
BEGIN:VTIMEZONE
TZID:America/New_York
BEGIN:DAYLIGHT
TZOFFSETFROM:-0500
TZOFFSETTO:-0400
TZNAME:EDT
DTSTART:20240310T070000
END:DAYLIGHT
BEGIN:STANDARD
TZOFFSETFROM:-0400
TZOFFSETTO:-0500
TZNAME:EST
DTSTART:20241103T060000
END:STANDARD
BEGIN:DAYLIGHT
TZOFFSETFROM:-0500
TZOFFSETTO:-0400
TZNAME:EDT
DTSTART:20250309T070000
END:DAYLIGHT
BEGIN:STANDARD
TZOFFSETFROM:-0400
TZOFFSETTO:-0500
TZNAME:EST
DTSTART:20251102T060000
END:STANDARD
BEGIN:DAYLIGHT
TZOFFSETFROM:-0500
TZOFFSETTO:-0400
TZNAME:EDT
DTSTART:20260308T070000
END:DAYLIGHT
BEGIN:STANDARD
TZOFFSETFROM:-0400
TZOFFSETTO:-0500
TZNAME:EST
DTSTART:20261101T060000
END:STANDARD
END:VTIMEZONE
BEGIN:VEVENT
DTSTART;TZID=America/New_York:20251020T183000
DTEND;TZID=America/New_York:20251020T200000
DTSTAMP:20260422T084426
CREATED:20251003T215207Z
LAST-MODIFIED:20251003T215856Z
UID:10013399-1760985000-1760990400@www.brooklyn.edu
SUMMARY:Deciding Brooklyn’s Future: A Community Forum with Elected Officials
DESCRIPTION:Join us at Brooklyn College on Monday\, October 20\, for a conversation with local leaders and elected officials to discuss Brooklyn Borough’s most pressing challenges and opportunities impacting affordability\, climate\, maternal health\, youth\, and education. Brooklyn College Professor Gregory Smithsimon\, Director of the Center for the Study of Brooklyn\, will co-moderate with Brooklyn Org’s President and CEO Dr. Jocelynne Rainey. \nMore information and registration link here: https://brooklyn.org/event/deciding-brooklyns-future-brooklyn-org-community-forum-brooklyn-college/ \nDate\, time: October 20\, 6:30-8 p.m. (doors open at 6 p.m.) \nLocation: Skurnick Center Room 148\, Ingersoll Hall\, Brooklyn College
URL:https://www.brooklyn.edu/event/deciding-brooklyns-future-a-community-forum-with-elected-officials/
LOCATION:Skurnick Center Room 148
END:VEVENT
END:VCALENDAR