BEGIN:VCALENDAR
VERSION:2.0
PRODID:-//Brooklyn College - ECPv6.15.12.2//NONSGML v1.0//EN
CALSCALE:GREGORIAN
METHOD:PUBLISH
X-WR-CALNAME:Brooklyn College
X-ORIGINAL-URL:https://www.brooklyn.edu
X-WR-CALDESC:Events for Brooklyn College
REFRESH-INTERVAL;VALUE=DURATION:PT1H
X-Robots-Tag:noindex
X-PUBLISHED-TTL:PT1H
BEGIN:VTIMEZONE
TZID:America/New_York
BEGIN:DAYLIGHT
TZOFFSETFROM:-0500
TZOFFSETTO:-0400
TZNAME:EDT
DTSTART:20240310T070000
END:DAYLIGHT
BEGIN:STANDARD
TZOFFSETFROM:-0400
TZOFFSETTO:-0500
TZNAME:EST
DTSTART:20241103T060000
END:STANDARD
BEGIN:DAYLIGHT
TZOFFSETFROM:-0500
TZOFFSETTO:-0400
TZNAME:EDT
DTSTART:20250309T070000
END:DAYLIGHT
BEGIN:STANDARD
TZOFFSETFROM:-0400
TZOFFSETTO:-0500
TZNAME:EST
DTSTART:20251102T060000
END:STANDARD
BEGIN:DAYLIGHT
TZOFFSETFROM:-0500
TZOFFSETTO:-0400
TZNAME:EDT
DTSTART:20260308T070000
END:DAYLIGHT
BEGIN:STANDARD
TZOFFSETFROM:-0400
TZOFFSETTO:-0500
TZNAME:EST
DTSTART:20261101T060000
END:STANDARD
END:VTIMEZONE
BEGIN:VEVENT
DTSTART;TZID=America/New_York:20251106T093000
DTEND;TZID=America/New_York:20251106T173000
DTSTAMP:20260422T030741
CREATED:20251023T195455Z
LAST-MODIFIED:20251023T200524Z
UID:10013963-1762421400-1762450200@www.brooklyn.edu
SUMMARY:Encuentro: The Possible Dream from Puerto Rican & Latinx Studies
DESCRIPTION:The Possible Dream is the Puerto Rican & Latinx Studies Department’s biggest event of the year! \nEncuentro is a day-long event filled with panels\, an exhibit of archives\, a salsa lesson\, a catered lunch\, and dance party! \nFeaturing our keynote speaker\, CUNY Professor and author of The Young Lords: A Radical History\, Dr. Johanna Fernandez\, it will be a day to reflect in community\, on all the work those before us have done\, all that they have accomplished\, and how we can follow in their footsteps. \nSee this flyer for more details. \n 
URL:https://www.brooklyn.edu/event/encuentro-the-possible-dream-from-puerto-rican-latinx-studies/
LOCATION:Student Center\, Room 203\, Amersfort Room
ORGANIZER;CN="Puerto Rican and Latino Studies":MAILTO:prls@brooklyn.cuny.edu
GEO:40.63265;-73.95045
END:VEVENT
END:VCALENDAR