BEGIN:VCALENDAR
VERSION:2.0
PRODID:-//Brooklyn College - ECPv6.15.12.2//NONSGML v1.0//EN
CALSCALE:GREGORIAN
METHOD:PUBLISH
X-WR-CALNAME:Brooklyn College
X-ORIGINAL-URL:https://www.brooklyn.edu
X-WR-CALDESC:Events for Brooklyn College
REFRESH-INTERVAL;VALUE=DURATION:PT1H
X-Robots-Tag:noindex
X-PUBLISHED-TTL:PT1H
BEGIN:VTIMEZONE
TZID:America/New_York
BEGIN:DAYLIGHT
TZOFFSETFROM:-0500
TZOFFSETTO:-0400
TZNAME:EDT
DTSTART:20240310T070000
END:DAYLIGHT
BEGIN:STANDARD
TZOFFSETFROM:-0400
TZOFFSETTO:-0500
TZNAME:EST
DTSTART:20241103T060000
END:STANDARD
BEGIN:DAYLIGHT
TZOFFSETFROM:-0500
TZOFFSETTO:-0400
TZNAME:EDT
DTSTART:20250309T070000
END:DAYLIGHT
BEGIN:STANDARD
TZOFFSETFROM:-0400
TZOFFSETTO:-0500
TZNAME:EST
DTSTART:20251102T060000
END:STANDARD
BEGIN:DAYLIGHT
TZOFFSETFROM:-0500
TZOFFSETTO:-0400
TZNAME:EDT
DTSTART:20260308T070000
END:DAYLIGHT
BEGIN:STANDARD
TZOFFSETFROM:-0400
TZOFFSETTO:-0500
TZNAME:EST
DTSTART:20261101T060000
END:STANDARD
END:VTIMEZONE
BEGIN:VEVENT
DTSTART;TZID=America/New_York:20251202T120000
DTEND;TZID=America/New_York:20251202T140000
DTSTAMP:20260422T030724
CREATED:20251125T213705Z
LAST-MODIFIED:20251125T213705Z
UID:10014024-1764676800-1764684000@www.brooklyn.edu
SUMMARY:Major Fair
DESCRIPTION:Explore a wide range of majors\, programs\, and minors. Meet faculty to discuss courses\, requirements\, and future career paths. Declare most majors on the spot. Light refreshments will be served.
URL:https://www.brooklyn.edu/event/major-fair/
LOCATION:Student Center\, 2nd Floor
CATEGORIES:Center for Academic Advisement and Student Success,Undergraduate
ORGANIZER;CN="Center for Academic Advisement and Student Succes":MAILTO:caass@brooklyn.cuny.edu
GEO:40.63265;-73.95045
END:VEVENT
BEGIN:VEVENT
DTSTART;TZID=America/New_York:20250529T093000
DTEND;TZID=America/New_York:20250529T163000
DTSTAMP:20260422T030724
CREATED:20250415T183006Z
LAST-MODIFIED:20250415T183141Z
UID:10012828-1748511000-1748536200@www.brooklyn.edu
SUMMARY:Survival of the Fittest: Postgrad Career Bootcamp
DESCRIPTION:This is a must-attend event for Brooklyn College graduates from 2024 and 2025 who need to enhance their job-hunting skills for the competitive job market. Guests will learn how to go from good to great on résumé and cover letter creation\, networking\, and interviewing\, following the formula to get more interviews from job postings and leads within their network. A mini job fair will end this day of prep. \nRegister Today
URL:https://www.brooklyn.edu/event/survival-of-the-fittest-postgrad-career-bootcamp/
LOCATION:Student Center\, 2nd Floor
CATEGORIES:Alumni,Magner Career Center
ORGANIZER;CN="Magner Career Center":MAILTO:careernews@brooklyn.cuny.edu
GEO:40.63265;-73.95045
END:VEVENT
END:VCALENDAR