BEGIN:VCALENDAR
VERSION:2.0
PRODID:-//Brooklyn College - ECPv6.15.12.2//NONSGML v1.0//EN
CALSCALE:GREGORIAN
METHOD:PUBLISH
X-WR-CALNAME:Brooklyn College
X-ORIGINAL-URL:https://www.brooklyn.edu
X-WR-CALDESC:Events for Brooklyn College
REFRESH-INTERVAL;VALUE=DURATION:PT1H
X-Robots-Tag:noindex
X-PUBLISHED-TTL:PT1H
BEGIN:VTIMEZONE
TZID:America/New_York
BEGIN:DAYLIGHT
TZOFFSETFROM:-0500
TZOFFSETTO:-0400
TZNAME:EDT
DTSTART:20250309T070000
END:DAYLIGHT
BEGIN:STANDARD
TZOFFSETFROM:-0400
TZOFFSETTO:-0500
TZNAME:EST
DTSTART:20251102T060000
END:STANDARD
BEGIN:DAYLIGHT
TZOFFSETFROM:-0500
TZOFFSETTO:-0400
TZNAME:EDT
DTSTART:20260308T070000
END:DAYLIGHT
BEGIN:STANDARD
TZOFFSETFROM:-0400
TZOFFSETTO:-0500
TZNAME:EST
DTSTART:20261101T060000
END:STANDARD
BEGIN:DAYLIGHT
TZOFFSETFROM:-0500
TZOFFSETTO:-0400
TZNAME:EDT
DTSTART:20270314T070000
END:DAYLIGHT
BEGIN:STANDARD
TZOFFSETFROM:-0400
TZOFFSETTO:-0500
TZNAME:EST
DTSTART:20271107T060000
END:STANDARD
END:VTIMEZONE
BEGIN:VEVENT
DTSTART;TZID=America/New_York:20260424T081500
DTEND;TZID=America/New_York:20260424T163000
DTSTAMP:20260421T184414
CREATED:20250310T182835Z
LAST-MODIFIED:20260401T160618Z
UID:10012758-1777018500-1777048200@www.brooklyn.edu
SUMMARY:Perinatal Mental Health Summit 2026
DESCRIPTION:Join us in Brooklyn for a transformative event dedicated to maternal and reproductive mental health\, featuring leading experts\, thought-provoking discussions\, and invaluable networking opportunities. This event will bring together clinicians\, advocates\, and community leaders to explore pressing issues in maternal well-being\, mental health equity\, and holistic care. This year’s summit will be preceded by a Presidential Lecture Series event. \nMore information here.
URL:https://www.brooklyn.edu/event/perinatal-mental-health-summit-2026/
LOCATION:The Greg Jackson Center for Brownsville  519 Rockaway Avenue Brooklyn\, NY 11212
CATEGORIES:Alumni,Early Childhood Education/Art Education,Faculty,Graduate,President,Research,School of Education,School of Natural and Behavioral Sciences,Undergraduate
ATTACH;FMTTYPE=image/jpeg:https://www.brooklyn.edu/wp-content/uploads/BC-Mag-12.2-PMH-1200X628-2.jpg
ORGANIZER;CN="Office of the President":MAILTO:bcpresident@brooklyn.cuny.edu
END:VEVENT
END:VCALENDAR